BEGIN:VCALENDAR
VERSION:2.0
PRODID:-//Litseen - ECPv6.15.11//NONSGML v1.0//EN
CALSCALE:GREGORIAN
METHOD:PUBLISH
X-ORIGINAL-URL:https://litseen.com
X-WR-CALDESC:Events for Litseen
REFRESH-INTERVAL;VALUE=DURATION:PT1H
X-Robots-Tag:noindex
X-PUBLISHED-TTL:PT1H
BEGIN:VTIMEZONE
TZID:America/Los_Angeles
BEGIN:DAYLIGHT
TZOFFSETFROM:-0800
TZOFFSETTO:-0700
TZNAME:PDT
DTSTART:20190310T100000
END:DAYLIGHT
BEGIN:STANDARD
TZOFFSETFROM:-0700
TZOFFSETTO:-0800
TZNAME:PST
DTSTART:20191103T090000
END:STANDARD
BEGIN:DAYLIGHT
TZOFFSETFROM:-0800
TZOFFSETTO:-0700
TZNAME:PDT
DTSTART:20200308T100000
END:DAYLIGHT
BEGIN:STANDARD
TZOFFSETFROM:-0700
TZOFFSETTO:-0800
TZNAME:PST
DTSTART:20201101T090000
END:STANDARD
BEGIN:DAYLIGHT
TZOFFSETFROM:-0800
TZOFFSETTO:-0700
TZNAME:PDT
DTSTART:20210314T100000
END:DAYLIGHT
BEGIN:STANDARD
TZOFFSETFROM:-0700
TZOFFSETTO:-0800
TZNAME:PST
DTSTART:20211107T090000
END:STANDARD
END:VTIMEZONE
BEGIN:VEVENT
DTSTART;TZID=America/Los_Angeles:20200422T143000
DTEND;TZID=America/Los_Angeles:20200422T153000
DTSTAMP:20260425T183659
CREATED:20200221T010753Z
LAST-MODIFIED:20200221T010753Z
UID:55993-1587565800-1587569400@litseen.com
SUMMARY:Afternoon Craft Conversation with Chris Feliciano Arnold
DESCRIPTION:DATE & TIME:\n\nWednesday\, April 22\, 2020 – 2:30 p.m. to 3:30 p.m. \n\n\n\n\n\n\nLOCATION: \nDe La Salle Hall: Hagerty Lounge\, 1928 St. Marys Road\, Moraga\, CA 94575\nView a map and get directions.\n\n\n\nDESCRIPTION:\n\n\nChris Feliciano Arnold will explore how creative nonfiction can blend genres and forms in mysterious\, illuminating ways. To begin\, we will discuss brief samples from a few daring books\, focusing on intersections of memoir\, lyric essay\, journalism\, history\, poetry\, criticism and more. From there\, through generative writing exercises and small group discussions\, students will deconstruct one of their own nonfiction ideas\, examining their subjects from a multitude of angles to discover new potential shapes that defy quick categorization. Our goal is for all students to leave with a heightened sense of possibility—and an energizing idea for a new piece.
URL:https://litseen.com/event/afternoon-craft-conversation-with-chris-feliciano-arnold/
LOCATION:De La Salle Hall: Hagerty Lounge\, 928 St. Marys Road\, Moraga\, CA\, 94575\, United States
CATEGORIES:East Bay,Free
ATTACH;FMTTYPE=image/png:https://litseen.com/wp-content/uploads/2020/02/image-75.png
ORGANIZER;CN="Saint Mary's MFA in Creative Writing":MAILTO:writers@stmarys-ca.edu
END:VEVENT
BEGIN:VEVENT
DTSTART;TZID=America/Los_Angeles:20200422T183000
DTEND;TZID=America/Los_Angeles:20200422T200000
DTSTAMP:20260425T183659
CREATED:20200126T011255Z
LAST-MODIFIED:20200126T011255Z
UID:55084-1587580200-1587585600@litseen.com
SUMMARY:Holloway Reading Series: Lynn Xu
DESCRIPTION:
URL:https://litseen.com/event/holloway-reading-series-lynn-xu/
LOCATION:Maude Fife Room\, UC Berkeley\, 2000 Carleston Street\, Berkeley\, CA\, 94720\, United States
CATEGORIES:East Bay,Free
ATTACH;FMTTYPE=image/png:https://litseen.com/wp-content/uploads/2020/01/Holloway-Spring-2020.png
END:VEVENT
BEGIN:VEVENT
DTSTART;TZID=America/Los_Angeles:20200422T193000
DTEND;TZID=America/Los_Angeles:20200422T210000
DTSTAMP:20260425T183659
CREATED:20200221T010912Z
LAST-MODIFIED:20200221T010912Z
UID:55997-1587583800-1587589200@litseen.com
SUMMARY:Creative Writing Reading Series with Cyrus Cassells
DESCRIPTION:DATE & TIME:\n\nWednesday\, April 22\, 2020 – 7:30 p.m. to 9 p.m. \n\n\n\n\n\n\nLOCATION: \nDe La Salle Hall: Hagerty Lounge\, 1928 St. Marys Road\, Moraga\, CA 94575\nView a map and get directions.\n\n\n\nDESCRIPTION:\n\n\nCyrus Cassells is the author of seven acclaimed books of poetry and two books translated from Catalan. Still Life with Children: Selected Poems of Francesc Parcerisas\, and To the Cypress Again and Again: Tribute to Salvador Espriu\, which is forthcoming in 2021. A 2019 Guggenheim fellow\, he also recieved a Lannon Literary Award\, two NEA grants\, and a Pushcart Prize.
URL:https://litseen.com/event/creative-writing-reading-series-with-cyrus-cassells/
LOCATION:De La Salle Hall: Hagerty Lounge\, 928 St. Marys Road\, Moraga\, CA\, 94575\, United States
CATEGORIES:East Bay,Free
ATTACH;FMTTYPE=image/png:https://litseen.com/wp-content/uploads/2020/02/image-74.png
ORGANIZER;CN="Saint Mary's MFA in Creative Writing":MAILTO:writers@stmarys-ca.edu
END:VEVENT
END:VCALENDAR