BEGIN:VCALENDAR
VERSION:2.0
PRODID:-//Litseen - ECPv6.15.11//NONSGML v1.0//EN
CALSCALE:GREGORIAN
METHOD:PUBLISH
X-WR-CALNAME:Litseen
X-ORIGINAL-URL:https://litseen.com
X-WR-CALDESC:Events for Litseen
REFRESH-INTERVAL;VALUE=DURATION:PT1H
X-Robots-Tag:noindex
X-PUBLISHED-TTL:PT1H
BEGIN:VTIMEZONE
TZID:UTC
BEGIN:STANDARD
TZOFFSETFROM:+0000
TZOFFSETTO:+0000
TZNAME:UTC
DTSTART:20150101T000000
END:STANDARD
END:VTIMEZONE
BEGIN:VEVENT
DTSTART;TZID=UTC:20160616T180000
DTEND;TZID=UTC:20160616T200000
DTSTAMP:20260420T052827
CREATED:20160528T022006Z
LAST-MODIFIED:20160528T022006Z
UID:22116-1466100000-1466107200@litseen.com
SUMMARY:ArtSpan Mixer: Art\, Readings\, & Reactions with Quiet Lightning + Modern Eden
DESCRIPTION:Join ArtSpan and Quiet Lightning at Modern Eden Gallery for the third annual Art\, Readings\, & Reactions event! This Artist Mixer invites writers from Quiet Lightning to view Modern Eden’s exhibition\, Portraits of Friends\, and to write from its inspiration. The writers then share their literary creations by reading to an audience equipped with sketch books to react with drawings…! \nAll are weclome to join! ArtSpan will provide sketch books and drawing materials. \nQuiet Lighting Guest Curator: Tess Taylor \nWriters/Readings: Keith Ekiss\, Katie Peterson\, Dean Rader\, Brynn Saito\, and Tess Taylor \nFeatured Modern Eden Art Exhibition: \nPortraits of Friends: The ever-popular annual portrait show – Nearly 50 top contemporary artists interpret this theme to create portraits of their friends\, fans\, and/or acquaintances. \nParticipant Biographies: \nKeith Ekiss is the author of Pima Road Notebook (New Issues Poetry & Prose\, 2010) and the translator of The Fire’s Journey\, an epic poem by the Costa Rican writer Eunice Odio forthcoming from Tavern Books in four volumes. Territory of Dawn: The Selected Poems of Eunice Odio is recently out from The Bitter Oleander Press. He is a former Wallace Stegner Fellow and a Jones Lecturer in Creative Writing at Stanford University where he teaches courses on poetry\, poetry and film\, fiction\, and the essay. \nKatie Peterson is the author of three books of poetry\, This One Tree\, Permission\, and The Accounts\, the winner of the 2014 Rilke Prize from the University of North Texas. She is back in her native California after years in Boston and lives in El Cerrito with her husband\, the photographer and filmmaker Young Suh\, with whom she collaborates. She teaches at the University of California at Davis. \nDean Rader’s debut collection of poems\, Works & Days\, won the 2010 T. S. Eliot Poetry Prize\, and Tess Taylor named his Landscape Portrait Figure Form one of the Best Books of Poetry of the year in The Barnes & Noble Review. He is also the editor of the 2014 anthology 99 Poems for the 99 Percent. Rader writes regularly for The Huffington Post and San Francisco Chronicle and is a professor of English at the University of San Francisco. Two collections of poetry are forthcoming\, including a book of collaborative sonnets written with Simone Muench\, entitled Suture (Black Lawrence Press) and Self-Portrait as Wikipedia Entry (Copper Canyon). \nBrynn Saito is the author of Power Made Us Swoon (Red Hen Press\, 2016) and The Palace of Contemplating Departure (Red Hen Press\, 2013)\, a finalist for the Northern California Book Award and winner of the Benjamin Saltman Poetry Award. Brynn is a recipient of the Kundiman Asian American Poetry Fellowship and winner of the Key West Literary Seminar’s Scotti Merrill Memorial Award. Originally from Fresno\, CA\, Brynn lives in Los Altos and teaches and works in San Francisco. \nTess Taylor is the author of The Forage House\, finalist for the Believer Poetry Award\, and Work & Days. An avid gardener and cook\, she dropped out of Amherst College in her twenties to become a translator and chef’s assistant at L’Ecole Ritz Escoffier in Paris. Her poems and essays have appeared widely in publications including The New Yorker\, The Academy of American Poets\, and The New York Times. She is currently the on air poetry reviewer for NPR’s “All Things Considered\,” and was most recently visiting professor of English and creative writing at Whittier College. She lives in El Cerrito\, CA. \nWith ice cold beer\, courtesy of Lagunitas! \nMore about the exhibition\, Portraits of Friends:http://www.moderneden.com/pages/portraits-of-friends \nPhotos + vids from previous ArtSpan + Quiet Lightning mixers:\n• 2015: litseen.com/quiet-lightning-superhero/\n• 2014: litseen.com/quiet-lightning-fairy-tales/ \nArtwork Image: Archer Dougherty\, Every Person Sees Themselves\, 2016\, Oil on wood\, 18 x 24 in.
URL:https://litseen.com/event/artspan-mixer-art-readings-reactions-with-quiet-lightning-modern-eden/
LOCATION:Modern Eden Gallery\, 801 Greenwich St\, San Francisco \, CA\, 94133\, United States
CATEGORIES:Free,San Francisco
ORGANIZER;CN="Quiet Lightning":MAILTO:evan AT quietlightning DOT org
END:VEVENT
BEGIN:VEVENT
DTSTART;TZID=UTC:20160616T180000
DTEND;TZID=UTC:20160616T200000
DTSTAMP:20260420T052827
CREATED:20160528T022128Z
LAST-MODIFIED:20160528T022128Z
UID:22120-1466100000-1466107200@litseen.com
SUMMARY:Flynn Berry: Under the Harrow
DESCRIPTION:When Nora takes the train from London to visit her sister in the countryside\, she expects to find her waiting at the station\, or at home cooking dinner. But when she walks into Rachel’s familiar house\, what she finds is entirely different: her sister has been the victim of a brutal murder. \nStunned and adrift\, Nora finds she can’t return to her former life. An unsolved assault in the past has shaken her faith in the police\, and she can’t trust them to find her sister’s killer. Haunted by the murder and the secrets she unravels\, she is under the harrow—distressed and in danger. As Nora’s fear turns to obsession\, she becomes as unrecognizable as the sister her investigation uncovers. \nA riveting psychological thriller and a haunting exploration of the fierce love between two sisters\, the distortions of grief\, and the terrifying power of the past\, Under the Harrow marks the debut of an extraordinary new writer. \nFlynn Berry is a graduate of the Michener Center for Writers\, and has been awarded a Yaddo residency. This is her first novel.
URL:https://litseen.com/event/flynn-berry-under-the-harrow/
LOCATION:Book Passage San Francisco\, 1 Ferry Building\, San Francisco\, CA\, 94111\, United States
CATEGORIES:Free,San Francisco
END:VEVENT
BEGIN:VEVENT
DTSTART;TZID=UTC:20160616T190000
DTEND;TZID=UTC:20160616T210000
DTSTAMP:20260420T052827
CREATED:20160602T021228Z
LAST-MODIFIED:20160602T021228Z
UID:22249-1466103600-1466110800@litseen.com
SUMMARY:Hybrid Series #3
DESCRIPTION:Candace Eros Diaz | Louise Mathias | The Bayonettes | Kamikaze Palm Tree \nCurated by Sara Mumolo\nhttp://www.proartsgallery.org/event/hybrid-series-3/ \nPro Arts Gallery is excited to announce the third of its Hybrid Series events—blurring the traditional boundaries between artistic disciplines. \nCandace Eros Diaz is the recipient of a 2015-2016 Steinbeck Fellowship out of The Steinbeck Fellows Program of San José State University. She is a former San Francisco Writer’s Grotto Fellow\, and will be a 2016 Lambda Literary Fellow this summer. She is the Coordinator of Admissions and Student Services for the MFA Program in Creative Writing at Saint Mary’s College of California. She is a recipient of a Vermont Studio Center residency and her work has appeared in MARY: A Journal of New Writing\, The East Bay Review\, and Huizache\, among others. She is currently at work on a historical creative nonfiction novel about her women ancestors. She lives in Oakland\, CA and can be found at www.candaceerosdiaz.com. \nLouise Mathias is the author of two books of poems\, Lark Apprentice\, which won the New Issues Poetry Prize\, and The Traps (Four Way Books)\, as well as a chapbook Above All Else\, the Trembling Resembles a Forest\, chosen by Martha Ronk for the Burnside Review Chapbook competition. Raised in England and Los Angeles\, for the last seven years she has lived in Joshua Tree\, California\, where she drives around the Mojave taking photos and writing poems about wildflowers\, desolation\, sex and trash. \nThe Bayonettes are a raw rock trio from the Bay Area. Check out their magic HERE: https://thebayonettes.bandcamp.com/ \nKamikaze Palm Tree is a two-person art experiment from Oakland. Check out their sound HERE: https://kamikazepalmtree.bandcamp.com/ \n*This event is made possible with matching grant by Poets & Writers\, Inc.\nBeverage sponsor: Ordinaire Wine
URL:https://litseen.com/event/hybrid-series-3/
LOCATION:Pro Arts Gallery\, 150 Frank H Ogawa Plaza\, Oakland\, CA\, 94612\, United States
CATEGORIES:East Bay,Free
END:VEVENT
END:VCALENDAR