BEGIN:VCALENDAR
VERSION:2.0
PRODID:-//Litseen - ECPv6.15.11//NONSGML v1.0//EN
CALSCALE:GREGORIAN
METHOD:PUBLISH
X-WR-CALNAME:Litseen
X-ORIGINAL-URL:https://litseen.com
X-WR-CALDESC:Events for Litseen
REFRESH-INTERVAL;VALUE=DURATION:PT1H
X-Robots-Tag:noindex
X-PUBLISHED-TTL:PT1H
BEGIN:VTIMEZONE
TZID:UTC
BEGIN:STANDARD
TZOFFSETFROM:+0000
TZOFFSETTO:+0000
TZNAME:UTC
DTSTART:20150101T000000
END:STANDARD
END:VTIMEZONE
BEGIN:VEVENT
DTSTART;TZID=UTC:20160620T183000
DTEND;TZID=UTC:20160620T203000
DTSTAMP:20260424T203129
CREATED:20160601T012319Z
LAST-MODIFIED:20160601T012319Z
UID:22183-1466447400-1466454600@litseen.com
SUMMARY:Reek bell + Jai Arun Ravine
DESCRIPTION:Come see Reek bell and Jai Arun Ravine at our June 20th Cantíl reading! Entry is FREE and open to the public. Donations welcome. Qilombo is wheelchair accessible. \nJai Arun Ravine is a writer\, dancer and graphic designer currently living in Philadelphia. As a mixed race\, mixed gender and mixed genre artist\, their work arises from the simultaneity of text and body and takes the form of video\, performance\, comics and handmade books. Jai’s first full-length book\, แล้ว AND THEN ENTWINE: LESSON PLANS\, POEMS\, KNOTS\, re-imagines immigration history and attempts to transform cultural inheritances of silence. Their short film TOM/TRANS/THAI approaches the silence around female-to-male (FTM) transgender identity in the Thai context and has screened internationally. THE ROMANCE OF SIAM (Timeless\, Infinite Light) is their second book. jaiarunravine.com \nReek bell is a queer mixed-media artist based in Oakland\, from South Jersey. Her work reflects experiences within blackness\, resistance\, friendship\, and exhaustion. A poet since third grade\, she embraces melancholy\, values intimacy\, magic\, and militancy. twitter.com/reekokay \nCantíl is a reading series that exclusively features poets of color. Read more about Cantíl\nhere: http://tinyurl.com/z4buglh + http://tinyurl.com/hdmtz4e
URL:https://litseen.com/event/reek-bell-jai-arun-ravine/
LOCATION:Qilombo\, 2313 San Pablo Ave\, Oakland \, CA\, 94612\, United States
CATEGORIES:East Bay,Free
END:VEVENT
END:VCALENDAR