BEGIN:VCALENDAR
VERSION:2.0
PRODID:-//Litseen - ECPv6.15.11//NONSGML v1.0//EN
CALSCALE:GREGORIAN
METHOD:PUBLISH
X-ORIGINAL-URL:https://litseen.com
X-WR-CALDESC:Events for Litseen
REFRESH-INTERVAL;VALUE=DURATION:PT1H
X-Robots-Tag:noindex
X-PUBLISHED-TTL:PT1H
BEGIN:VTIMEZONE
TZID:UTC
BEGIN:STANDARD
TZOFFSETFROM:+0000
TZOFFSETTO:+0000
TZNAME:UTC
DTSTART:20170101T000000
END:STANDARD
END:VTIMEZONE
BEGIN:VEVENT
DTSTART;TZID=UTC:20181228T190000
DTEND;TZID=UTC:20181228T210000
DTSTAMP:20260425T112255
CREATED:20181231T221324Z
LAST-MODIFIED:20181231T221324Z
UID:49043-1546023600-1546030800@litseen.com
SUMMARY:Book Launch for Jan Steckel's Like Flesh Covers Bone
DESCRIPTION:Oakland poet Jan Steckel will read from her new poetry book Like Flesh Covers Bone (Zeitgeist Press\, December 2018)\, followed by an open mic\, hosted by Jeanne Lupton. \n“These poems have come for blood. Honest and direct\, Jan writes often humorous\, always electrified poetry of great depth and courage. Take this journey!” James Cagney\, author of Black Steel Magnolias in the Hour of Chaos Theory (Nomadic Press\, 2018) \nJan Steckel is a former pediatrician who stopped practicing medicine because of chronic pain. Her latest poetry book is Like Flesh Covers Bone (Zeitgeist Press\, December 2018). Her poetry book The Horizontal Poet (Zeitgeist Press\, 2011) won a 2012 Lambda Literary Award. Her fiction chapbook Mixing Tracks (Gertrude Press\, 2009) and poetry chapbook The Underwater Hospital (Zeitgeist Press\, 2006) also won awards. Her fiction and poetry have appeared in Scholastic Magazine\, Bellevue Literary Review\, New Verse News\, November 3 Club\, Assaracus and elsewhere. Her work has been nominated three times for a Pushcart Prize.
URL:https://litseen.com/event/book-launch-for-jan-steckels-like-flesh-covers-bone/
LOCATION:Frank Bette Center for the Arts\, 1601 Paru Street\, Alameda\, 94501\, United States
CATEGORIES:East Bay,Free
ATTACH;FMTTYPE=image/jpeg:https://litseen.com/wp-content/uploads/2018/12/Front-Cover-Like-Flesh-Covers-Bone.jpg
ORGANIZER;CN="Jan Steckel":MAILTO:steckeljan@gmail.com
END:VEVENT
END:VCALENDAR