BEGIN:VCALENDAR
VERSION:2.0
PRODID:-//Litseen - ECPv6.15.11//NONSGML v1.0//EN
CALSCALE:GREGORIAN
METHOD:PUBLISH
X-ORIGINAL-URL:https://litseen.com
X-WR-CALDESC:Events for Litseen
REFRESH-INTERVAL;VALUE=DURATION:PT1H
X-Robots-Tag:noindex
X-PUBLISHED-TTL:PT1H
BEGIN:VTIMEZONE
TZID:UTC
BEGIN:STANDARD
TZOFFSETFROM:+0000
TZOFFSETTO:+0000
TZNAME:UTC
DTSTART:20180101T000000
END:STANDARD
END:VTIMEZONE
BEGIN:VEVENT
DTSTART;TZID=UTC:20190117T180000
DTEND;TZID=UTC:20190117T200000
DTSTAMP:20260419T143937
CREATED:20181130T040928Z
LAST-MODIFIED:20181130T040956Z
UID:48913-1547748000-1547755200@litseen.com
SUMMARY:Rachel Roy & Ava Dash: 96 Words for Love
DESCRIPTION:Rachel Roy & Ava Dash: 96 Words for Love\n\n\n\n\n\n01/17/2019 – 6:00pm\n\n\n\n\n\n\nFiction\n\n\n\n\nReading/Talk\n\n\n\n\n\n\n\n\n\nEver since her acceptance to UCLA\, 17-year-old Raya Liston has been quietly freaking out. She feels simultaneously lost and trapped by a future already mapped out for her. Then her beloved grandmother dies\, and Raya jumps at the chance to spend her last free summer at the ashram in India where her grandmother met and fell in love with her grandfather. Raya hopes to find her center and her true path. A modern retelling of the classic Indian legend of Shakuntala and Dushyanta\, 96 Words for Love is a coming-of-age story about finding yourself in unexpected places. \nRachel Roy is the daughter of an Indian immigrant father and Dutch mother. Rachel is the founder and creative director of her eponymous brand and a tireless activist for using your voice to cultivate change in the world and to design the life you wish to live. Ava Dash is the daughter of fashion designer Rachel Roy. Ava works with young adults that have aged out of the foster care system as well as former sex trafficked girls in India. Inspired from her travels with her mother\, Ava hopes to start a give back business that provides critical resources to educate and empower the girls she has met on her travels to India. \n\n\n\n\n\n\n\n\nBook Passage \n\n1 Ferry Building\nSan Francisco\, CA 94111
URL:https://litseen.com/event/rachel-roy-ava-dash-96-words-for-love/
LOCATION:Book Passage San Francisco\, 1 Ferry Building\, San Francisco\, CA\, 94111\, United States
CATEGORIES:Free,San Francisco
ATTACH;FMTTYPE=image/png:https://litseen.com/wp-content/uploads/2018/11/pw.png
END:VEVENT
BEGIN:VEVENT
DTSTART;TZID=UTC:20190117T190000
DTEND;TZID=UTC:20190117T210000
DTSTAMP:20260419T143937
CREATED:20181128T235000Z
LAST-MODIFIED:20181128T235000Z
UID:48781-1547751600-1547758800@litseen.com
SUMMARY:Book Launch with TONY PLATT at Books Inc. Berkeley
DESCRIPTION:Tony Platt\, Distinguished Affiliated Scholar at the Center for the Study of Law & Society\, UC Berkeley\, discusses his groundbreaking new work\, Beyond These Walls: Rethinking Crime and Punishment in the United States. \nBeyond These Walls is an ambitious and far-ranging exploration that tracks the legacy of crime and imprisonment in the United States\, from the historical roots of the American criminal justice system to our modern state of over-incarceration\, and offers a bold vision for a new future. Author Tony Platt\, a recognized authority in the field of criminal justice\, challenges the way we think about how and why millions of people are tracked\, arrested\, incarcerated\, catalogued\, and regulated in the United States. \nBeyond These Walls traces the disturbing history of punishment and social control\, revealing how the criminal justice system attempts to enforce and justify inequalities associated with class\, race\, gender\, and sexuality. Prisons and police departments are central to this process\, but other institutions – from immigration and welfare to educational and public health agencies – are equally complicit. \nPlatt argues that international and national politics shape perceptions of danger and determine the policies of local criminal justice agencies\, while private policing and global corporations are deeply and undemocratically involved in the business of homeland security. \nFinally\, Beyond These Walls demonstrates why efforts to reform criminal justice agencies have often expanded rather than contracted the net of social control. Drawing upon a long tradition of popular resistance\, Platt concludes with a strategic vision of what it will take to achieve justice for all in this era of authoritarian disorder. \n\n\n\n\nEvent date:\n\nThursday\, January 17\, 2019 – 7:00pm\n\n\n\nEvent address:\n\n\n\nBooks Inc.\n1491 Shattuck Ave\n\nBerkeley\, CA
URL:https://litseen.com/event/book-launch-with-tony-platt-at-books-inc-berkeley/
LOCATION:Books Inc. Berkeley\, 1491 Shattuck Ave\, Berkeley \, CA\, 94710\, United States
CATEGORIES:East Bay,Free
ATTACH;FMTTYPE=image/png:https://litseen.com/wp-content/uploads/2018/11/Tony-Platt-Books-Inc.-Berkeley.png
END:VEVENT
BEGIN:VEVENT
DTSTART;TZID=UTC:20190117T190000
DTEND;TZID=UTC:20190117T210000
DTSTAMP:20260419T143937
CREATED:20181128T235202Z
LAST-MODIFIED:20181128T235202Z
UID:48784-1547751600-1547758800@litseen.com
SUMMARY:AZATI SEHATTI at Books Inc. Mountain View
DESCRIPTION:Family nurse practitioner\, nutritional consultant and health educator Azati Sehatti discusses her critical guides The Inner Control Is the True Control: Making Lasting Lifestyle Changes and The Inner Control Is the True Control Workbook. \nThe Inner Control Is The True Control empowers you to make lasting lifestyle and behavioral changes. It embarks on this journey by helping you to cultivate principles and values that prompt positive internal dialogues and support mindfulness\, compassion\, and forgiveness. As you gain awareness\, cultivate self-compassion\, and learn to forgive and let go of resentments\, you become empowered to engage in responsible self-care. No longer behaving automatically\, you make better choices\, feel more in control of your lives\, and sustain your lifestyle changes during times of stress. \n\n\n\n\nEvent date:\n\nThursday\, January 17\, 2019 – 7:00pm\n\n\n\nEvent address:\n\n\n\nBooks Inc.\n317 Castro Street\n\nMountain View\, CA
URL:https://litseen.com/event/azati-sehatti-at-books-inc-mountain-view/
LOCATION:Books Inc. Mountain View\, 301 Castro St\, Mountain View \, CA\, 94041\, United States
CATEGORIES:Free,South Bay
ATTACH;FMTTYPE=image/png:https://litseen.com/wp-content/uploads/2018/11/Azita-Sehatti-Books-Inc-Mountain-View.png
END:VEVENT
BEGIN:VEVENT
DTSTART;TZID=UTC:20190117T190000
DTEND;TZID=UTC:20190117T210000
DTSTAMP:20260419T143937
CREATED:20181129T011139Z
LAST-MODIFIED:20181129T011139Z
UID:48826-1547751600-1547758800@litseen.com
SUMMARY:Zoé Samudzi in conversation w/ Joshua Sperling about his new book "A Writer of Our Time: The Life and Work of John Berger"
DESCRIPTION:Come celebrate writer Joshua Sperling’s new book\, A Writer of Our Time: The Life and Work of John Berger. We love John Berger here at Wolfman and we couldn’t be more excited about this book! Sperling “draws on first-hand\, unpublished interviews and archival sources only recently made available\, to dig beneath the moments of controversy to reveal a figure of remarkable complexity and resilience.” Yes\, please! Sign us up for that! Even better\, Joshua Sperling will be in conversation with one of our local faves and New Life Quarterly columnist\, Zoé Samudzi\, who is also a Berger enthusiast. \nThe two will be in conversation about how Joshua came to the book\, their different connections to Berger\, delineate some themes or dialectical tensions at the heart of the book and ask you how these are pertinent to each’s current work and activism\, including the processes of collaboration\, the role of self-questioning and doubt during transitional political moments\, the motive-force of love in activism\, working inside/outside of academia\, and so much more! \nCopies of A Writer of Our Time will be available. You don’t want to miss this! \nJoshua Sperling was born in New York City and grew up in California. His writing has appeared in the Brooklyn Rail\, Guernica\, Film Quarterly\, Jump Cut and Bullett Magazine\, among other publications. He received a PhD in Comparative Literature\, Film and Media from Yale University and currently teaches at Oberlin College. \nZoé Samudzi is a Sociology doctoral student at the University of California-San Francisco\, and writer and photographer. She is the co-author of As Black as Resistance (AK Press 2018). Her work seeks to merge political theory\, visual studies\, and critical approaches to science in service of a multidisciplinary means of articulating Blackness(es).
URL:https://litseen.com/event/zoe-samudzi-in-conversation-w-joshua-sperling-about-his-new-book-a-writer-of-our-time-the-life-and-work-of-john-berger/
LOCATION:E.M. Wolfman General Interest Small Bookstore\, 410 13th Street\, Oakland \, CA\, 94612\, United States
CATEGORIES:East Bay,Free
ATTACH;FMTTYPE=image/png:https://litseen.com/wp-content/uploads/2018/11/ScreenShot2018-11-08at6.23.30PM.png
END:VEVENT
BEGIN:VEVENT
DTSTART;TZID=UTC:20190117T190000
DTEND;TZID=UTC:20190117T210000
DTSTAMP:20260419T143937
CREATED:20181129T222351Z
LAST-MODIFIED:20181129T222351Z
UID:48886-1547751600-1547758800@litseen.com
SUMMARY:Lyndsay Faye\, The Paragon Hotel
DESCRIPTION:Bookshop is delighted to welcome Lyndsay Faye\, author of the best-selling staff favorites Jane Steele and The Gods of Gotham\, for a reading and signing of her new novel\, The Paragon Hotel—a historical thriller which follows Alice “Nobody” from Prohibition-era Harlem to Portland’s the Paragon Hotel. \nPraise for The Paragon Hotel \n“This historical novel\, which carries strong reverberations of present-day social and cultural upheavals\, contains a message from a century ago that’s useful to our own time: ‘We need to do better at solving things.’ A riveting multilevel thriller of race\, sex\, and mob violence that throbs with menace as it hums with wit.”—Kirkus Reviews (starred review) \n“Faye once again vividly illuminates history with her fiction…. remarkably fluid fiction\, framed as a love letter and based in fact.”—Booklist (starred review) \n“From the opening scene\, this novel had me in its grip. Faye delivers a riveting story filled with unforgettable characters and stunning prose\, while never flinching from the painful truths surrounding America’s legacy of racial injustice. A remarkable\, significant novel.”—Fiona Davis\, bestselling author of The Masterpiece \n“Full of wry wit\, dark humor and magnificent period details\, THE PARAGON HOTEL is a wickedly poetic tour de force.”—Laura Lane McNeal\, national bestselling author of Dollbaby \n“Gangsters and prostitutes\, nightclub singers and dodgy cops\, an African-American hotel under constant threat of violence… Lyndsay Faye drops us right in the middle of the tumult of the Prohibition Era\, bringing to life one of the darker times in our nation’s history with wit and heart.”—Lauren Willig\, New York Times-bestselling author of The English Wife \n“A novel at once thrilling and wise\, historic and timely. ‘Nobody’ is somebody who will stay with you long after you turn the last page.”—Natasha Solomons\, New York Times-bestselling author of House of Gold \nLyndsay Faye is the author of five critically acclaimed books: Jane Steele\, which was nominated for an Edgar for Best Novel; Dust and Shadow; The Gods of Gotham; also Edgar-nominated; Seven for a Secret; and The Fatal Flame. Faye\, a true New Yorker in the sense she was born elsewhere\, lives in New York City with her husband\, Gabriel. \n  \nThis free event will take place at Bookshop Santa Cruz. Chairs for open seating are usually set up about an hour before the event begins. Please e-mail info@bookshopsantacruz.com with any ADA acommodation requests by January 15th\, 2019.
URL:https://litseen.com/event/lyndsay-faye-the-paragon-hotel/
LOCATION:Bookshop Santa Cruz\, 1520 Pacific Ave\, Santa Cruz \, CA\, 95060\, United States
CATEGORIES:Free,South Bay
ATTACH;FMTTYPE=image/jpeg:https://litseen.com/wp-content/uploads/2018/11/faye-paragon-750-copy.jpg
END:VEVENT
BEGIN:VEVENT
DTSTART;TZID=UTC:20190117T190000
DTEND;TZID=UTC:20190117T210000
DTSTAMP:20260419T143937
CREATED:20190112T044629Z
LAST-MODIFIED:20190112T044629Z
UID:49396-1547751600-1547758800@litseen.com
SUMMARY:InsideStorytime WORKAROUNDS
DESCRIPTION:featuring Roman Muradov (Vanishing Act)\, Colleen McKee (The Kingdom of Roly-Polys)\, James Cagney (Black Steel Magnolias in the Hour of Chaos Theory)\, Dinika Amaral\, and Ralph Paone\, will be at Octopus Literary Salon\, 2101 Webster Street\, Oakland\, Thursday January 17th\, 7-9 pm.
URL:https://litseen.com/event/insidestorytime-workarounds/
LOCATION:The Octopus Literary Salon\, 2101 Webster St #170\, Oakland \, CA\, 94612\, United States
CATEGORIES:East Bay,Free
ATTACH;FMTTYPE=image/jpeg:https://litseen.com/wp-content/uploads/2019/01/ISTworkarounds.jpg
END:VEVENT
END:VCALENDAR