BEGIN:VCALENDAR
VERSION:2.0
PRODID:-//Litseen - ECPv6.15.11//NONSGML v1.0//EN
CALSCALE:GREGORIAN
METHOD:PUBLISH
X-ORIGINAL-URL:https://litseen.com
X-WR-CALDESC:Events for Litseen
REFRESH-INTERVAL;VALUE=DURATION:PT1H
X-Robots-Tag:noindex
X-PUBLISHED-TTL:PT1H
BEGIN:VTIMEZONE
TZID:UTC
BEGIN:STANDARD
TZOFFSETFROM:+0000
TZOFFSETTO:+0000
TZNAME:UTC
DTSTART:20180101T000000
END:STANDARD
END:VTIMEZONE
BEGIN:VEVENT
DTSTART;TZID=UTC:20190125T190000
DTEND;TZID=UTC:20190125T203000
DTSTAMP:20260419T111850
CREATED:20180923T235224Z
LAST-MODIFIED:20180923T235224Z
UID:47765-1548442800-1548448200@litseen.com
SUMMARY:The Heart of the Goddess: Art\, Myth and Meditations on the World’s Sacred Feminine
DESCRIPTION:The Sacred Feminine is rising all over the planet\, and with it\, the values of compassion\, peacemaking\,\nnurturance and love of the Earth. There is renewed awareness of feminine expressions that have been revered for millenia. Hallie Iglehart Austen shares a wide-reaching selection of art\, meditations\, poetry\, prayers\, values\, and living lessons of Goddess culture. Respect for the Earth\, restoration of community\, and regaining the long-lost power of women are inseparable. Immerse yourself in a rich\, multi-media experience of Goddesses from around the world and throughout time\, for a transmission of healing\, teaching\, and the Sacred Feminine in all of us. Hallie Iglehart Austen began studying ancient Greek language and mythology in her youth. She has been teaching spirituality and the wisdom of the divine feminine since 1974\, and is author of Womanspirit Meditations and The Heart of the Goddess.
URL:https://litseen.com/event/the-heart-of-the-goddess-art-myth-and-meditations-on-the-worlds-sacred-feminine-4/
LOCATION:Copperfield’s Books\, 138 North Main Street\, Sebastopol\, CA
CATEGORIES:Free,North Bay
ATTACH;FMTTYPE=image/jpeg:https://litseen.com/wp-content/uploads/2018/08/hearofthegoddess-3.jpg
END:VEVENT
END:VCALENDAR