BEGIN:VCALENDAR
VERSION:2.0
PRODID:-//Litseen - ECPv6.15.11//NONSGML v1.0//EN
CALSCALE:GREGORIAN
METHOD:PUBLISH
X-ORIGINAL-URL:https://litseen.com
X-WR-CALDESC:Events for Litseen
REFRESH-INTERVAL;VALUE=DURATION:PT1H
X-Robots-Tag:noindex
X-PUBLISHED-TTL:PT1H
BEGIN:VTIMEZONE
TZID:UTC
BEGIN:STANDARD
TZOFFSETFROM:+0000
TZOFFSETTO:+0000
TZNAME:UTC
DTSTART:20180101T000000
END:STANDARD
END:VTIMEZONE
BEGIN:VEVENT
DTSTART;TZID=UTC:20190319T173000
DTEND;TZID=UTC:20190319T193000
DTSTAMP:20260420T073717
CREATED:20190131T233452Z
LAST-MODIFIED:20190131T233452Z
UID:49938-1553016600-1553023800@litseen.com
SUMMARY:Shobha Rao
DESCRIPTION:Tuesday March 19\, 2019 | 5:30 pm | Mills Hall Living Room\n\nShobha Rao’s novel Girls Burn Brighter\, longlisted for the 2018 Center for Fiction First Novel Prize\, appeared on many “best of” 2018 lists including the Washington Post\, NPR\, Shelf Awareness\, Paste\, LitHub\, and Real Simple. Her debut short story collection An Unrestored Woman illuminated how the division of India and Pakistan into two countries violently disrupted the lives of the region’s citizens for years. Rao is the winner of the Katherine Anne Porter Prize in Fiction\, and her story “Kavitha and Mustafa” was chosen by T.C. Boyle for inclusion in Best American Short Stories 2015.
URL:https://litseen.com/event/shobha-rao-3/
LOCATION:Mills Hall Living Room\, Mills College\, 5000 MacArthur Blvd\, Oakland \, CA\, 94613\, United States
CATEGORIES:East Bay,Free
ATTACH;FMTTYPE=image/jpeg:https://litseen.com/wp-content/uploads/2019/01/cws_shobha_rao_190x285_mills.jpg
ORGANIZER;CN="Mills College":MAILTO:syoung@mills.edu
END:VEVENT
BEGIN:VEVENT
DTSTART;TZID=UTC:20190319T190000
DTEND;TZID=UTC:20190319T210000
DTSTAMP:20260420T073717
CREATED:20190130T233637Z
LAST-MODIFIED:20190130T233637Z
UID:49726-1553022000-1553029200@litseen.com
SUMMARY:Moira Crone\, Rodger Kamenetz\, and Ariel Resnikoff
DESCRIPTION:Two New Orleans based writers–poet and dreamworker Rodger Kamenetz and fiction writer Moira Crone–join forces with East Bay native and recent returnee Ariel Resnikoff for a speculative set of their latest work. All three of them habitually push hard on boundaries\, whether it’s the divide between conscious and subconscious life or the linguistic borders dividing cultures. \nRodger and Moira both taught writing at LSU in Baton Rouge for many years. Ariel is finishing up a PhD at Penn\, where he has been very active as a teacher and a multilingual editor and translator. \nAuthor of seven works of fiction\, Moira Crone has won distinction for her short stories\, novels\, and her speculative fiction. In 2009 she received the Robert Penn Warren Award from the Southern Fellowship of Writers for the body of her work. Her 2014 novel THE ICE GARDEN\, a coming of age tale set in the 1960’s South\, won the Independent Booksellers Regional Gold Medal and was hailed by author Lee Smith\, as “a heart-stopper.”   Her 2012 dystopian THE NOT YET\, set in a drowned Louisiana in 2121\, was one of seven finalists for the international Philip K. Dick Award\, for sci-fi paperback of the year. She has received fellowships from the NEH\, the NEA\, Bunting Institute at Harvard-Radcliffe\, and other institutions. Her works have been selected for the prize anthology New Stories from the South: The Year’s Bestfive times\, have appeared in two dozen anthologies\, and in such magazines as The New Yorker\, Mademoiselle\, TriQuarterly\, Oxford American\, Fantasy and Science Fiction\, and Image. She lives in New Orleans. \nPoet\, author\, essayist\, biographer\, religious thinker and dreamwork practitioner\, Rodger Kamenetz is probably best known for his breakthrough account of Jewish-Buddhist dialogue\, The Jew in the Lotus. A serious student of dreams since 1999\, his The History of Last Night’s Dream was featured on Oprah Winfrey’s Soul Series. His poems have appeared in hundreds of periodicals and 25 anthologies. His previous books of poetry include The Missing Jew\, Stuck\, The Lowercase Jew\, and To Die Next To You. YONDER is his seventh collection. Kamenetz lives in New Orleans where he practices Natural Dreamwork. Visit him at kamenetz.com or  thenaturaldream.com \nAriel Resnikoff  is a poet\, translator\, editor & teacher. His most recent works include Ten-Four: Poems\, Translations\, Variations (Operating System 2015)\, with Jerome Rothenberg\, & Between Shades (Materialist Press 2014). With Stephen Ross\, he is at work on the first critical bilingual edition of Mikhl Likht’s modernist Yiddish long poem\, Processions; and with Lilach Lachman and Gabriel Levin\, he is translating the collected writings of the translingual-Hebrew poet\, Avot Yeshurun. Ariel is a contributing editor of Global Modernists on Modernism (Bloomsbury\, forthcoming ‘19)\, an anthology of multilingual modernist source texts\, as well as a commissioning editor at Jacket2. His writing has been translated into French & Spanish and is forthcoming in German in a special issue of Schreibheft.
URL:https://litseen.com/event/moira-crone-rodger-kamenetz-and-ariel-resnikoff/
LOCATION:E.M. Wolfman General Interest Small Bookstore\, 410 13th Street\, Oakland \, CA\, 94612\, United States
CATEGORIES:East Bay,Free
ATTACH;FMTTYPE=image/png:https://litseen.com/wp-content/uploads/2019/01/em5.png
END:VEVENT
BEGIN:VEVENT
DTSTART;TZID=UTC:20190319T190000
DTEND;TZID=UTC:20190319T210000
DTSTAMP:20260420T073717
CREATED:20190131T111503Z
LAST-MODIFIED:20190131T111503Z
UID:49874-1553022000-1553029200@litseen.com
SUMMARY:Lloyd Khan\, Driftwood Shacks
DESCRIPTION:TUESDAY\, MARCH 19\, 2019 – 7:00PM\n\n\n\n\n\nThis is an advanced event listing. Please check back for updated information\, or sign up for our events emails. \nThis free event will take place at Bookshop Santa Cruz. Chairs for open seating are usually set up about an hour before the event begins. If you have any ADA accommodation requests\, please e-mail info@bookshopsantacruz.com by March 17th. \n“I started building almost 50 years ago\, and have lived in a self-built home ever since. If I’d been able to buy a wonderful old good-feeling house\, I might have never started building. But it was always cheaper to build than to buy\, and by building myself\, I could design what I wanted and use materials I wanted to live with. I set off to learn the art of building in 1960. I liked the whole process immensely. Hammering nails. Framing — delineating space. Nailing down the sub-floor\, the roof decking. It’s a thrill when you first step on the floor you’ve just created. Ideally I’d have worked with a master carpenter long enough to learn the basics\, but there was never time. I learned from friends and books and by blundering my way into a process that required a certain amount of competence. My perspective was that of a novice\, a homeowner — rather than a pro. As I learned\, I felt that I could tell others how to build\, or at least get them started on the path to creating their own homes. Through the years I’ve personally gone from post and beam to geodesic domes to stud frame construction. It’s been a constant learning process\, and this has led me into investigating many methods of construction — I’m interested in them all. For five years\, the late ’60s to early ’70s\, I built geodesic domes. I got into being a publisher by producing Domebook One in 1970 and Domebook 2 in 1971. I then gave up on domes (as homes) and published our namesake Shelter in 1973. We’ve published books on a variety of subjects over the years\, and returned to our roots with Home Work: Handbuilt Shelter in 2004\, Builders of the Pacific Coast and The Barefoot Architect in 2008\, and Tiny Homes in 2012. Building is my favorite subject. Even in this day and age\, building a house with your own hands can save you a ton of money (I’ve never had a mortgage) and — if you follow it through — you can get what you want in a home.” -Lloyd Kahn
URL:https://litseen.com/event/lloyd-khan-driftwood-shacks/
LOCATION:Bookshop Santa Cruz\, 1520 Pacific Ave\, Santa Cruz \, CA\, 95060\, United States
CATEGORIES:Free,South Bay
ATTACH;FMTTYPE=image/jpeg:https://litseen.com/wp-content/uploads/2019/01/driftwood.jpg
END:VEVENT
BEGIN:VEVENT
DTSTART;TZID=UTC:20190319T190000
DTEND;TZID=UTC:20190319T210000
DTSTAMP:20260420T073717
CREATED:20190227T005900Z
LAST-MODIFIED:20190227T005900Z
UID:50188-1553022000-1553029200@litseen.com
SUMMARY:Paul Beatty
DESCRIPTION:TUESDAY\nMarch 19\, 2019\n7PM \nHammer Theatre\n101 Paseo de San Antonio\nSan José\, CA \nReading followed by an on-stage interview – conducted by Associate Professor of Justice Studies and Director of the Human Rights Program at SJSU\, William Armaline – plus a book sale and signing. \nNovelist Paul Beatty is among the funniest and most fearless writers in contemporary fiction. He has been called “one of the shrewdest cultural commentators\, and hilarious cutups\, of his generation” (Interview). In a voice both acerbic and expansive\, Beatty creates unforgettable characters and haunting settings that strike at the very heart of race\, sex\, and language in America. With his most recent novel\, The Sellout\, Beatty became the first American to win the Man Booker Prize. The bestselling novel was also awarded the National Book Critics Circle Award and the John Dos Passos Prize and named one of the Best Books of the Year by The New York Times\, Newsweek\, The Denver Post\, Kirkus\, and Publishers Weekly. In addition to The Sellout\, Beatty is the author of Slumberland\, Tuff\, The White Boy Shuffle\, and two volumes of poetry. He is also the editor of Hokum: An Anthology of African-American Humor. Beatty is currently working on a new novel\, as well as an anthology of nonblack writers writing on blackness\, titled Negro Sunshine\, out in 2020. He speaks on fiction and social critique.
URL:https://litseen.com/event/paul-beatty/
LOCATION:Hammer Theater Center\, 101 Paseo De San Antonio Walk\, San Jose\, CA\, 95113\, United States
CATEGORIES:Free,South Bay
ATTACH;FMTTYPE=image/jpeg:https://litseen.com/wp-content/uploads/2019/02/CLA_HOME-Paul_Beatty-WOtext-1080x550.jpg
END:VEVENT
BEGIN:VEVENT
DTSTART;TZID=UTC:20190319T193000
DTEND;TZID=UTC:20190319T213000
DTSTAMP:20260420T073717
CREATED:20190131T015930Z
LAST-MODIFIED:20190131T015930Z
UID:49774-1553023800-1553031000@litseen.com
SUMMARY:Richard Chiem
DESCRIPTION:Richard Chiem discusses his debut novel\, King of Joy. \n\nPraise for King of Joy \n\n“What a funny\, fresh\, bittersweet masterpiece—there is no one else in the world writing like Richard Chiem. From the sentence-level wizardry to the racing plot\, I feel smarter just having read this. Every page brings a new set of wonders.” —Alissa Nutting\, author of Made for Love \n  \n“This novel is transfixing: an imaginative meditation on emotional survival\, isolation\, and the beauty and limitations of human connection. I love Chiem’s writing.” —Melissa Broder\, author of The Pisces \n\nAbout King of Joy \n\nFrom one of the most exciting and risk-taking new literary voices\, Richard Chiem’s debut novel King of Joy is the triumphant\, electrifying story of one woman’s quest for survival against all odds\, told in the author’s inimitable prose style. \n  \nCorvus has always had an overactive imagination. Growing up\, she develops a unique coping mechanism: she can imagine herself out of any situation\, no matter how terrible. To get through each day\, Corvus escapes into scenes from fantasy novels\, pop songs\, and action/adventure movies\, and survives by turning the everyday into just another role to play in the movie of her life. \n  \nAfter a tragic loss\, Corvus finds a sadness so great she cannot imagine it away. Instead\, she finds Tim\, a pornographer with unconventional methods\, who offers her a new way to escape into movies. But when a sinister plot of greed and betrayal is revealed\, Corvus must fight to reclaim her independence\, and discovers she is stronger than even she could have imagined. \n  \nWritten in Richard Chiem’s singular style\, this debut novel is equal parts sledgehammer and sweet song\, a neon\, pulsing portrait of grief. King of Joy tells the triumphant\, electrifying story of one woman’s quest for survival against all odds\, and serves as a reminder that resilience can be found even in our most hopeless moments.
URL:https://litseen.com/event/richard-chiem/
LOCATION:Green Apple Books on the Park\, 1231 9th Ave\, San Francisco \, CA\, 94122\, United States
CATEGORIES:Free,San Francisco
ATTACH;FMTTYPE=image/jpeg:https://litseen.com/wp-content/uploads/2019/01/joy.jpg
END:VEVENT
BEGIN:VEVENT
DTSTART;TZID=UTC:20190319T193000
DTEND;TZID=UTC:20190319T213000
DTSTAMP:20260420T073717
CREATED:20190131T074609Z
LAST-MODIFIED:20190131T074609Z
UID:49802-1553023800-1553031000@litseen.com
SUMMARY:Jacob Tobia / Sissy: A Coming-Of-Gender Story
DESCRIPTION:The Bindery hosts Jacob Tobia for their first book\, Sissy: A Coming-Of-Gender Story. Please join us! \n  \nA heart-wrenching\, eye-opening\, and giggle-inducing memoir about what it’s like to grow up not sure if you’re (a) a boy\, (b) a girl\, (c) something in between\, or (d) all of the above. \n“When the political reality facing this country seems dark\, we need shinier\, sparklier thinkers in the public eye. With a signature style matched only by their wit\, Jacob fits that bill perfectly.” – Alan Cumming \nFrom the moment a doctor in Raleigh\, North Carolina\, put “male” on Jacob Tobia’s birth certificate\, everything went wrong. Alongside “male” came many other\, far less neutral words: words that carried expectations about who Jacob was and who Jacob should be\, words like “masculine” and “aggressive” and “cargo shorts” and “SPORTS!” \nNaturally sensitive\, playful\, creative\, and glitter-obsessed\, as a child Jacob was given the label “sissy.” In the two decades that followed\, “sissy” joined forces with “gay\,” “trans\,” “nonbinary\,” and “too-queer-to-function” to become a source of pride and\, today\, a rallying cry for a much-needed gender revolution. Through revisiting their childhood and calling out the stereotypes that each of us have faced\, Jacob invites us to rethink what we know about gender and offers a bold blueprint for a healed world–one free from gender-based trauma and bursting with trans-inclusive feminism. \nFrom Jacob’s Methodist childhood and the hallowed halls of Duke University to the portrait-laden parlors of the White House\, Sissy takes you on a gender odyssey you won’t soon forget. Writing with the fierce honesty\, wildly irreverent humor\, and wrenching vulnerability that have made them a media sensation\, Jacob shatters the long-held notion that people are easily sortable into “men” and “women.” Sissy guarantees that you’ll never think about gender–both other people’s people’s and your own–the same way again. \n  \n\n  \nJacob Tobia (@JacobTobia) is a gender nonconforming writer\, producer\, and performer based in Los Angeles. A member of both the Forbes “30 Under 30” and the “OUT 100\,” Jacob’s writing and advocacy have been featured by MSNBC\, The New York Times\, TIME\, The Guardian\, and Teen Vogue\, among others. A Point Foundation Scholar\, Truman Scholar\, and member of the Biden Foundation’s Advisory Council for Advancing LGBTQ Equality\, Jacob has worn high heels in the White House twice. \n  \n\n  \nPlease note: this event will be held at The Bindery\, 1727 Haight. \n  \nThis is an all ages event with mature themes. The bar opens at 7pm; event starts at 7:30pm. \n  \nAs with all of our events\, seating may be limited; you can guarantee a seat by pre-purchasing the book below — when checking out\, just be sure to include a note that you’d like to attend the event. If you cannot attend the event but would like to request a signed copy of Sissy\, order below and put your request in the comments field. \n  \nRSVP appreciated but not required.
URL:https://litseen.com/event/jacob-tobia-sissy-a-coming-of-gender-story/
LOCATION:The Bindery\, 1727 Haight St\, San Francisco \, 94117\, United States
CATEGORIES:Free,San Francisco
ATTACH;FMTTYPE=image/jpeg:https://litseen.com/wp-content/uploads/2019/01/SISSY.jpg
END:VEVENT
END:VCALENDAR