BEGIN:VCALENDAR
VERSION:2.0
PRODID:-//Litseen - ECPv6.15.11//NONSGML v1.0//EN
CALSCALE:GREGORIAN
METHOD:PUBLISH
X-ORIGINAL-URL:https://litseen.com
X-WR-CALDESC:Events for Litseen
REFRESH-INTERVAL;VALUE=DURATION:PT1H
X-Robots-Tag:noindex
X-PUBLISHED-TTL:PT1H
BEGIN:VTIMEZONE
TZID:UTC
BEGIN:STANDARD
TZOFFSETFROM:+0000
TZOFFSETTO:+0000
TZNAME:UTC
DTSTART:20180101T000000
END:STANDARD
END:VTIMEZONE
BEGIN:VEVENT
DTSTART;TZID=UTC:20190320T170000
DTEND;TZID=UTC:20190522T180000
DTSTAMP:20260420T034711
CREATED:20190227T004108Z
LAST-MODIFIED:20190227T004108Z
UID:50113-1553101200-1558548000@litseen.com
SUMMARY:Queeriosity: Writing + Performance Workshop (Youth Centered)
DESCRIPTION:Queeriosity: Writing and Performance workshops celebrates LGBTQQIA+ youth voices in the Bay Area. Taught by Youth Speaks poets including Sarah O’Neal and Janae Johnson. \nEvery Wednesday | March 20th – May 22\n5:00pm – 7:00pm\nat Qulture Collective\, 1714 Franklin St\, Oakland\, CA 94607 (near 19th Street BART) \nThis LGBTQIA+ centered workshop will explore personal and historical narratives that (re)frame perceptions of language\, sexuality & gender. Participants will be encouraged to write\, learn performance techniques\, and create the dopest space imaginable. \nSign-Up: https://goo.gl/forms/OWMXtikx5RvHzBnB3 \n**First time and/or experienced writers are encouraged to attend. This is intended to be a space where your authentic self is not only welcomed- it’s celebrated.** \nNote: This is a FREE youth-centered (13-19 years old) Workshop\, and anyone can join! 🙂
URL:https://litseen.com/event/queeriosity-writing-performance-workshop-youth-centered/
LOCATION:Qulture Collective\, 1714 Franklin Street\, Oakland\, CA\, 94612\, United States
CATEGORIES:Free
ATTACH;FMTTYPE=image/jpeg:https://litseen.com/wp-content/uploads/2019/02/Queeriosity-Flyer-2019.jpg
END:VEVENT
BEGIN:VEVENT
DTSTART;TZID=UTC:20190321T190000
DTEND;TZID=UTC:20190321T210000
DTSTAMP:20260420T034711
CREATED:20190129T225025Z
LAST-MODIFIED:20190129T225025Z
UID:49602-1553194800-1553202000@litseen.com
SUMMARY:Tenderloin Cocktail Culture
DESCRIPTION:Thursday\, March 21\, 2019\n7:00 PM  9:00 PM\n\n\nGoogle Calendar  ICS\n\n\n\n\n\n\n\n\nAs San Francisco’s roaring vice district\, the Tenderloin of the early 20th century figures greatly into the development of cocktail culture. Many of the bars\, restaurants\, and hotels represented in The Match Book: Tenderloin Historical Ephemera Project played a role in San Francisco cocktail history. Join us for a survey of the neighborhood’s historic bar culture and recipes from the innovators who shaped the modern cocktail landscape through a historical discussion\, guided tasting\, and hands-on class led by Shana Farrell\, author of Bay Area Cocktails: A History of Culture\, Community and Craft. In collaboration with the California Historical Society. \n— \nThis event is part of The Tenderloin Match Book: Historical Ephemera Project a multi-faceted project that also encompasses the publication of The Match Book: Vintage Matchbooks from San Francisco’s Tenderloin\, an artfully designed history book of the Tenderloin featuring the matchbooks of local businesses and cultural institutions; the Tenderloin Ephemera Exhibition\, featuring historical Tenderloin ephemera from the 1920’s-1950’s\, including bar signs\, glassware\, postcards\, menus\, matchbooks et al.; the first addition to the Tenderloin Museum’s permanent exhibit\, The Matchbook Map Exhibit\, featuring a searchable\, interactive touchscreen map that connects matchbook imagery to historical info on the associated business and address. \nThrough the everyday act of picking up a matchbook and striking a match\, one is transported to another place and time; the past is remembered through a pedestrian interaction with a tangible object. Matchbooks are emblems of local culture: accessible\, utilitarian ephemera that functioned as the chosen form of advertising for small businesses in an era before plastic lighters and health concerns about smoking. These ritual objects exist at a fascinating intersection of material culture\, local history\, and design art; matchbooks (and other local business ephemera) are striking populist artifacts that serve as portals to places and people in a neighborhood’s past. The Match Book: Tenderloin Historical Ephemera Project presents an illuminating new perspective on the Tenderloin’s often overlooked history\, enriches the detail and depth of the neighborhood’s narrative\, and ignites the Tenderloin community’s historical imagination. \nDoors at 6:30pm\, Program 7pm
URL:https://litseen.com/event/tenderloin-cocktail-culture/
LOCATION:Tenderloin Museum\, 398 Eddy St\, San Francisco \, CA\, United States
CATEGORIES:Free,San Francisco
ATTACH;FMTTYPE=image/jpeg:https://litseen.com/wp-content/uploads/2019/01/tenderloin.jpeg
END:VEVENT
BEGIN:VEVENT
DTSTART;TZID=UTC:20190321T190000
DTEND;TZID=UTC:20190321T210000
DTSTAMP:20260420T034711
CREATED:20190131T231036Z
LAST-MODIFIED:20190131T231036Z
UID:49909-1553194800-1553202000@litseen.com
SUMMARY:InsideStorytime CLOSURE
DESCRIPTION:featuring Tongo Eisen-Martin (Heaven Is All Goodbyes)\, Anne-christine d’Adesky (The Pox Lover)\, Jenn Stroud Rossman (The Place You’re Supposed to Laugh)\, and others\, will be at Octopus Literary Salon\, 2101 Webster Street\, Oakland\, Thursday March 21st\, 7-9 pm.
URL:https://litseen.com/event/insidestorytime-closure/
LOCATION:The Octopus Literary Salon\, 2101 Webster St #170\, Oakland \, CA\, 94612\, United States
CATEGORIES:East Bay,Free
ATTACH;FMTTYPE=image/jpeg:https://litseen.com/wp-content/uploads/2019/01/ISTsublimation.jpg
END:VEVENT
BEGIN:VEVENT
DTSTART;TZID=UTC:20190321T193000
DTEND;TZID=UTC:20190321T213000
DTSTAMP:20260420T034711
CREATED:20190112T051839Z
LAST-MODIFIED:20190112T051839Z
UID:49411-1553196600-1553203800@litseen.com
SUMMARY:Lynn Emanuel and Troy Jollimore
DESCRIPTION:Lynn Emanuel is the author of several volumes of poetry. She sees her Hotel Fiesta (1984)\, The Dig (1992)\, and Then\, Suddenly— (1999) as a triptych exploring the convention and flexibility of the book\, and the agency of readers and writers. The Dig received the National Poetry Series Award. Emanuel’s work has also been awarded a Pushcart Prize and has been featured in several Best American Poetry anthologies and the Oxford Book of American Poetry. She has received two grants from the National Endowment for the Arts and the Eric Matthieu King Award from the Academy of American Poets. Her recent work\, including Noose and Hook (2010)\, explores violence\, the self\, and perspective. Noose and Hook includes a long monologue sequence\, “The Mongrelogues\,” that is told from a dog’s point of view. \nEmanuel holds a BA from Bennington College\, an MA from City College of New York\, where she studied with Adrienne Rich\, and an MFA from the University of Iowa Writers’ Workshop. She has taught at the Warren Wilson Program in Creative Writing\, the Iowa Writers’ Workshop\, and the University of Pittsburgh. \nTroy Jollimore is the author of three books of poetry and three books of philosophy\, as well as numerous articles\, essays\, and reviews. His first collection of poetry\, Tom Thomson in Purgatory\, won the National Book Critics Circle award in poetry for 2006. His third\, Syllabus of Errors\, appeared on the New York Times’ list of the best books of poetry published in 2015. \nIn 2013 he was awarded a Guggenheim Fellowship in poetry. He has also received fellowships from the Bread Loaf Writers’ Conference and the Stanford Humanities Center in Palo Alto\, California. He is currently a Professor in the Philosophy Department at California State University\, Chico
URL:https://litseen.com/event/lynn-emanuel-and-troy-jollimore/
LOCATION:Falkirk Cultural Center\, 1408 Mission Ave\, San Rafael \, CA\, 94901\, United States
CATEGORIES:Free,North Bay
ATTACH;FMTTYPE=image/jpeg:https://litseen.com/wp-content/uploads/2019/01/mpc.jpeg
END:VEVENT
BEGIN:VEVENT
DTSTART;TZID=UTC:20190321T193000
DTEND;TZID=UTC:20190321T213000
DTSTAMP:20260420T034711
CREATED:20190131T103113Z
LAST-MODIFIED:20190131T103113Z
UID:49835-1553196600-1553203800@litseen.com
SUMMARY:Kurt Eichenwald
DESCRIPTION:Kurt Eichenwald\n\n\n\n\npresents A Mind Unraveled: A Memoir\, the compelling story of an acclaimed journalist and New York Times bestselling author’s ongoing struggle with epilepsy–his torturous decision to keep his condition a secret to avoid discrimination\, and his ensuing decades-long battle to not only survive\, but to thrive. \n“Inspirational in the true sense of the word….It is written with great verve and wisdom by someone who has closely and thoughtfully detailed his own plight as well as the journey out of it….A book to take heart from.”–Daphne Merkin\, The New York Times Book Review \nTo reserve your seat\, please purchase a copy of A Mind Unraveled by speaking to a bookseller or ordering through our website. \n\n\n\n\n\nThursday\, March 21\, 2019 – 7:30pm\n\n\n\n\n\nAs a college freshman\, Kurt Eichenwald awoke one night on the floor of his dorm room\, confused and in pain. In the aftermath of that critical moment\, his once-carefree life would be consumed by confrontations with medical incompetence\, discrimination that almost cost him his education and employment\, physical abuse\, and dark moments when he contemplated suicide. \nThis is the story of one man’s battle to pursue his dreams despite an often incapacitating brain disorder. From his early experiences of fear and denial to his exasperating search for treatment\, Eichenwald provides a deeply candid account of his years facing this misunderstood and often stigmatized condition. He details his encounters with the doctors whose negligence could have killed him\, but for the heroic actions of a brilliant neurologist and the family and friends who fought for him.  \nUltimately\, A Mind Unraveled is an inspirational story\, one that chronicles how Eichenwald\, faced often with his own mortality\, transformed trauma into a guide for reaching the future he desired. Defying relentless threats to his emotional and physical well-being\, he affirmed his decision to never give up\, and in the process learned how to rise from the depths of despair to the heights of unimagined success. \nKurt Eichenwald is the author of four previous nonfiction books. His second\, The Informant\, was made into a movie starring Matt Damon and directed by Steven Soderbergh. In addition to his distinguished work as a senior writer at Newsweekand a contributing editor at Vanity Fair\, Eichenwald spent two decades as a senior writer at The New York Times\, where he was a two-time finalist for the Pulitzer Prize. He is also a two-time winner of the George Polk Award\, as well as the winner of the Payne Award for Ethics in Journalism and an Emmy Award nominee. He lives in Dallas with his family. \n\n\n\n\nEvent address:\n\n\n\n2904 College Avenue\n\nBerkeley\, CA 94705
URL:https://litseen.com/event/kurt-eichenwald/
LOCATION:Mrs. Dalloway’s Bookstore\, 2904 College Ave\, Berkeley\, CA\, 94705\, United States
CATEGORIES:East Bay,Free
ATTACH;FMTTYPE=image/jpeg:https://litseen.com/wp-content/uploads/2019/01/123.jpg
END:VEVENT
BEGIN:VEVENT
DTSTART;TZID=UTC:20190321T193000
DTEND;TZID=UTC:20190321T213000
DTSTAMP:20260420T034711
CREATED:20190227T005316Z
LAST-MODIFIED:20190227T005316Z
UID:50182-1553196600-1553203800@litseen.com
SUMMARY:An Instinctive Feeling of Innocence: Dana Grigorcea and Alta L. Price
DESCRIPTION:Green Apple Books on the Park | 1231 9th Avenue | San Francisco\, CA \n\n\nRSVP\n\nSwiss-Romanian writer Dana Grigorcea and translator Alta L. Price discuss An Instinctive Feeling of Innocence. \nAn Instinctive Feeling of Innocence (Seagull Books) is the stunning second novel from Swiss-Romanian writer Dana Grigorcea and translated by Alta L. Price. With humor and wit\, An Instinctive Feeling of Innocence describes a world full of myriad surprises where new and old cultures weave together—a world bursting with character and spirit.Victoria has just recently moved from Zurich back to her hometown of Bucharest when the bank where she works is robbed. Put on leave so that she can process the trauma of the robbery\, Victoria strolls around town. Each street triggers sudden visions as memories from her childhood under the Ceausescu regime begin to mix with the radically changed city and the strange world in which she now finds herself. As the walls of reality begin to crumble\, Victoria and her former self cross paths with the bank robber and a rich cast of characters\, weaving a vivid portrait of Romania and one woman’s self-discovery. \n\n\nCONTACT:\n\nLeslie-Ann Woofter\nlwoofter@catranslation.org\n415.512.8812\n\n\n\n\nSHARE \n \n\n\n\n| ALL EVENTS >\n\n\n\n\n\n\nAUTHOR\nDana Grigorcea\n\n\nDana Grigorcea is a Swiss-Romanian essayist\, novelist\, and children’s book author. Her debut novel\, Baba Rada\, won the Swiss Literary Pearl. She lives in Zürich.\n\n\n\n\n\nTRANSLATOR\nAlta L. Price\n\n\n\nAlta L. Price runs a publishing consultancy specialized in literature and nonfiction texts on art\, architecture\, design\, and culture. A recipient of the Gutekunst Prize\, she translates from Italian and German into English\, and is currently shortlisted for The Peirene Stevns Translation Prize. Her latest book translations include Corrado Augias’s The Secrets of Italy\, Jürgen Holstein’s The Book Cover in the Weimar Republic\, and Martin Mosebach’s The 21. Her work has appeared on BBC Radio 4\, 3 Quarks Daily\, Maharam Stories\, Trafika Europe\, Words Without Borders\, and elsewhere. She is a member of ALTA\, PEN\, the Third Coast Translators Collective\, and Cedilla & Co.
URL:https://litseen.com/event/an-instinctive-feeling-of-innocence-dana-grigorcea-and-alta-l-price/
LOCATION:Green Apple Books on the Park\, 1231 9th Ave\, San Francisco \, CA\, 94122\, United States
CATEGORIES:Free,San Francisco
ATTACH;FMTTYPE=image/jpeg:https://litseen.com/wp-content/uploads/2019/02/Grigorcea-event-390x390.jpg
END:VEVENT
END:VCALENDAR