BEGIN:VCALENDAR
VERSION:2.0
PRODID:-//Litseen - ECPv6.15.11//NONSGML v1.0//EN
CALSCALE:GREGORIAN
METHOD:PUBLISH
X-WR-CALNAME:Litseen
X-ORIGINAL-URL:https://litseen.com
X-WR-CALDESC:Events for Litseen
REFRESH-INTERVAL;VALUE=DURATION:PT1H
X-Robots-Tag:noindex
X-PUBLISHED-TTL:PT1H
BEGIN:VTIMEZONE
TZID:UTC
BEGIN:STANDARD
TZOFFSETFROM:+0000
TZOFFSETTO:+0000
TZNAME:UTC
DTSTART:20180101T000000
END:STANDARD
END:VTIMEZONE
BEGIN:VTIMEZONE
TZID:America/Los_Angeles
BEGIN:DAYLIGHT
TZOFFSETFROM:-0800
TZOFFSETTO:-0700
TZNAME:PDT
DTSTART:20180311T100000
END:DAYLIGHT
BEGIN:STANDARD
TZOFFSETFROM:-0700
TZOFFSETTO:-0800
TZNAME:PST
DTSTART:20181104T090000
END:STANDARD
BEGIN:DAYLIGHT
TZOFFSETFROM:-0800
TZOFFSETTO:-0700
TZNAME:PDT
DTSTART:20190310T100000
END:DAYLIGHT
BEGIN:STANDARD
TZOFFSETFROM:-0700
TZOFFSETTO:-0800
TZNAME:PST
DTSTART:20191103T090000
END:STANDARD
BEGIN:DAYLIGHT
TZOFFSETFROM:-0800
TZOFFSETTO:-0700
TZNAME:PDT
DTSTART:20200308T100000
END:DAYLIGHT
BEGIN:STANDARD
TZOFFSETFROM:-0700
TZOFFSETTO:-0800
TZNAME:PST
DTSTART:20201101T090000
END:STANDARD
END:VTIMEZONE
BEGIN:VEVENT
DTSTART;TZID=UTC:20190514T193000
DTEND;TZID=UTC:20190611T213000
DTSTAMP:20260420T193155
CREATED:20190329T021202Z
LAST-MODIFIED:20190329T021202Z
UID:50880-1557862200-1560288600@litseen.com
SUMMARY:Aysegül Savas
DESCRIPTION:Aysegül Savas discusses her new novel\, Walking on the Ceiling. \nPraise for Walking on the Ceiling \n“Ayşegül Savaş is an enormous new talent who writes with the rigor of Didion and the tenderness of Sebald. Walking on the Ceiling holds the immediacy of youth and the depth of long-earned wisdom at once. Its elegant voice is sure to summon old memories and longings from each reader\, relighting them anew.”\n—Catherine Lacey\, author of The Answers \n“In Walking on the Ceiling\, Aysegul Savas investigates the inability of any story to accurately evoke lived experience—yet her unconventional narrative succeeds in doing just that. Savas’s celebration of the minutest details of Paris and Istanbul is juxtaposed\, to devastating effect\, against rising political tensions. This quietly intense debut is the product of a wise and probing mind.”\n—Helen Phillips\, author of The Beautiful Bureaucrat \n“Walking on the Ceiling is an elegant meditation on grief\, identity\, memory and homecoming. Moving between Paris and Istanbul\, the novel captures the tangle of narrative around history\, both personal and collective. I fell in love with this book.”\n—Katie Kitamura\, author of A Separation \n“Sensual\, fragile\, scented with hope and loss\, Walking on the Ceiling is a powerful debut and Ayşegül Savaş is an extremely talented rising star.” —Dorthe Nors\, author of Mirror\, Shoulder\, Signal \nAbout Walking on the Ceiling \nA mesmerizing novel set in Paris and a changing Istanbul\, about a young Turkish woman grappling with her past – her country’s and her own – and her complicated relationship with the famous British writer who longs for her memories. \nAfter her mother’s death\, Nunu moves from Istanbul to a small apartment in Paris. One day outside of a bookstore\, she meets M.\, an older British writer whose novels about Istanbul Nunu has always admired. They find themselves walking the streets of Paris and talking late into the night. What follows is an unusual friendship of eccentric correspondence and long walks around the city. \nM. is working on a new novel set in Turkey and Nunu tells him about her family\, hoping to impress and inspire him. She recounts the idyllic landscapes of her past\, mythical family meals\, and her elaborate childhood games. As she does so\, she also begins to confront her mother’s silence and anger\, her father’s death\, and the growing unrest in Istanbul. Their intimacy deepens\, so does Nunu’s fear of revealing too much to M. and of giving too much of herself and her Istanbul away. Most of all\, she fears that she will have to face her own guilt about her mother and the narratives she’s told to protect herself from her memories. \nA wise and unguarded glimpse into a young woman’s coming into her own\, Walking on the Ceiling is about memory\, the pleasure of invention\, and those places\, real and imagined\, we can’t escape.
URL:https://litseen.com/event/aysegul-savas/
LOCATION:Green Apple Books on the Park\, 1231 9th Ave\, San Francisco \, CA\, 94122\, United States
CATEGORIES:Free,San Francisco
ATTACH;FMTTYPE=image/jpeg:https://litseen.com/wp-content/uploads/2019/03/walking.jpg
END:VEVENT
BEGIN:VEVENT
DTSTART;TZID=UTC:20190607T190000
DTEND;TZID=UTC:20190607T200000
DTSTAMP:20260420T193155
CREATED:20190502T002518Z
LAST-MODIFIED:20190502T002518Z
UID:51373-1559934000-1559937600@litseen.com
SUMMARY:Saretta Morgan and Asiya Wadud
DESCRIPTION:Friday\, Jun 07\, 2019 7:00 PM – 8:00 PM \nLocation: \nIn the basement of the store\n2476 Telegraph Ave.\, Berkeley \nWebsite \nSaretta Morgan is the author of the chapbooks\, Feeling Upon Arrival (Ugly Duckling Presse\, 2018) and room for a counter interior (Portable Press @ Yo-Yo Labs\, 2017) as well as a forthcoming full-length collection Plan Upon Arrival (Selva Oscura/Three Count Pour\, 2020). Her work considers privacy and physical space in narrative. Her most recent writing considers Black migration to the southwest\, particularly as it relates to natural resource management\, indigenous erasure and contemporary border policies. She has received fellowships and residencies from the Jerome Foundation\, Arizona Commission on the Arts\, Headlands Center for the Arts\, the Center for African American Poetry and Poetics and the Lower Manhattan Cultural Council\, among others. She lives in Phoenix\, Arizona where she volunteers with Mariposas Sin Fronteras and No More Deaths Phoenix. She teaches creative writing at Arizona State University. \nAsiya Wadud is the author of Crosslight for Youngbird\, published by Nightboat Books in 2018 and recently completed a collaboration of songs and poems\, day pulls down the sky… a filament in gold leaf\, with Okwui Okpokwasili. Her book Syncope (Ugly Duckling Presse) will be out later this year and No Knowledge Is Complete Until It Passes Through My Body will be out in 2020. She teaches poetry at Saint Ann’s School and leads an English conversation class for new immigrants at the Brooklyn Public Library.
URL:https://litseen.com/event/saretta-morgan-and-asiya-wadud/
LOCATION:Moe’s Books\, 2476 Telegraph Avenue\, BERKELEY\, 94704-2322
CATEGORIES:East Bay,Free
ATTACH;FMTTYPE=image/jpeg:https://litseen.com/wp-content/uploads/2019/05/moes.jpg
END:VEVENT
BEGIN:VEVENT
DTSTART;TZID=UTC:20190607T190000
DTEND;TZID=UTC:20190607T210000
DTSTAMP:20260420T193155
CREATED:20190501T230203Z
LAST-MODIFIED:20190501T230203Z
UID:51321-1559934000-1559941200@litseen.com
SUMMARY:Obi Kaufmann - - The State of Water
DESCRIPTION:EAST BAY BOOKSELLERS welcomes Obi Kaufmann to discuss his new new book The State of Water: Understanding Californi’as Most Precious Resource on Friday\, June 7 at 7pm. \nObi Kaufmann\, author of the best-selling California Field Atlas\, turns his artful yet analytical attention to the Golden State’s single most complex and controversial resource: water. In this new book\, full-color maps unravel the braided knot of California’s water infrastructure and ecosystems\, exposing a history of unlimited growth in spite of finite natural resources–a history that has led to its current precarious circumstances. Yet this built world depends upon the biosphere\, and in The State of Water Kaufmann argues that environmental conservation and restoration efforts are necessary not only for ethical reasons but also as a matter of human survival. Offering nine perspectives to illustrate the most pressing challenges facing California’s water infrastructure\, from dams to species revitalization\, Kaufmann reveals pragmatic yet inspiring solutions to how water in the West can continue to support agriculture\, municipalities\, and the environment. Interspersed throughout with trail paintings of animals that might yet survive under a caring and careful water ethic\, Kaufmann shows how California can usher in a new era of responsible water conservation\, and–perhaps most importantly–how we may do so together. \n  \n\n\n\n\nEvent date:\n\nFriday\, June 7\, 2019 – 7:00pm\n\n\n\nEvent address:\n\n\n\nEast Bay Booksellers\n5433 College Avenue\n\nOakland\, CA 94618
URL:https://litseen.com/event/obi-kaufmann-the-state-of-water/
LOCATION:East Bay Booksellers\, 5433 College Avenue\, Oakland\, 94618
CATEGORIES:East Bay,Free
ATTACH;FMTTYPE=image/jpeg:https://litseen.com/wp-content/uploads/2019/05/water.jpg
END:VEVENT
BEGIN:VEVENT
DTSTART;TZID=America/Los_Angeles:20190607T190000
DTEND;TZID=America/Los_Angeles:20190607T210000
DTSTAMP:20260420T193155
CREATED:20190603T143002Z
LAST-MODIFIED:20190603T143002Z
UID:51647-1559934000-1559941200@litseen.com
SUMMARY:After Hours - Naked Truth: real.stories.live.
DESCRIPTION:After Hours – Naked Truth: real.stories.live.\nFriday\, June 7th | 7:00pm \nWine reception at 6:30pm for registered guests. \nInternationally acclaimed comedian and storyteller Dhaya Lakshminarayanan emcees a night of engaging stories with JP Frary\, Trina Michelle Robinson\, Kathleen Auterio and Kyle Metzner. Throw your name in the hat to tell a one-minute story in the Lightning Round. \nKathleen Auterio is a heavy metal and horror movie fanatic in a constant battle with gravity and reality. When not disregarding medical advice to travel thousands of miles to see a concert\, she plays and records with her own band\, Beast of England. She’s recently told her stories from serious to absurd at The Moth GrandSlam\, Risk! Live show and Podcast\, Porchlight\, Fireside\, Spokespeople\, Bawdy\, and more. \nJP Frary designs and builds furniture in a shop on the old Naval Air Station in Alameda specializing in making beautiful things out of recycled materials. His stories can be heard in hardware stores and lumber yards throughout the Bay Area. JP won a Moth Story Slam with a story about trying to cross the Trinity Alps in mid-winter when he was eighteen. He failed. \nTrina Michelle Robinson is interested in exploring memory through video\, archival materials and text. Her video essay The Call has been exhibited in galleries and film festivals throughout the country. She has also told the story of exploring her ancestry on The Moth Mainstage at theaters in New York\, Portland\, OR and Westport\, CT. \nKyle Metzner is an educator\, craftsman\, and storyteller who lives in Oakland with his filmmaker wife and two daughters. He designed a project-based educational program which mixes dangerous power tools and fire with social justice and creativity. He is currently writing a book about how to use the power of storytelling to create more engaging classrooms. \nDhaya Lakshminarayanan’s accolades as an internationally recognized comedian include the 2016 Liz Carpenter Political Humor Award and Grand Prize Winner of ‘The Ultimate Comedy Challenge’ filmed in Singapore. Dhaya’s stories have appeared on NPR\, Snap Judgement and the Moth podcast. Dhaya also regularly acts as emcee at the monthly Moth StorySLAMs in San Francisco. \nAdults and high school students only. \nRegistration recommended. Click here to register. \nAdd to my:iCal/Outlook \nWhen:Friday\, June 7\, 2019 \nTime:7:00 PM – 9:00 PM \nWhere:Mill Valley Public Library – Main Reading Room\, 375 Throckmorton Ave\, Mill Valley\, California\, 94941 \nEvent Type:Library\, After Hours \nContact:(415) 389-4292
URL:https://litseen.com/event/after-hours-naked-truth-real-stories-live/
LOCATION:Main Reading Room\, Mill Valley Public Library\, 375 Throckmorton Ave\, Mill Valley \, CA\, 94941\, United States
CATEGORIES:Free,North Bay
ATTACH;FMTTYPE=image/jpeg:https://litseen.com/wp-content/uploads/2019/06/MVPL.jpg
ORGANIZER;CN="Mill Valley Public Library":MAILTO:abrenner@cityofmillvalley.org
END:VEVENT
END:VCALENDAR