BEGIN:VCALENDAR
VERSION:2.0
PRODID:-//Litseen - ECPv6.15.11//NONSGML v1.0//EN
CALSCALE:GREGORIAN
METHOD:PUBLISH
X-ORIGINAL-URL:https://litseen.com
X-WR-CALDESC:Events for Litseen
REFRESH-INTERVAL;VALUE=DURATION:PT1H
X-Robots-Tag:noindex
X-PUBLISHED-TTL:PT1H
BEGIN:VTIMEZONE
TZID:UTC
BEGIN:STANDARD
TZOFFSETFROM:+0000
TZOFFSETTO:+0000
TZNAME:UTC
DTSTART:20180101T000000
END:STANDARD
END:VTIMEZONE
BEGIN:VEVENT
DTSTART;TZID=UTC:20190615T140000
DTEND;TZID=UTC:20190615T150000
DTSTAMP:20260420T075454
CREATED:20190603T134943Z
LAST-MODIFIED:20190603T134943Z
UID:51505-1560607200-1560610800@litseen.com
SUMMARY:Clearly Meant presents Adam David Miller
DESCRIPTION:Adam David Miller reads his poems\,\nfollowed by an interview and discussion \nAdam David Miller has worked in northern California for four decades as a teacher\, writer\, poet\, editor\, publisher\, and radio and television producer. He has won many awards\, including the Bay Area Writing Project’s Teachers as Writers Lifetime Achievement Award. Elise Peeples will be joining her husband for this presentation. \nA free chapbook is available at Berkeley Public Library branches. Please pick one up!
URL:https://litseen.com/event/clearly-meant-presents-adam-david-miller/
LOCATION:Claremont Branch\, Berkeley Public Library\, 2940 Benvenue Ave\, Berkeley\, CA\, 94705\, United States
CATEGORIES:East Bay,Free
ATTACH;FMTTYPE=image/jpeg:https://litseen.com/wp-content/uploads/2019/05/ADM-with-flowers.jpg
ORGANIZER;CN="Glenn Ingersoll":MAILTO:gingersoll@cityofberkeley.info
END:VEVENT
END:VCALENDAR