BEGIN:VCALENDAR
VERSION:2.0
PRODID:-//Litseen - ECPv6.15.11//NONSGML v1.0//EN
CALSCALE:GREGORIAN
METHOD:PUBLISH
X-ORIGINAL-URL:https://litseen.com
X-WR-CALDESC:Events for Litseen
REFRESH-INTERVAL;VALUE=DURATION:PT1H
X-Robots-Tag:noindex
X-PUBLISHED-TTL:PT1H
BEGIN:VTIMEZONE
TZID:UTC
BEGIN:STANDARD
TZOFFSETFROM:+0000
TZOFFSETTO:+0000
TZNAME:UTC
DTSTART:20180101T000000
END:STANDARD
END:VTIMEZONE
BEGIN:VEVENT
DTSTART;TZID=UTC:20190616T094500
DTEND;TZID=UTC:20190616T230000
DTSTAMP:20260420T052921
CREATED:20190502T085015Z
LAST-MODIFIED:20190502T085015Z
UID:51420-1560678300-1560726000@litseen.com
SUMMARY:Bloomsday with Thomas Lynch
DESCRIPTION:Bloomsday with Thomas Lynch\nreading from Chapter Ten of James Joyce’s Ulysses recalling Dublin on June 16\, 1904 . \nJoin us for Guinness\, Irish soda bread and cheer! \nSunday\, June 16\, 2019 – 9:45am\nEvent address:\n2904 College Avenue\nBerkeley\, CA 94705
URL:https://litseen.com/event/bloomsday-with-thomas-lynch/
LOCATION:Mrs. Dalloway’s Bookstore\, 2904 College Ave\, Berkeley\, CA\, 94705\, United States
CATEGORIES:East Bay,Free
ATTACH;FMTTYPE=image/png:https://litseen.com/wp-content/uploads/2019/05/logo.png
END:VEVENT
END:VCALENDAR