BEGIN:VCALENDAR
VERSION:2.0
PRODID:-//Litseen - ECPv6.15.11//NONSGML v1.0//EN
CALSCALE:GREGORIAN
METHOD:PUBLISH
X-ORIGINAL-URL:https://litseen.com
X-WR-CALDESC:Events for Litseen
REFRESH-INTERVAL;VALUE=DURATION:PT1H
X-Robots-Tag:noindex
X-PUBLISHED-TTL:PT1H
BEGIN:VTIMEZONE
TZID:America/Los_Angeles
BEGIN:DAYLIGHT
TZOFFSETFROM:-0800
TZOFFSETTO:-0700
TZNAME:PDT
DTSTART:20190310T100000
END:DAYLIGHT
BEGIN:STANDARD
TZOFFSETFROM:-0700
TZOFFSETTO:-0800
TZNAME:PST
DTSTART:20191103T090000
END:STANDARD
BEGIN:DAYLIGHT
TZOFFSETFROM:-0800
TZOFFSETTO:-0700
TZNAME:PDT
DTSTART:20200308T100000
END:DAYLIGHT
BEGIN:STANDARD
TZOFFSETFROM:-0700
TZOFFSETTO:-0800
TZNAME:PST
DTSTART:20201101T090000
END:STANDARD
BEGIN:DAYLIGHT
TZOFFSETFROM:-0800
TZOFFSETTO:-0700
TZNAME:PDT
DTSTART:20210314T100000
END:DAYLIGHT
BEGIN:STANDARD
TZOFFSETFROM:-0700
TZOFFSETTO:-0800
TZNAME:PST
DTSTART:20211107T090000
END:STANDARD
END:VTIMEZONE
BEGIN:VEVENT
DTSTART;TZID=America/Los_Angeles:20200321T190000
DTEND;TZID=America/Los_Angeles:20200321T190000
DTSTAMP:20260425T162858
CREATED:20200216T041329Z
LAST-MODIFIED:20200216T041329Z
UID:55906-1584817200-1584817200@litseen.com
SUMMARY:ALAN KAUFMAN\, JOE CLIFFORD\, AND JOSHUA MOHR – NEW FICTION AT THE BEAT MUSEUM
DESCRIPTION:ALAN KAUFMAN\nAlan Kaufman is a novelist and memoirist known for his storytelling power and who’s been not only praised by everyone from Dave Eggers\, Etgar Keret and Sapphire to David Mamet\, Hubert Selby Jr. and Thane Rosenbaum but has been compared by critics to such prose masters as Henry Miller\, I.B. Singer and Jack Kerouac. His books include The Berlin Woman\, Matches\, Jew Boy\, Drunken Angel and several anthologies\, including The Outlaw Bible of American Poetry and The Outlaw Bible of American Art. \n\nJOE CLIFFORDJoe Clifford is the author of several books\, including Skunk Train\, The One That Got Away\, Junkie Love\, and the Jay Porter thriller series\, as well as editor of the anthologies Trouble in the Heartland: Crime Fiction Inspired by the Songs of Bruce Springsteen; Just to Watch Them Die: Crime Fiction Inspired by the Songs of Johnny Cash; and Hard Sentences\, which he co-edited. Joe’s writing can be found at joeclifford.com. \n\nJOSHUA MOHRJoshua Mohr is the author of five novels\, including Damascus\, which The New York Times called “Beat-poet cool.” He’s also written Fight Songand Some Things that Meant the World to Me\, one of O Magazine’s Top 10 reads of 2009 and a San Francisco Chronicle best-seller\, as well as Termite Parade\, an Editors’ Choice in The New York Times. His novel All This Life won the Northern California Book Award. He’s written a memoir\, Sirens\, and is under contract with FSG for the second installment. His next novel\, Get Rich\, will be published by FSG in winter 2021 and has already been optioned by Circle of Confusion Television Studios. Recently\, AMC bought his noir show.
URL:https://litseen.com/event/alan-kaufman-joe-clifford-and-joshua-mohr-new-fiction-at-the-beat-museum/
LOCATION:The Beat Museum\, 540 Broadway\, San Francisco \, CA\, 94133\, United States
CATEGORIES:Free,San Francisco
ATTACH;FMTTYPE=image/jpeg:https://litseen.com/wp-content/uploads/2019/10/beat.jpg
END:VEVENT
BEGIN:VEVENT
DTSTART;TZID=America/Los_Angeles:20200321T190000
DTEND;TZID=America/Los_Angeles:20200321T210000
DTSTAMP:20260425T162858
CREATED:20200312T211141Z
LAST-MODIFIED:20200312T211141Z
UID:56362-1584817200-1584824400@litseen.com
SUMMARY:THERE 32
DESCRIPTION:Saturday\, March 21 2020\, at East Bay Booksellers\, 5433 College Avenue in Oakland\, featuring Julia Flynn Siler\, Devi S. Laskar and Sunisa Manning\, plus musical guests Kate Brubeck with Geoff Van Lienden and Allen Samelson. \nTHERE was featured prominently in the San Francisco Chronicle! \nTHERE (THe Eastbay Reading Extravaganza) is a reading series showcasing emerging and established writers from Oakland and Berkeley\, with the occasional San Franciscan. For more than four years. Doug hosted it on the (usually) third Friday of each month at Octopus Literary Salon in Uptown Oakland. It also features a live original musical performance by a local musical artist at “halftime” of each month’s reading\, and Doug’s famous original LitQuiz literary trivia contest. It’s from 7:00-9:00pm. THERE has been putting the there back in Oakland since 2015! But sadly\, the Octopus was forced to close its doors in August ’19\, so now THERE is relocating to East Bay Booksellers in the Rockridge district of Oakland\, resuming February 22\, 2020.
URL:https://litseen.com/event/there-32-2/
LOCATION:East Bay Booksellers\, 5433 College Avenue\, Oakland\, 94618
CATEGORIES:East Bay,Free
ATTACH;FMTTYPE=image/png:https://litseen.com/wp-content/uploads/2020/03/image-12.png
END:VEVENT
BEGIN:VEVENT
DTSTART;TZID=America/Los_Angeles:20200321T190000
DTEND;TZID=America/Los_Angeles:20200321T213000
DTSTAMP:20260425T162858
CREATED:20200306T214718Z
LAST-MODIFIED:20200306T214718Z
UID:56263-1584817200-1584826200@litseen.com
SUMMARY:The Fire Thieves Honor Sacred Ground
DESCRIPTION:The 10th edition of the Fire Thieves makes it’s only foray into the East Bay at The Chapel at the Oakland Peace Center with featured performers Avotcja\, Thea Matthews\, Cassandra Dallett\, Christine No\, with guest performer Mahealani Uchiyama and more poets TBA. \nThe Fire Thieves is an inter-sectional & inter-generational poetry series produced by San Francisco poet laureate Kim Shuck\, with a different venue every month with 2 established poets\, 2 mid-career poets and 2 younger poets. \nThis event made possible by the Academy of American Poets with funds from the Andrew W. Mellon Foundation and Bird & Beckett Books. \nFire Thieves #10 event photo courtesy of Erik Calvino
URL:https://litseen.com/event/the-fire-thieves-honor-sacred-ground/
LOCATION:Oakland Peace Center\, 111 Fairmount Ave\, Oakland\, CA\, 94611
CATEGORIES:East Bay,Free
ATTACH;FMTTYPE=image/jpeg:https://litseen.com/wp-content/uploads/2020/03/The-Fire-Thieves-Honor-Sacred-Ground-.jpg
ORGANIZER;CN="The Fire Thieves":MAILTO:pabs67@yahoo.com
END:VEVENT
END:VCALENDAR