BEGIN:VCALENDAR
VERSION:2.0
PRODID:-//Litseen - ECPv6.15.11//NONSGML v1.0//EN
CALSCALE:GREGORIAN
METHOD:PUBLISH
X-WR-CALNAME:Litseen
X-ORIGINAL-URL:https://litseen.com
X-WR-CALDESC:Events for Litseen
REFRESH-INTERVAL;VALUE=DURATION:PT1H
X-Robots-Tag:noindex
X-PUBLISHED-TTL:PT1H
BEGIN:VTIMEZONE
TZID:America/Los_Angeles
BEGIN:DAYLIGHT
TZOFFSETFROM:-0800
TZOFFSETTO:-0700
TZNAME:PDT
DTSTART:20190310T100000
END:DAYLIGHT
BEGIN:STANDARD
TZOFFSETFROM:-0700
TZOFFSETTO:-0800
TZNAME:PST
DTSTART:20191103T090000
END:STANDARD
BEGIN:DAYLIGHT
TZOFFSETFROM:-0800
TZOFFSETTO:-0700
TZNAME:PDT
DTSTART:20200308T100000
END:DAYLIGHT
BEGIN:STANDARD
TZOFFSETFROM:-0700
TZOFFSETTO:-0800
TZNAME:PST
DTSTART:20201101T090000
END:STANDARD
BEGIN:DAYLIGHT
TZOFFSETFROM:-0800
TZOFFSETTO:-0700
TZNAME:PDT
DTSTART:20210314T100000
END:DAYLIGHT
BEGIN:STANDARD
TZOFFSETFROM:-0700
TZOFFSETTO:-0800
TZNAME:PST
DTSTART:20211107T090000
END:STANDARD
END:VTIMEZONE
BEGIN:VEVENT
DTSTART;TZID=America/Los_Angeles:20200322T130000
DTEND;TZID=America/Los_Angeles:20200322T150000
DTSTAMP:20260420T182711
CREATED:20200221T190545Z
LAST-MODIFIED:20200221T190545Z
UID:56040-1584882000-1584889200@litseen.com
SUMMARY:Book Celebration: Synchronicity by Tureeda Mikell
DESCRIPTION:Join us as we continue our Oakland celebration of Synchronicity: The Oracle of Sun Medicine by Tureeda Mikell at the nation’s oldest black bookstore\, Marcus Books. \nReadings by TBA. Music by TBA. \nDonations for Marcus Books and Nomadic Press will be gathered\, and no one will be turned away for lack of funds (NOTAFLOF).
URL:https://litseen.com/event/book-celebration-synchronicity-by-tureeda-mikell/
LOCATION:Marcus Books\, 3900 Martin Luther King Jr Way\, Oakland\, CA\, 94609\, United States
CATEGORIES:East Bay,Free
ATTACH;FMTTYPE=image/png:https://litseen.com/wp-content/uploads/2020/02/image-86.png
END:VEVENT
BEGIN:VEVENT
DTSTART;TZID=America/Los_Angeles:20200322T160000
DTEND;TZID=America/Los_Angeles:20200322T180000
DTSTAMP:20260420T182711
CREATED:20191231T204636Z
LAST-MODIFIED:20191231T204636Z
UID:54832-1584892800-1584900000@litseen.com
SUMMARY:My Life\, My Stories / Real life. Told by SF seniors.
DESCRIPTION:Join us for an evening of learning and listening\, hosted by My Life\, My Stories! The theme is Family. \nMy Life\, My Stories is a local non-profit that preserves the life legacies of older adults in our community. We match a volunteer with one older adult\, and over the course of several months\, the senior’s memories are recorded and transcribed into memoirs. We focus on helping underserved populations in the Bay Area including minorities\, immigrants\, homeless seniors\, vets\, and LGBTQ elders. \nOur volunteers hear inspiring\, heartbreaking\, and touching stories that\, otherwise\, would be left untold and lost forever. My Life\, My Stories wants to give older adults a public platform to share their amazing memories with the young SF community in a live event. You may be surprised with what you learn and how much you can relate to someone who may be decades older than you. \nCheck back soon for bios of each of our speakers. \nAll ticket sales go directly back to the organization. \n\nPlease note: this event will be held at The Bindery\, 1727 Haight. \nBar opens with the store at 2pm. Show starts at 4pm. \nRSVP appreciated but not required.
URL:https://litseen.com/event/my-life-my-stories-real-life-told-by-sf-seniors-4/
LOCATION:The Bindery\, 1727 Haight St\, San Francisco \, 94117\, United States
CATEGORIES:Free,San Francisco
ATTACH;FMTTYPE=image/jpeg:https://litseen.com/wp-content/uploads/2019/11/MLMS.jpg
END:VEVENT
BEGIN:VEVENT
DTSTART;TZID=America/Los_Angeles:20200322T190000
DTEND;TZID=America/Los_Angeles:20200322T203000
DTSTAMP:20260420T182711
CREATED:20200222T195112Z
LAST-MODIFIED:20200222T195112Z
UID:56127-1584903600-1584909000@litseen.com
SUMMARY:Omnidawn Spring Books 2020
DESCRIPTION:Our Omnidawn book parties are legendary! Join us to get a first look at their latest titles. Hear great readings and meet the poets: \nDesirée Alvarez RAFT OF FLAME\nwinner of Omnidawn’s Lake Merritt Book Prize\,\nselected by Hoa Nguyen \nhttps://www.omnidawn.com/product/raft-of-flame-desiree-alvarez/ \n“The poems in Raft of Flame address inheritance haunted by colonial violence and genocide. The ghosts in the archives speak inside the poems\, addressing heritage next to loss. ‘I don’t see my face\, owl says before soaring\, / as the future is born of slave and colonizer / on the ledge of the window.’ Here we have the mysteries of mixed culture through the art made by the artists of the ancient Americas and Spain. Here a speaker asks\, ‘I’m here to see where / I come from to stop the din of not knowing.’ The poems time-travel across regions\, cultures\, and centuries. Alvarez frets history\, speaks to historical image-making\, religion\, and art. The poems invent new perspectives\, speak in masks\, present cinematic panoplies\, are many-tongued\, always clear-eyed. Richly they assemble\, speak to story with mythic address as they sing and range. These poems are fire.”\n–Hoa Nguyen\, author of Violet Energy Ingots and Judge of Omnidawn’s Lake Merritt Prize\n~~~~~\nAnthony Cody BORDERLAND APOCRYPHA\nwinner of the Omnidawn 1st/2nd Book Prize\,\nselected by Mei-mei Berssenbrugge\nhttps://www.omnidawn.com/product/borderland-apocrypha/ \n“Read Cody’s investigations\, these beyond-poems\, the Treaty of Guadalupe Hidalgo of 1848\, Mexican Indian lands\, the untold occupations of America — as if you are hanging on that open-air killing tree. Notice the vortex of existence\, yours\, ours\, the trapezoids of punishments\, the dotted lines and splattered shapes of skin-text and the searing howls cut down the middle of the word bodies\, usurpation\, rape and theft bursting across the emptiness pages\, terminations and exiles pinned on the Race Grid. Open these scrolls and peer at half-humanity America cutting you down\, dangling — there is no wall after all\, just a mirror of executions\, “reach for the hand of a friend” “in a dream”\, you are the “savage captured\,” the “KickingSingingKickingSinging chant”\, you are the segmented ink-jitters on Cody’s pages\, you are the “atomic” Brown radiating yourself out of the 1850’s into this present of border mania. Read Cody ’s script\, like no other — a photo-zoom of tragic roots and revelations\, cartographies of “power and control\,” and the transcendence of innocent bodies\, somehow — American soul. Cody presents what has not been revealed\, what must be said. This one-of-a-kind-book settles all cases against all border-crossers. It is possible: a brave\, bold syntax\, an unseen intelligence of ourselves\, a new America. Bravo for these compassionate and brutal time-spaces\, this brisling land voice— an exemplar of a bursting literature. Everything starts over now.”\n—Juan Felipe Herrera\n~~~~~\nJennifer Hasegawa LA CHICA’S FIELD GUIDE TO BANZAI LIVING\nhttps://www.omnidawn.com/product/la-chicas-field-guide-to-banzai-living-jennifer-hasegawa/ \n“In the West\, the word “banzai” was mostly recognized as the WWII battle cry of kamikaze pilots\, but in truth\, the word literally means 10\,000 years and is associated with wishes for long life and celebration. It is a word that is both complex and compelling. The same could be said for the poems in Hasegawa’s La Chica’s Field Guide to Banzai Living. The collection takes us from Hawai‘i to the U.S. Continent to Babylon to outer space\, and Hasegawa’s use of story is both empowering and arresting. . . . What I admire most about Hasegawa’s poems is how she uses darkness to reveal what the world today desperately needs—the presence of light.”\n—Lisa Linn Kanae\, author of Sista Tongue\n~~~~~\nDavid Koehn SCATTERPLOT\nhttps://www.omnidawn.com/product/scatterplot-david-koehn/ \n“David Koehn’s Scatterplot is a book full of names and near-misses best described by its attention to narrative…when it is the narrative we associate with dreams! Or as Koehn himself says\, “I was stumbling around the aisles of a dream.” This line in particular has everything to do with what I love most about this book. Every poem throws itself headlong into litanies of images reminding us that\, even when we are lost or dying or anxious\, we are still very much alive.”\n—-Jericho Brown\, author of The Tradition\n~~~~~\nCraig Santos Perez HABITAT THRESHOLD\n(Rusty will present Craig’s work as he requested; he is very sorry not to be able to attend! HABITAT THRESHOLD will be available tonight for purchase)\nhttps://www.omnidawn.com/product/habitat-threshold-craig-santos-perez/ \n“Craig Santos Perez returns poetry to its ancient vocation: not only to sing of the dark times\, in a public voice\, but to sing in and against the darkness. Always exquisite in his attention to the placement of words for power\, beauty\, and insight\, with Habitat Threshold Perez raises poetry to earth magnitude: his pastorals\, odes\, sonnets\, haikus\, recyclings\, occasional verse\, lullabies\, and chants sing plainly and with great precision of the vast and intricate inequalities in and through which world-ecology enmeshes us. These are songs of protest\, to be recited in places of public debate and decision\, and to be learned by children\, but also love songs\, for family\, place\, plant and animal\, celebrating the many-hued lifeways of humans and their others. The poems find music in inconvenient truths\, with a sobering and detailed indictment of our Capitalocene footprint. Habitat Threshold asks us to change our lives: it is motivating\, necessary\, and inspiring work.” –Jonathan Skinner\, poet\, editor\, and founder of Ecopoetics.\n~~~~~\nLM Rivera AGAINST HEIDEGGER\n(LM Rivera has made a short film for the Moe’s/Omnidawn night attendees’ viewing pleasure and provocation. We are very grateful. AGAINST HEIDEGGER will be available tonight for purchase)\nhttps://www.omnidawn.com/product/against-heidegger-l-m-rivera/ \n“Offering unexpected sojourns in thinking\, Rivera’s whirlwind of well-weighted words is filled with surprising\, beautiful\, and haunting linguistic collisions and juxtapositions. Rivera’s postmodern poetry helps disclose what Heidegger meant when he proclaimed that we don’t speak language; language speaks us. I thus hear Rivera’s ‘against’ less as ‘opposed to’ and more as ‘leaning on’—leaning on or into ‘an abundant emptiness’—in the quest to go further\, ‘again and again\,’ into those questions we grow into and beyond\, as the answers we embody generate new questions\, opening pathways perhaps (‘with all ambiguity intact’) into a future we might still share.”\n–Iain Thomson\, author of Heidegger\, Art\, and Postmodernity
URL:https://litseen.com/event/omnidawn-spring-books-2020/
LOCATION:Moe’s Books\, 2476 Telegraph Ave\, Berkeley\, 94704
CATEGORIES:East Bay,Free
ATTACH;FMTTYPE=image/jpeg:https://litseen.com/wp-content/uploads/2020/02/Omnidawn-Spring-Books-2020-1.jpg
END:VEVENT
END:VCALENDAR