BEGIN:VCALENDAR
VERSION:2.0
PRODID:-//Litseen - ECPv6.15.11//NONSGML v1.0//EN
CALSCALE:GREGORIAN
METHOD:PUBLISH
X-ORIGINAL-URL:https://litseen.com
X-WR-CALDESC:Events for Litseen
REFRESH-INTERVAL;VALUE=DURATION:PT1H
X-Robots-Tag:noindex
X-PUBLISHED-TTL:PT1H
BEGIN:VTIMEZONE
TZID:America/Los_Angeles
BEGIN:DAYLIGHT
TZOFFSETFROM:-0800
TZOFFSETTO:-0700
TZNAME:PDT
DTSTART:20190310T100000
END:DAYLIGHT
BEGIN:STANDARD
TZOFFSETFROM:-0700
TZOFFSETTO:-0800
TZNAME:PST
DTSTART:20191103T090000
END:STANDARD
BEGIN:DAYLIGHT
TZOFFSETFROM:-0800
TZOFFSETTO:-0700
TZNAME:PDT
DTSTART:20200308T100000
END:DAYLIGHT
BEGIN:STANDARD
TZOFFSETFROM:-0700
TZOFFSETTO:-0800
TZNAME:PST
DTSTART:20201101T090000
END:STANDARD
BEGIN:DAYLIGHT
TZOFFSETFROM:-0800
TZOFFSETTO:-0700
TZNAME:PDT
DTSTART:20210314T100000
END:DAYLIGHT
BEGIN:STANDARD
TZOFFSETFROM:-0700
TZOFFSETTO:-0800
TZNAME:PST
DTSTART:20211107T090000
END:STANDARD
END:VTIMEZONE
BEGIN:VEVENT
DTSTART;TZID=America/Los_Angeles:20200418T160000
DTEND;TZID=America/Los_Angeles:20200418T160000
DTSTAMP:20260421T235046
CREATED:20200412T221719Z
LAST-MODIFIED:20200412T221719Z
UID:56714-1587225600-1587225600@litseen.com
SUMMARY:Khaled Hosseini In Conversation With Book Passage’s Elaine Petrocelli
DESCRIPTION:Live: Saturday\, April 18th\, 7:00est/4:00pst\n\n\n\n\n\nIn March 2001\, while practicing medicine\, Khaled Hosseini began writing his first novel\, The Kite Runner\, which was published by Riverhead Books in 2003. That debut went on to launch one of the biggest literary careers of our time. Today\, Khaled is one of the most recognized and bestselling authors in the world. His books\, The Kite Runner\, A Thousand Splendid Suns\, and And the Mountains Echoed\, have been published in over seventy countries and sold more than 40 million copies worldwide. \nIn 2006 Khaled was appointed a Goodwill Ambassador for UNHCR\, the UN Refugee Agency. Inspired by a trip he made to Afghanistan with the UNHCR\, he later established The Khaled Hosseini Foundation\, a nonprofit\, which provides humanitarian assistance to the people of Afghanistan. He lives in Northern California with his wife and two children. \n\n\n\n\n\n\n\n\n\n\n“It may be unfair\, but what happens in a few days\, sometimes even a single day\, can change the course of a whole lifetime…”\n– The Kite Runner
URL:https://litseen.com/event/khaled-hosseini-in-conversation-with-book-passages-elaine-petrocelli/
LOCATION:CA
CATEGORIES:Free,Virtual
ATTACH;FMTTYPE=image/png:https://litseen.com/wp-content/uploads/2020/04/Screen-Shot-2020-04-12-at-3.16.49-PM.png
END:VEVENT
BEGIN:VEVENT
DTSTART;TZID=America/Los_Angeles:20200418T190000
DTEND;TZID=America/Los_Angeles:20200418T210000
DTSTAMP:20260421T235046
CREATED:20200312T201155Z
LAST-MODIFIED:20200312T201155Z
UID:56339-1587236400-1587243600@litseen.com
SUMMARY:Collected Poems of Bob Kaufman: A celebration on his 95th birthday—poetry and jazz
DESCRIPTION:In celebration of the recent publication of the Collected Poems of Bob Kaufman\, edited by Neeli Cherkovski\, Raymond Foye\, and Tate Swindell\, by City Lights Books\, we’re assembling a gathering of poets\, artists\, and musicians on what would be the late poet’s 95th birthday. Hosted by McRoskey Mattress Co.\, in their wonderful 3rd floor loft space\, and co-sponsored by The Poetry Center\, City Lights Books\, and The Green Arcade\, this event is free and open to the public. Please join us. Photo of Bob Kaufman by A.D. Winans. \n“He was an original voice. No one else talked like him. No one else wrote poetry like him.”––Lawrence Ferlinghetti \nBob Kaufman (April 18\, 1925\, New Orleans\, LA – January 12\, 1986) was one of the most important—and most original—poets of the twentieth century. He is among the inaugurators of what today is characterized as the Afro-Surreal\, uniting the surrealist practice of automatic writing with the jazz concept of spontaneous composition. He seldom wrote his poems down and often discarded those he did\, leaving them to be rescued by others. He was also a legendary figure of the Beat Generation\, known as much for hopping on tables to declaim his poetry as for maintaining a monastic silence for months or even years at a time. \nKaufman produced just three broadsides and three books in his lifetime. In 1967\, Golden Sardine was published by City Lights in its famed Pocket Poets Series\, and became an instant cult classic. Collected Poems is a landmark poetic achievement\, bringing together all of Kaufman’s known surviving poems\, including an extensive section of previously uncollected work\, in a long overdue return to City Lights Books. \nMusicians: Bruce Ackley and Aurora Josephson (performing Steve Lacy’s songs to Bob Kaufman’s poems); Hafez Modirzadeh\, Francis Wong\, David Boyce \nPoets and other artists: Josiah Luis Adelberte\, Will Alexander\, Arlene Biala\, James Cagney\, MK Chavez\, Neeli Cherkovski\, Dewey Crumpler\, Justin Desmangles\, Duane Deterville\, Tongo Eisen-Martin\, Agneta Falk\, C.S. Giscombe\, Leticia Hernández-Linares\, Jack Hirschman\, Sarah Menefee\, Alejandro Murguía\, Jevohn Newsome\, Barbara Jane Reyes\, Kim Shuck; Tate Swindell with Jessica Loos\, Niko Van Dyke\, and Michael Young (reading “Second April”); Sunnylyn Thibodeaux\, A.D. Winans \n  \n\n“With this magnetic new unveiling\, Bob Kaufman trenchantly sunders endemic retrocausal error and neglect that has casted his fate into a secondary enclave of lesser mastery. To set the story straight it was his spirit that helped sire the Ginsberg that we know and not vice versa. It was he who magically hoisted the invisible umbrella under which Kerouac and others such as Corso were enabled to protractedly flourish. Arrested 39 times for poetic brilliance via bravura he was the absolute contrary of the sterile academic scrounging for golden verbal eggs. Never concerned with immediate notoriety he passed across unerring emptiness as a poetic lahar sweeping in all directions at once. He volcanically en-veined the Beats as a mirage enveloped Surrealist; not as a formal poet\, but one\, like Rimbaud\, who embodied butane. Following the scent of his butane on one anonymous North Beach afternoon led Philip Lamantia to audibly utter to me that Bob Kaufman as per incandescent singularity is ‘our poet.'” —Will Alexander\n“Bob Kaufman is one of our most vulnerable\, mysterious\, and beautiful poets\, a nomadic maudit\, surrealist saint of the streets\, votary of silence\, the consummate Outrider with trickster imagination and visionary power. What does it take to be such a poet-man\, veils/layers of existence laced with hardship\, suffering? Not many like this anymore. The Black American Rimbaud\, as he was christened in France. His poems make me weep and bow with humility and wonder. I last saw him\, shape-shifting shaman on Ken Kesey’s stage in Oregon\, swirling in a torque of rage\, enlightenment\, and prescience. Pure product of America’s madness: fury and tenderness. The writing is complex and lays its soul-baring down on jazz-inflected syllables and riffs for all to read and tremble within. No serious canon is complete without this insistent rhythm\, poetic acuity\, and a body’s last resort to sing.” —Anne Waldman\n“Uplifting the voice of this under-sung literary master to future’s light is the mission of the Collected Poems of Bob Kaufman. This poet’s poet on the cliff edge of no ledge is still continuing to foster new surrealizations. Read this bebopian wordsmith\, his pen turned saxophone and ink notes that are black tears.” —Kamau Daáood\n“In collecting Bob Kaufman’s work\, the editors have sought to bind earthquakes with book paste. These pages vibrate\, a pulse not from way out\, but from way in this strange\, strange country. Wearing the poet’s trembling\, subterranean eyes\, I see the dirt of imperial graves\, grocery store corpses\, swank gas chambers\, and bomb shelters cut an inverted skyline against a too orange American sun. Blinking\, I look up and the real sun seems just as radioactive\, which is perhaps what leaves me the most shaken. To call these poems ‘surreal’ seems\, now\, to muffle Kaufman’s prophetic genius. He saw us\, our images in pools of blood\, milk\, and saxophone spittle. Maybe it was ever our shivering made the ripples that distorted the reflections.” —Douglas Kearney\n“Collected Poems of Bob Kaufman should finally liberate the kaleidoscopic surrealism of this San Franciscan\, and in many respects\, secular Franciscan\, poet from the shadows of Allen Ginsberg and the other Beats. While poems like ‘Night Sung Sailor’s Prayer’ and ‘Believe\, Believe’ presage both the linguistic flights of Will Alexander and the affirmative exuberance of Ross Gay\, the bulk of the book hearkens back to familiar figures like Blake\, Apollinaire\, and Artaud. In the end\, of course\, Bob Kaufman is Bob Kaufman\, and as this collection confirms\, the poems tend to extremes\, lurching between the sweeping force of a tornado (e.g.\, ‘The American Sun’ and ‘The Ancient Rain’) and the precision of a stiletto (e.g.\, “Demolition” and ‘I Am A Camera’). Kaufman’s libertarian tendencies (see\, for example\, ‘Abomunist Manifesto’) made him a largely apolitical\, if compassionate poet\, but what comes through above all else is a human being beset by the furies and desires he/she unleashed. Collected Poems of Bob Kaufman is a memoriam of unmitigated joy and abysmal despair.” —Tyrone Williams\n\n  \n\n\n\n\n\n\nFeatured: \nCollected Poems of Bob Kaufman\, edited by Neeli Cherkovski\, Raymond Foye\, and Tate Swindell (City Lights Booksellers and Publishers) \nThe world finally catches up to Bob Kaufman\, unsung hero of Beat Generation (by Denise Sullivan\, November 1\, 2019) \n\n\n\n\nEvent contact:\n\nThe Poetry Center\n\n\n\nEvent email:\n\npoetry@sfsu.edu\n\n\n\nEvent phone:\n\n415-338-2227\n\n\n\nEvent sponsor:\n\nThe Poetry Center and The Green Arcade
URL:https://litseen.com/event/collected-poems-of-bob-kaufman-a-celebration-on-his-95th-birthday-poetry-and-jazz/
LOCATION:3rd Floor McRoskey Mattress Loft\, 1687 Market Street\, San Francisco\, 94103
CATEGORIES:Free,San Francisco
ATTACH;FMTTYPE=image/png:https://litseen.com/wp-content/uploads/2020/03/image-5.png
END:VEVENT
END:VCALENDAR