BEGIN:VCALENDAR
VERSION:2.0
PRODID:-//Litseen - ECPv6.15.11//NONSGML v1.0//EN
CALSCALE:GREGORIAN
METHOD:PUBLISH
X-WR-CALNAME:Litseen
X-ORIGINAL-URL:https://litseen.com
X-WR-CALDESC:Events for Litseen
REFRESH-INTERVAL;VALUE=DURATION:PT1H
X-Robots-Tag:noindex
X-PUBLISHED-TTL:PT1H
BEGIN:VTIMEZONE
TZID:America/Los_Angeles
BEGIN:DAYLIGHT
TZOFFSETFROM:-0800
TZOFFSETTO:-0700
TZNAME:PDT
DTSTART:20190310T100000
END:DAYLIGHT
BEGIN:STANDARD
TZOFFSETFROM:-0700
TZOFFSETTO:-0800
TZNAME:PST
DTSTART:20191103T090000
END:STANDARD
BEGIN:DAYLIGHT
TZOFFSETFROM:-0800
TZOFFSETTO:-0700
TZNAME:PDT
DTSTART:20200308T100000
END:DAYLIGHT
BEGIN:STANDARD
TZOFFSETFROM:-0700
TZOFFSETTO:-0800
TZNAME:PST
DTSTART:20201101T090000
END:STANDARD
BEGIN:DAYLIGHT
TZOFFSETFROM:-0800
TZOFFSETTO:-0700
TZNAME:PDT
DTSTART:20210314T100000
END:DAYLIGHT
BEGIN:STANDARD
TZOFFSETFROM:-0700
TZOFFSETTO:-0800
TZNAME:PST
DTSTART:20211107T090000
END:STANDARD
END:VTIMEZONE
BEGIN:VEVENT
DTSTART;TZID=America/Los_Angeles:20200428T190000
DTEND;TZID=America/Los_Angeles:20200428T200000
DTSTAMP:20260421T234733
CREATED:20200407T225757Z
LAST-MODIFIED:20200407T225757Z
UID:56636-1588100400-1588104000@litseen.com
SUMMARY:Queer Your Darlings Zoom Reading
DESCRIPTION:Please join us in celebrating National Poetry Month with a reading of our li’l poetry writing group\, Queer Your Darlings. 7pm April 28\, 2020 on Zoom–just click this link to join: https://sjsu.zoom.us/j/385485173 \nTiff Dressen lives in the Portola neighborhood of San Francisco. Songs from the Astral Bestiary (https://www.amazon.com/Songs-Astral-Bestiary-Tiff-Dressen/dp/1889098132)\, a (slender) full-length collection of poetry emerged from lyric& Press in 2014. In 2019\, they played the role of Earl of Kent in the Milkwood Theater’s production of King Lear. In their spare time\, they enjoy urban flâneuring\, chasing their cats in the backyard\, and setting type and printing at the SF Center for the Book. \nMichael Tod Edgerton is the author of Vitreous Hide (Lavender Ink: https://www.lavenderink.org/site/shop/vitreous-hide/?v=76cb0a18730b). His poems have appeared in Boston Review\, Coconut\, Denver Quarterly\, Drunken Boat\, EOAGH\, Interim\, New American Writing\, Posit\, and Sonora Review\, among other journals. He holds an MFA from Brown University and a PhD from the University of Georgia. He teaches in the Department of English and Comparative Literature at San Jose State University and lives with his husband in San Francisco. More info can be found on his website at https://michaeltodedgerton.blogspot.com/ \nMegan Breiseth is the author of the chapbook Zia (Mrs. Maybe Press)\, co-author of the chapbook the longer you stay here (Featherboard) and a full-length manuscript-in-progress. She works in higher ed and lives in Alameda\, CA with her wife\, son\, and cats. \nAlexandra Mattraw is the author of small siren and We fell into weather (Cultural Society\, 2018 and March 2020\, respectively)\, as well as several chapbooks\, including flood psalm (Dancing Girl Press\, 2017). A mother\, critic\, and ecofeminist\, her poems and reviews have appeared in places including Denver Quarterly\, The Poetry Project\, VOLT\, and The Volta. In San Francisco\, she curates a reading and performance series called Lone Glen. Consider her books\, and Zoom release events\, set for 11 April and 21 April\, at https://alexandramattraw.com/
URL:https://litseen.com/event/queer-your-darlings-zoom-reading/
LOCATION:CA
CATEGORIES:Free,Virtual
ATTACH;FMTTYPE=image/jpeg:https://litseen.com/wp-content/uploads/2020/04/Queer-Your-Darlings-Zoom-Reading-.jpg
END:VEVENT
BEGIN:VEVENT
DTSTART;TZID=America/Los_Angeles:20200428T190000
DTEND;TZID=America/Los_Angeles:20200428T203000
DTSTAMP:20260421T234733
CREATED:20191227T024015Z
LAST-MODIFIED:20191227T024015Z
UID:54512-1588100400-1588105800@litseen.com
SUMMARY:Ali Warren
DESCRIPTION:celebrating the release of \nLittle Hill \npublished by City Lights Books \n\nAward-winning poet explores new formal terrain in seven long poems against the violence of the present political moment. \nThe third full-length collection from Bay Area poet Alli Warren\, Little Hill comprises seven long poems written with propulsive prosody in a daybook fashion\, examining our present\, politically charged moment. These poems are at once energetic and contemplative\, intimate and direct\, as Warren focuses her attention on capitalism\, gender\, love\, inequality\, and resistance. Despite the dystopian now\, Warren finds promise in the smallest human instances of tenderness\, ecological connection\, and political solidarity. Little Hill is about learning to live and love in the 21st century while not shying away from all there is to struggle against. \n“[Warren] has begun writing longer poems\, putting her stamp on a running notational mode whose other practitioners include Stephanie Young\, Anselm Berrigan\, and Jacqueline Waters. I think you can hear the durational projects\, the self-conscious day-scores\, of Bernadette Mayer and of Lewis Warsh farther back in the tradition.”—Brian Blanchfield\, pen.org \nPraise for Little Hill: \n“In Little Hill Alli Warren’s principle method is articulation of exquisite units of speech (thought) that\, maintaining separation\, are capable of connection. The line might be a sentence or a part of one . . . I mean a delicious sense of grammatical distinctness is maintained. The poet\, also a lone unit\, seems to exist less in relation than as that lone one\, condemning this hard world with its villain work and elusive hierarchies. The language is precise\, lush\, unexpected and often thrilling. Articulation would seem to be the true other\, or maybe nature is. The book is gift more than condemnation\, though as the latter it’s unsparing. Still\, it’s a gift.”––Alice Notley\, author of For the Ride and Benediction \n“The number of gasps and everything else gets lost in the concentration of Little Hill. Alli Warren keeps company with those rare poets whose every new book is their best. ‘This is an old machine with a pulley / It makes music work\,’ Warren writes\, reworking the ancient technology of poetry to a shine! Dear Poet\, thank you for the wow WOW wowing!”––CAConrad\, author of While Standing in Line for Death \n“Reading Alli Warren’s Little Hill\, I find it incredible that amidst the relentless circulation of capital and commodities—and despite attempts to make all life yield to the logics of extraction\, work\, accumulation\, and the entrepreneurial self—a remainder is created\, that of poetry. Little Hill embodies a poetics of radical uncertainty\, one that attends to its horrific condition of possibility and is produced through the unmooring catastrophes that define our present moment: the destruction of the earth\, mass imprisonment\, late-capitalism—the litany does not end there. ‘I saw the death of the earth in a child’s toy\,’ she writes. Everywhere the speaker looks there is ‘congealed shit\, sometimes on sale.’ Yet yearning\, even as it is raised tentatively\, is not crushed. In and against it all\, a question is raised—the question of what it means to love in times of terror.”—Jackie Wang\, author of Carceral Capitalism
URL:https://litseen.com/event/ali-warren/
LOCATION:City Lights Bookstore\, 261 Columbus Ave\, San Francisco \, CA\, 94133\, United States
CATEGORIES:Free,San Francisco
ATTACH;FMTTYPE=image/jpeg:https://litseen.com/wp-content/uploads/2019/12/Little-Hill.jpg
END:VEVENT
BEGIN:VEVENT
DTSTART;TZID=America/Los_Angeles:20200428T193000
DTEND;TZID=America/Los_Angeles:20200428T210000
DTSTAMP:20260421T234733
CREATED:20191231T203450Z
LAST-MODIFIED:20191231T203450Z
UID:54758-1588102200-1588107600@litseen.com
SUMMARY:John Kaag: Sick Souls\, Healthy Minds
DESCRIPTION:John Kaag discusses his new book\, Sick Souls\, Healthy Minds: How William James Can Save Your Life. \nPraise for Sick Souls\, Healthy Minds \n“Kaag’s reading of James is as elucidating as readers have come to expect from him. Once again\, he writes in a clear\, focused\, and winningly self-aware style that makes friends of James and himself for anyone who wonders if life is worth living. A book in which Kaag further carves out his niche in philosophy: personal\, practical\, and crucial.”– Kirkus Reviews \n“Not since Robert Pirsig’s Zen and the Art of Motorcycle Maintenance have I read such a mesmerizing confluence of personal experience and formal thought as John Kaag’s American Philosophy: A Love Story. That combination is on display again in his Sick Souls\, Healthy Minds—a brief and powerful book about one of America’s most profound minds\, William James\, and what he can teach us about what makes life worth living.”―Robert D. Richardson\, author of William James: In the Maelstrom of American Modernism \n“In this beautifully written book\, which is filled with bracing insights\, John Kaag shows why William James has had a deep\, life-altering\, therapeutic effect on his readers over the past century—and can continue to have the same effect on new readers today.”—Jennifer Ratner-Rosenhagen\, author of American Nietzsche: A History of an Icon and His Ideas \nAbout Sick Souls\, Healthy Minds \nIn 1895\, William James\, the father of American philosophy\, delivered a lecture entitled “Is Life Worth Living?” It was no theoretical question for James\, who had contemplated suicide during an existential crisis as a young man a quarter century earlier. Indeed\, as John Kaag writes\, “James’s entire philosophy\, from beginning to end\, was geared to save a life\, his life”—and that’s why it just might be able to save yours\, too. Sick Souls\, Healthy Minds is a compelling introduction to James’s life and thought that shows why the founder of pragmatism and empirical psychology—and an inspiration for Alcoholics Anonymous—can still speak so directly and profoundly to anyone struggling to make a life worth living. \nKaag tells how James’s experiences as one of what he called the “sick-souled\,” those who think that life might be meaningless\, drove him to articulate an ideal of “healthy-mindedness”—an attitude toward life that is open\, active\, and hopeful\, but also realistic about its risks. In fact\, all of James’s pragmatism\, resting on the idea that truth should be judged by its practical consequences for our lives\, is a response to\, and possible antidote for\, crises of meaning that threaten to undo many of us at one time or another. Along the way\, Kaag also movingly describes how his own life has been endlessly enriched by James. \nEloquent\, inspiring\, and filled with insight\, Sick Souls\, Healthy Minds may be the smartest and most important self-help book you’ll ever read.
URL:https://litseen.com/event/john-kaag-sick-souls-healthy-minds/
LOCATION:Green Apple Books on the Park\, 1231 9th Ave\, San Francisco \, CA\, 94122\, United States
CATEGORIES:Free,San Francisco
ATTACH;FMTTYPE=image/jpeg:https://litseen.com/wp-content/uploads/2019/12/John-Kaag.jpg
END:VEVENT
BEGIN:VEVENT
DTSTART;TZID=America/Los_Angeles:20200428T193000
DTEND;TZID=America/Los_Angeles:20200428T210000
DTSTAMP:20260421T234733
CREATED:20191231T203551Z
LAST-MODIFIED:20191231T203551Z
UID:54760-1588102200-1588107600@litseen.com
SUMMARY:Aaron Smith: The Book of Daniel
DESCRIPTION:Aaron Smith discusses his new poetry collection\, The Book of Daniel\, with sam sax and Randall Mann. \nPraise for The Book of Daniel \n“Smith’s poems expound a complicated and distinctly queer relationship to beauty. . . . He levels a caustic wit at the pantheons of pop culture and modern poetry\, but also strikes resounding notes of hurt and rage at homophobia\, misogyny\, rejection\, and loss.”\n–The New Yorker \n“Aaron Smith writes with arresting\, melancholy literalness about bruises\, exaltations\, arousals\, delectations\, and defeats. He doesn’t mess around with filigree. He sticks to abject delineation\, punchy straightforwardness—a new way of being formal and naked. I believe in these gripping poems\, and in their message to the world.”– Wayne Koestenbaum \n“‘Does anyone have / a poem to Cher?’ I doubt it’s as honest or fresh as the poems in The Book of Daniel. Can a poet be as well-versed in Plath\, Lorde\, Olds\, and Baraka as he is in celebrity and pop culture? Spoiler alert: hell\, yeah. With the gift of a high-speed Internet connection\, Smith maneuvers the confusing messages of grief\, rejection\, and\, yes\, contemporary poetry. Poets beware: you are not off the hook. Smith brilliantly challenges everything you hold sacred.”– Yona Harvey \nAbout The Book of Daniel \nA tour de force\, Aaron Smith’s fourth collection of poetry\, The Book of Daniel\, resists the easy satisfactions of Beauty while managing the contemporary entanglements of art\, sex\, and grief. Part pop-thriller\, part queer rage\, and part mourning\, these poems depict not only the complications of representation in the age of social media but a critique of identity. Taking on subjects as diverse as the literary canon\, his mother’s incurable cancer diagnosis\, gay bashing\, celebrity gossip\, bigotry\, violence on TV\, and Alexander McQueen’s suicide\, Smith proves that the confessional lyric is not dead. In tangents as wild as they are reigned\, with his characteristic blend of directness\, vulnerability and humor\, these poems take on the world as it is\, a world we love even as it resists all intimacy. \n 
URL:https://litseen.com/event/aaron-smith-the-book-of-daniel/
LOCATION:Green Apple Books on the Park\, 1231 9th Ave\, San Francisco \, CA\, 94122\, United States
CATEGORIES:Free,San Francisco
ATTACH;FMTTYPE=image/jpeg:https://litseen.com/wp-content/uploads/2019/12/Smith.jpg
END:VEVENT
END:VCALENDAR