BEGIN:VCALENDAR
VERSION:2.0
PRODID:-//Litseen - ECPv6.15.11//NONSGML v1.0//EN
CALSCALE:GREGORIAN
METHOD:PUBLISH
X-WR-CALNAME:Litseen
X-ORIGINAL-URL:https://litseen.com
X-WR-CALDESC:Events for Litseen
REFRESH-INTERVAL;VALUE=DURATION:PT1H
X-Robots-Tag:noindex
X-PUBLISHED-TTL:PT1H
BEGIN:VTIMEZONE
TZID:America/Los_Angeles
BEGIN:DAYLIGHT
TZOFFSETFROM:-0800
TZOFFSETTO:-0700
TZNAME:PDT
DTSTART:20190310T100000
END:DAYLIGHT
BEGIN:STANDARD
TZOFFSETFROM:-0700
TZOFFSETTO:-0800
TZNAME:PST
DTSTART:20191103T090000
END:STANDARD
BEGIN:DAYLIGHT
TZOFFSETFROM:-0800
TZOFFSETTO:-0700
TZNAME:PDT
DTSTART:20200308T100000
END:DAYLIGHT
BEGIN:STANDARD
TZOFFSETFROM:-0700
TZOFFSETTO:-0800
TZNAME:PST
DTSTART:20201101T090000
END:STANDARD
BEGIN:DAYLIGHT
TZOFFSETFROM:-0800
TZOFFSETTO:-0700
TZNAME:PDT
DTSTART:20210314T100000
END:DAYLIGHT
BEGIN:STANDARD
TZOFFSETFROM:-0700
TZOFFSETTO:-0800
TZNAME:PST
DTSTART:20211107T090000
END:STANDARD
END:VTIMEZONE
BEGIN:VEVENT
DTSTART;TZID=America/Los_Angeles:20200607T160000
DTEND;TZID=America/Los_Angeles:20200607T180000
DTSTAMP:20260419T102754
CREATED:20200523T170118Z
LAST-MODIFIED:20200523T170118Z
UID:57760-1591545600-1591552800@litseen.com
SUMMARY:Kathy Evans - Trespassers Welcome
DESCRIPTION:Kathy Evans’s full-length debut\, Trespassers Welcome\, is an extravaganza of imaginative leaps\, bounds\, and deep dives\, a worldwide web of seemingly unlikely but delightfully believable connections—from the everyday to the unexpected. Her work is profoundly playful and playfully profound–no mean feat in these parlous times. \nKathy Evans\, a Marin County resident\, just recently released her latest poetry collection\, Trespassers Welcome\, from Bluelight Press. She is the author of three other books of poetry\, including Hunger and Sorrow\, which won the Small Press Poetry prize\, and was Artist-in-Residence at The Headlands Center for the Arts.  She has brought poetry into classrooms all over the Bay Area and is currently poet-in-residence at The Benioff Children’s Hospital in San Francsico and Oakland.
URL:https://litseen.com/event/kathy-evans-trespassers-welcome/
LOCATION:Book Passage Corte Madera\, 51 Tamal Vista Blvd.\, Corte Madera\, CA\, 94925\, United States
CATEGORIES:Free
ATTACH;FMTTYPE=image/png:https://litseen.com/wp-content/uploads/2020/05/evansKathy_cover.png
END:VEVENT
END:VCALENDAR