BEGIN:VCALENDAR
VERSION:2.0
PRODID:-//Litseen - ECPv6.15.11//NONSGML v1.0//EN
CALSCALE:GREGORIAN
METHOD:PUBLISH
X-WR-CALNAME:Litseen
X-ORIGINAL-URL:https://litseen.com
X-WR-CALDESC:Events for Litseen
REFRESH-INTERVAL;VALUE=DURATION:PT1H
X-Robots-Tag:noindex
X-PUBLISHED-TTL:PT1H
BEGIN:VTIMEZONE
TZID:America/Los_Angeles
BEGIN:DAYLIGHT
TZOFFSETFROM:-0800
TZOFFSETTO:-0700
TZNAME:PDT
DTSTART:20190310T100000
END:DAYLIGHT
BEGIN:STANDARD
TZOFFSETFROM:-0700
TZOFFSETTO:-0800
TZNAME:PST
DTSTART:20191103T090000
END:STANDARD
BEGIN:DAYLIGHT
TZOFFSETFROM:-0800
TZOFFSETTO:-0700
TZNAME:PDT
DTSTART:20200308T100000
END:DAYLIGHT
BEGIN:STANDARD
TZOFFSETFROM:-0700
TZOFFSETTO:-0800
TZNAME:PST
DTSTART:20201101T090000
END:STANDARD
BEGIN:DAYLIGHT
TZOFFSETFROM:-0800
TZOFFSETTO:-0700
TZNAME:PDT
DTSTART:20210314T100000
END:DAYLIGHT
BEGIN:STANDARD
TZOFFSETFROM:-0700
TZOFFSETTO:-0800
TZNAME:PST
DTSTART:20211107T090000
END:STANDARD
END:VTIMEZONE
BEGIN:VEVENT
DTSTART;TZID=America/Los_Angeles:20200627T150000
DTEND;TZID=America/Los_Angeles:20200627T160000
DTSTAMP:20260419T104713
CREATED:20200608T203048Z
LAST-MODIFIED:20200608T203048Z
UID:58102-1593270000-1593273600@litseen.com
SUMMARY:Redress: Book Talk with Author John Tateishi
DESCRIPTION:Saturday\, June 27 at 3pm\nRSVP with Eventbrite to access the Zoom link. \nAuthor John Tateishi discusses his book\, Redress: The Inside Story of the Successful Campaign for Japanese American Reparations\, in conversation with Patricia Wakida\, editor of Only What We Could Carry: The Japanese American Internment Experience. \nBooks are available for order at www.asiabookcenter.com. Choose ship to home or pick up in store at Eastwind Books of Berkeley\, 2066 University Ave. Berkeley\, CA 94704. \n—\nAbout the Book:\nThis is the true story of the Japanese American Citizens League’s fight for an official government apology and compensation for the imprisonment of more than 100\,000 Japanese Americans during World War II. Author John Tateishi\, himself the leader of the JACL Redress Committee for many years\, is first to admit that the task was herculean in scale. The campaign depended on a unified effort but began with an acutely divided community: for many\, the shame of “camp” was so deep that they could not even speak of it; money was a taboo subject; the question of the value of liberty was insulting.\nBesides internal discord\, the American public was largely unaware that there had been concentration camps on US soil\, and Tateishi knew that concessions from Congress would only come with mass education about the government’s civil rights violations. Beyond the backroom politicking and verbal fisticuffs that make this book a swashbuckling read\, Redress is the story of a community reckoning with what it means to be both culturally Japanese and American citizens; how to restore honor; and what duty it has to protect such harms from happening again. This book has powerful implications as the idea of reparations shapes our national conversation. \nAbout the Speakers:\nJohn Tateishi\, born in Los Angeles\, was incarcerated from ages three to six at Manzanar\, one of America’s ten World War II concentration camps. He studied English Lit at UC Berkeley and attended UC Davis for graduate studies. He played important roles in leading the campaign for Japanese American redress\, and as the JACL director\, used the lessons of the campaign to help ensure that the rights of this nation’s Arab and Muslim communities were protected after 9/11. \nPatricia Miye Wakida is a fourth generation Japanese American artist\, writer\, and community historian. For the past fifteen years\, she has worked with numerous cultural institutions such as the Japanese American National Museum\, Discover Nikkei\, the Oakland Museum of California\, and the Densho Encyclopedia project. \nThis event is sponsored by the Ethnic Studies Library\, UCB\, Eastwind Books of Berkeley\, Asian Pacific American Student Development\, UCB
URL:https://litseen.com/event/redress-book-talk-with-author-john-tateishi/
LOCATION:CA
CATEGORIES:Free,Virtual
ATTACH;FMTTYPE=image/jpeg:https://litseen.com/wp-content/uploads/2020/06/redress2.jpg
ORGANIZER;CN="Eastwind Books":MAILTO:eastwindbooks@gmail.com
END:VEVENT
BEGIN:VEVENT
DTSTART;TZID=America/Los_Angeles:20200627T190000
DTEND;TZID=America/Los_Angeles:20200627T190000
DTSTAMP:20260419T104713
CREATED:20200608T193431Z
LAST-MODIFIED:20200608T193431Z
UID:58065-1593284400-1593284400@litseen.com
SUMMARY:Saturday Night Special\, A "Summer" Open Mic
DESCRIPTION:Summer is officially here and SNS wants to celebrate! Your challenge this month is to write about SUMMER. Perhaps you want to capture the chaos of this moment in time\, or go back in history or memory to a time when summer felt different\, or imagine a new kind of summer for the future. Travel or stay home\, either way\, we’ll be right here. Put on a summer hat and join us for a summer open mic. Online. \nShare your poems\, stories\, comedic sketches\, songs\, or dances\, on our (optional) theme (or any topic). \nEach reader will have 3 minutes maximum. For prose writers this is about one and a half double-spaced pages. \nJUNE FEATURES: Tess Taylor and Alia Volz \nSaturday\, June 27\, 2020\n7 – 9:30 pm \nHosted by: Hollie Hardy \nSIGN UP starts one week in advance\, on June 20. Requests added in the order received until the list is full. To sign up\, put your request to read in the event comments\, or direct message Hollie Hardy. Please time your reading & keep it to 3 minutes max. \nALL ATTENDEES: To prevent being mistaken for a Zoom bomber and blocked\, RSVP on FB\, and use your real full name on Zoom. If you are new and unknown to host\, please reach out in advance so I can vet you\, and put you on the safe list. We will be using the Waiting Room feature again and only letting in people we can verify. \nZOOM INFO: \nMeeting ID: 956 8283 0985\nPassword: 474874 \nJoin from PC\, Mac\, Linux\, iOS or Android: https://cccconfer.zoom.us/j/95682830985?pwd=Vk5MWHhPK3N4Mzk2Skp4Q2NOcDRnQT09 \nOr Telephone: +1 669 900 6833 \nSNS misses its home at Nick’s Lounge and hopes to return soon. Meanwhile\, please support Nick’s Lounge on GoFundMe: \nhttps://www.gofundme.com/f/nicks-lounge-karaoke-support-fund?utm_source=customer&utm_medium=copy_link-tip&utm_campaign=p_cp+share-sheet \nAUTHOR BIOS: \nTess Taylor is the author of the chapbook The Misremembered World\, selected by Eavan Boland for the Poetry Society of America’s inaugural chapbook fellowship\, The Forage House\, which was a finalist for the Believer poetry prize\, and Work & Days\, which was named one of the best books of poetry of 2016 by The New York Times. Ilya Kaminsky recently hailed her as “the poet for our moment.” In spring 2020 she published two books of poems: Last West\, part of Dorothea Lange: Words & Pictures exhibition at the MoMA\, and Rift Zone\, from Red Hen Press. She is a poetry reviewer for NPR’s All Things Considered. \nAlia Volz is the author of Home Baked: My Mom\, Marijuana\, and the Stoning of San Francisco (Houghton Mifflin Harcourt\, 2020). Her work has appeared in The Best American Essays\, The New York Times\, Bon Appetit\, The Threepenny Review\, and many other publications. Her unusual family story has been featured on Snap Judgment\, Criminal and NPR’s Fresh Air.
URL:https://litseen.com/event/saturday-night-special-a-summer-open-mic/
LOCATION:CA
CATEGORIES:Free,Virtual
ATTACH;FMTTYPE=image/png:https://litseen.com/wp-content/uploads/2020/06/image-1.png
END:VEVENT
END:VCALENDAR