BEGIN:VCALENDAR
VERSION:2.0
PRODID:-//Litseen - ECPv6.15.11//NONSGML v1.0//EN
CALSCALE:GREGORIAN
METHOD:PUBLISH
X-ORIGINAL-URL:https://litseen.com
X-WR-CALDESC:Events for Litseen
REFRESH-INTERVAL;VALUE=DURATION:PT1H
X-Robots-Tag:noindex
X-PUBLISHED-TTL:PT1H
BEGIN:VTIMEZONE
TZID:UTC
BEGIN:STANDARD
TZOFFSETFROM:+0000
TZOFFSETTO:+0000
TZNAME:UTC
DTSTART:20150101T000000
END:STANDARD
END:VTIMEZONE
BEGIN:VEVENT
DTSTART;TZID=UTC:20160413T190000
DTEND;TZID=UTC:20160413T210000
DTSTAMP:20260419T221600
CREATED:20160406T020831Z
LAST-MODIFIED:20160406T020831Z
UID:21379-1460574000-1460581200@litseen.com
SUMMARY:2016 One Book One Marin Culminating Event - The Martian
DESCRIPTION:Andy Weir’s acclaimed science fiction novel\, The Martian\, has been selected as the 2016 honoree for One Book One Marin. Now celebrating its 10th anniversary\, One Book One Marin seeks to build a stronger\, enriched community through community dialogue\, and the exploration of literature and culture. The One Book One Marin program will conclude with a special event on Wednesday\, April 13\, 2016\, at Dominican University’s Angelico Hall\, featuring Andy Weir and KQED host Michael Krasny in conversation. \nWinner of the 2015 Audie Award for Best Science Fiction\, The Martian follows an American astronaut\, Mark Watney\, who through a series of tragic events\, is left behind on the red planet\, stranded and facing certain death. He must improvise in order to survive. The story is told mostly through Watney’s log entries\, chronicling his efforts to finding a way to grow food\, make water\, and get himself off the planet. Interspersed among the log entries are sections told from the point of view of the NASA specialists\, back on Earth\, who discover that Watney is not dead (as everyone assumed) and scramble together a rescue plan. A film adaptation of the book was released in early October 2015. \nPopular across the United States and throughout the world\, One Book programs take the idea of a localized book discussion club and expand it to cover a whole city or county. The city\, county and college libraries of Marin\, and community partners Book Passage and the Institute for Leadership Studies at Dominican University of California collaborate to bring Marin County readers stimulating programming and events related to the book throughout a three-month period\, February – April\, each year. All events are free and open to the public.
URL:https://litseen.com/event/2016-one-book-one-marin-culminating-event-the-martian/
LOCATION:Angelico Hall\, Dominican University\, 20 Olive Ave\, San Rafael\, CA\, 94901\, United States
CATEGORIES:Free,North Bay
END:VEVENT
BEGIN:VEVENT
DTSTART;TZID=UTC:20160410T140000
DTEND;TZID=UTC:20160410T170000
DTSTAMP:20260419T221600
CREATED:20160405T014323Z
LAST-MODIFIED:20160405T014323Z
UID:21303-1460296800-1460307600@litseen.com
SUMMARY:In Conversation with T.J. Stiles
DESCRIPTION:T. J. Stiles\, winner of both the National Book Award and the Pulitzer Prize (and dad of two)\, comes to the Mill Valley library in April to discuss his most recent biography The Last Trials of Custer with Write on Mama Mary Allison Tierney. They’ll discuss the craft of storytelling in nonfiction and the biographer’s dilemma: when to stop the research.
URL:https://litseen.com/event/in-conversation-with-t-j-stiles/
LOCATION:Mill Valley Public Library\, 375 Throckmorton Ave\, Mill Valley \, CA\, 94941\, United States
CATEGORIES:Free,North Bay
END:VEVENT
BEGIN:VEVENT
DTSTART;TZID=UTC:20160403T190000
DTEND;TZID=UTC:20160403T210000
DTSTAMP:20260419T221600
CREATED:20160404T034859Z
LAST-MODIFIED:20160404T034859Z
UID:21130-1459710000-1459717200@litseen.com
SUMMARY:Ferlinghetti: A Rebirth of Wonder
DESCRIPTION:In honor of National Poetry Month\, California Film Institute and the Buddhist Film Foundation present a festival of compelling contemporary films about inspiring American poets. Apr 3 at 4:15 pm: “The Practice of the Wild: A Conversation with Gary Snyder.” Apr 3 at 7 pm: “Ferlinghetti: A Rebirth of Wonder.” Filmmaker and photographer Chris Felver will show and discuss his long-gestating portrait of Lawrence Ferlinghetti\, the iconic poet\, artist\, publisher and First Amendment activist\, who helped forge many of the most significant cultural movements of the past 60 years. \n\nThis is what SF/Arts curator Sura Wood had to say about Poetry in Motion Film Festival: Apr 3 : \n“Lawrence Ferlinghetti—poet\, activist\, publisher and painter\, as well as founder of City Lights bookstore—has been a presence on the local literary and cultural scene since the mid 1950s. He’s the subject of Christopher Felver’s doc\, which features commentary from Allen Ginsberg\, Gary Snyder\, Dennis Hopper\, Dave Eggers\, Michael McClure\, Amiri Baraka and Bob Dylan\, as well as the man himself. “ \n 
URL:https://litseen.com/event/ferlinghetti-a-rebirth-of-wonder/
LOCATION:Rafael Film Center\, 1118 4th St\, San Rafael\, CA\, 94901\, United States
CATEGORIES:North Bay
END:VEVENT
BEGIN:VEVENT
DTSTART;TZID=UTC:20160403T161500
DTEND;TZID=UTC:20160403T181500
DTSTAMP:20260419T221600
CREATED:20160404T034437Z
LAST-MODIFIED:20160404T034437Z
UID:21126-1459700100-1459707300@litseen.com
SUMMARY:The Practice of the Wild: A Conversation w/ Gary Snyder
DESCRIPTION:In honor of National Poetry Month\, California Film Institute and the Buddhist Film Foundation present a festival of compelling contemporary films about inspiring American poets. Apr 3 at 4:15 pm: “The Practice of the Wild: A Conversation with Gary Snyder.” Apr 3 at 7 pm: “Ferlinghetti: A Rebirth of Wonder.” Filmmaker and photographer Chris Felver will show and discuss his long-gestating portrait of Lawrence Ferlinghetti\, the iconic poet\, artist\, publisher and First Amendment activist\, who helped forge many of the most significant cultural movements of the past 60 years. \n\nThis is what SF/Arts curator Sura Wood had to say about Poetry in Motion Film Festival: Apr 3 : \n“Lawrence Ferlinghetti—poet\, activist\, publisher and painter\, as well as founder of City Lights bookstore—has been a presence on the local literary and cultural scene since the mid 1950s. He’s the subject of Christopher Felver’s doc\, which features commentary from Allen Ginsberg\, Gary Snyder\, Dennis Hopper\, Dave Eggers\, Michael McClure\, Amiri Baraka and Bob Dylan\, as well as the man himself. “ \n 
URL:https://litseen.com/event/the-practice-of-the-wild-a-conversation-w-gary-snyder/
LOCATION:Rafael Film Center\, 1118 4th St\, San Rafael\, CA\, 94901\, United States
CATEGORIES:North Bay
END:VEVENT
END:VCALENDAR