BEGIN:VCALENDAR
VERSION:2.0
PRODID:-//Litseen - ECPv6.15.11//NONSGML v1.0//EN
CALSCALE:GREGORIAN
METHOD:PUBLISH
X-ORIGINAL-URL:https://litseen.com
X-WR-CALDESC:Events for Litseen
REFRESH-INTERVAL;VALUE=DURATION:PT1H
X-Robots-Tag:noindex
X-PUBLISHED-TTL:PT1H
BEGIN:VTIMEZONE
TZID:UTC
BEGIN:STANDARD
TZOFFSETFROM:+0000
TZOFFSETTO:+0000
TZNAME:UTC
DTSTART:20180101T000000
END:STANDARD
END:VTIMEZONE
BEGIN:VEVENT
DTSTART;TZID=UTC:20190508T080000
DTEND;TZID=UTC:20190508T170000
DTSTAMP:20260419T075638
CREATED:20190329T010949Z
LAST-MODIFIED:20190329T011001Z
UID:50836-1557302400-1557334800@litseen.com
SUMMARY:Andrew Ross
DESCRIPTION:discussing the subject of his new book \nStone Men: The Palestinians Who Built Israel \npublished by Verso Books \n\nThe story of Palestine’s stonemasons and the building of Israel \n\n\n“They demolish our houses while we build theirs.” This is how a Palestinian stonemason\, in line at a checkpoint outside a Jerusalem suburb\, described his life to Andrew Ross. Palestinian “stone men\,” utilising some of the best-quality dolomitic limestone deposits in the world and drawing on generations of artisanal knowledge\, have built almost every state in the Middle East except their own. Today the business of quarrying\, cutting\, fabrication\, and dressing is Palestine’s largest employer and generator of revenue\, supplying the construction industry in Israel\, along with other Middle East countries and even more overseas. \nDrawing on hundreds of interviews in Palestine and Israel\, Ross’s engrossing\, surprising\, and gracefully written story of this fascinating ancient trade shows how the stones of Palestine\, and Palestinian labour\, have been used to build out the state of Israel—in the process\, constructing “facts on the ground”—even while the industry is central to Palestinians’ own efforts to erect bulwarks against the Occupation. For decades\, the hands that built Israel’s houses\, schools\, offices\, bridges\, and even its separation barriers have been Palestinian. Looking at the Palestine–Israel conflict in a new light\, this book asks how this record of achievement and labour be recognised. \nAndrew Ross is Professor of Social and Cultural Analysis at New York University and a social activist. A contributor to the Nation\, Village Voice\, New York Times\, and Artforum\, he is the author of many books\, including\, most recently\, Bird on Fire: Lessons from the World’s Least Sustainable City and Nice Work if You Get It: Life and Labor in Precarious Times. He lives in New York. \nPraise for Stone Men: \n\n“Meet ‘Michelangelo of Beit Fajjar’ and the other Palestinian stone-masons whose superb craft has fashioned Israel’s famous ‘white cities.’ Their hidden labor is the starting point for Ross’s brilliantly original exploration of how dispossession and exploitation continue to define the relationship of Israeli and Palestinian societies. This is radical journalism at its best—and I mean Pulitzer-Prize-quality best.” \n– Mike Davis\, author of Planet of Slums \n\n\n\n“When a writer as original and committed as Andrew Ross turns his attention to Palestine\, we know we are up for a unique set of observations. Ross uses the stone quarries of Palestine to weave a story that brings together geology\, politics\, military occupation\, water\, and environment. It is a story that is at once specific in its attention to details of matter and place and expansive as it takes us across the tragic history of this late manifestation of colonial domination.” \n– Eyal Weizman\, author of Hollow Land \n\n\n“Andrew Ross sheds a brilliant light on what he calls the ‘sweat equity’ of Palestinian laborers who were deprived by Israel’s system of occupation and apartheid of their land and livelihood and pushed as a result to build Israeli housing and infrastructure to survive and to resist ethnic cleansing. Ross enriches us not just with a meticulously researched dose of history and a logical argument for a postcolonial reality of ethical coexistence in historic Palestine. He takes us on a perspicacious journey of human stories\, ethical arguments and socioeconomic realities\, consciously refraining from speaking on behalf of Palestinians or depicting us as pitiful victims\, as many well-meaning white academics still do\, and thus contributing to understanding what justice in this land truly means and entails.” \n– Omar Barghouti\, Palestinian human rights defender \n\n\n“Just when you thought that there was no other way to amplify the atrocity of the Israeli occupation of Palestine\, along comes Andrew Ross with Stone Men: The Palestinians Who Built Israel. Here is a refreshingly clear picture of the labour that it takes to produce and reproduce Israeli society and the Israeli occupation. Ordinary Palestinians who break and lay the stones tell Andrew Ross their stories\, and he offers them to us as a gift of their resilience.” \n– Vijay Prashad\, author of the Poorer Nations
URL:https://litseen.com/event/andrew-ross/
LOCATION:City Lights Bookstore\, 261 Columbus Ave\, San Francisco \, CA\, 94133\, United States
CATEGORIES:Free,San Francisco
ATTACH;FMTTYPE=image/jpeg:https://litseen.com/wp-content/uploads/2019/03/ross.jpg
END:VEVENT
BEGIN:VEVENT
DTSTART;TZID=UTC:20190508T190000
DTEND;TZID=UTC:20190508T210000
DTSTAMP:20260419T075638
CREATED:20190329T005758Z
LAST-MODIFIED:20190329T005758Z
UID:50824-1557342000-1557349200@litseen.com
SUMMARY:Book Club
DESCRIPTION:Meets the 2nd Wednesday of each month at 7 pm
URL:https://litseen.com/event/book-club-4/
LOCATION:Bird & Beckett Books and Records\, 653 Chenery St\, San Francisco \, CA\, 94131\, United States
CATEGORIES:Free,San Francisco
ATTACH;FMTTYPE=image/png:https://litseen.com/wp-content/uploads/2019/03/bird.png
END:VEVENT
END:VCALENDAR