BEGIN:VCALENDAR
VERSION:2.0
PRODID:-//Litseen - ECPv6.15.11//NONSGML v1.0//EN
CALSCALE:GREGORIAN
METHOD:PUBLISH
X-WR-CALNAME:Litseen
X-ORIGINAL-URL:https://litseen.com
X-WR-CALDESC:Events for Litseen
REFRESH-INTERVAL;VALUE=DURATION:PT1H
X-Robots-Tag:noindex
X-PUBLISHED-TTL:PT1H
BEGIN:VTIMEZONE
TZID:UTC
BEGIN:STANDARD
TZOFFSETFROM:+0000
TZOFFSETTO:+0000
TZNAME:UTC
DTSTART:20180101T000000
END:STANDARD
END:VTIMEZONE
BEGIN:VEVENT
DTSTART;TZID=UTC:20190514T193000
DTEND;TZID=UTC:20190611T213000
DTSTAMP:20260419T102704
CREATED:20190329T021202Z
LAST-MODIFIED:20190329T021202Z
UID:50880-1557862200-1560288600@litseen.com
SUMMARY:Aysegül Savas
DESCRIPTION:Aysegül Savas discusses her new novel\, Walking on the Ceiling. \nPraise for Walking on the Ceiling \n“Ayşegül Savaş is an enormous new talent who writes with the rigor of Didion and the tenderness of Sebald. Walking on the Ceiling holds the immediacy of youth and the depth of long-earned wisdom at once. Its elegant voice is sure to summon old memories and longings from each reader\, relighting them anew.”\n—Catherine Lacey\, author of The Answers \n“In Walking on the Ceiling\, Aysegul Savas investigates the inability of any story to accurately evoke lived experience—yet her unconventional narrative succeeds in doing just that. Savas’s celebration of the minutest details of Paris and Istanbul is juxtaposed\, to devastating effect\, against rising political tensions. This quietly intense debut is the product of a wise and probing mind.”\n—Helen Phillips\, author of The Beautiful Bureaucrat \n“Walking on the Ceiling is an elegant meditation on grief\, identity\, memory and homecoming. Moving between Paris and Istanbul\, the novel captures the tangle of narrative around history\, both personal and collective. I fell in love with this book.”\n—Katie Kitamura\, author of A Separation \n“Sensual\, fragile\, scented with hope and loss\, Walking on the Ceiling is a powerful debut and Ayşegül Savaş is an extremely talented rising star.” —Dorthe Nors\, author of Mirror\, Shoulder\, Signal \nAbout Walking on the Ceiling \nA mesmerizing novel set in Paris and a changing Istanbul\, about a young Turkish woman grappling with her past – her country’s and her own – and her complicated relationship with the famous British writer who longs for her memories. \nAfter her mother’s death\, Nunu moves from Istanbul to a small apartment in Paris. One day outside of a bookstore\, she meets M.\, an older British writer whose novels about Istanbul Nunu has always admired. They find themselves walking the streets of Paris and talking late into the night. What follows is an unusual friendship of eccentric correspondence and long walks around the city. \nM. is working on a new novel set in Turkey and Nunu tells him about her family\, hoping to impress and inspire him. She recounts the idyllic landscapes of her past\, mythical family meals\, and her elaborate childhood games. As she does so\, she also begins to confront her mother’s silence and anger\, her father’s death\, and the growing unrest in Istanbul. Their intimacy deepens\, so does Nunu’s fear of revealing too much to M. and of giving too much of herself and her Istanbul away. Most of all\, she fears that she will have to face her own guilt about her mother and the narratives she’s told to protect herself from her memories. \nA wise and unguarded glimpse into a young woman’s coming into her own\, Walking on the Ceiling is about memory\, the pleasure of invention\, and those places\, real and imagined\, we can’t escape.
URL:https://litseen.com/event/aysegul-savas/
LOCATION:Green Apple Books on the Park\, 1231 9th Ave\, San Francisco \, CA\, 94122\, United States
CATEGORIES:Free,San Francisco
ATTACH;FMTTYPE=image/jpeg:https://litseen.com/wp-content/uploads/2019/03/walking.jpg
END:VEVENT
BEGIN:VEVENT
DTSTART;TZID=UTC:20190515T183000
DTEND;TZID=UTC:20190515T200000
DTSTAMP:20260419T102704
CREATED:20190430T200645Z
LAST-MODIFIED:20190430T200645Z
UID:51203-1557945000-1557950400@litseen.com
SUMMARY:Namwali Serpell
DESCRIPTION:Litquake and MoAD present… \nNamwali Serpell’s electrifying debut\, THE OLD DRIFT\, is the first novel ever to tell the story of Zambia from its very beginnings to the present day—and beyond. \nCrossing centuries\, borders\, and genres\, THE OLD DRIFT tells a sweeping tale of a small African country as it comes into being\, and the trials and tribulations of its people. Their stories\, told by a mysterious swarm-like chorus that calls itself man’s greatest nemesis\, form an epic meditation on what it means to be human. \nWith playful language\, Serpell masterfully blends historical fiction\, fairy-tale fables\, romance\, and science fiction. On each page\, she turns stereotypes and tropes on their heads\, unsettling the stories we think we know about Africa\, from colonialism to migration\, gender to race\, poverty to politics\, and nationhood to technology. Through THE OLD DRIFT’s cast of vivid characters—including Zambia\, which proves to be a character itself—Serpell shows that\, if to err is human\, then even the slightest error can still be a powerful force for transformation. Incisive\, expansive\, and subversive\, THE OLD DRIFT announces Namwali Serpell as a major new literary talent. \n\n\nAuthors \n\n \nNamwali Serpell\nNamwali Serpell was born in Lusaka and lives in San Francisco. Her first novel\, The Old Drift\, is forthcoming with Hogarth (Penguin Random House) in 2019.She won the 2015 Caine Prize for African Writing for her story\, “The Sack.” In 2014\, she was chosen as one of the Africa 39… Read More →\n\n\n\n \n\nWednesday May 15\, 2019 6:30pm – 8:00pm\nMuseum of African Diaspora 685 Mission St\, San Francisco\, CA 94105\n  Featured Event
URL:https://litseen.com/event/namwali-serpell/
LOCATION:MoAD\, 685 Mission St\, San Francisco\, CA\, 94105
CATEGORIES:Free,San Francisco
ATTACH;FMTTYPE=image/png:https://litseen.com/wp-content/uploads/2019/04/Namwali.png
END:VEVENT
BEGIN:VEVENT
DTSTART;TZID=UTC:20190515T190000
DTEND;TZID=UTC:20190515T210000
DTSTAMP:20260419T102704
CREATED:20190329T011835Z
LAST-MODIFIED:20190329T011835Z
UID:50845-1557946800-1557954000@litseen.com
SUMMARY:Saskia Vogel
DESCRIPTION:celebrating the release of her new novel \nPermission \npublished by Coach House Books \n\nA grieving young woman learns something new about love from a dominatrix in this haunting and erotic debut. When Echo’s father gets swept away by a freak current off the Los Angeles coast\, she enters a state of paralysis. The failed young actress seeks solace in the best way she knows: by losing herself in the lives of others. This time it’s with her new neighbor\, a dominatrix named Orly who works out of her suburban home\, and who introduces Echo to a whole new world of desire. But Orly’s fifty-something houseboy won’t quite let Echo slip into sweet oblivion? Set among the bright colors of L. A.\, Permission is a kind of love story about three people sick with dreams and expectations who turn to the erotic for comfort and cure. As they stumble through the landscape of desire\, they ask themselves: how do I want to be loved? \n“Saskia Vogel’s provocative debut novel\, Permission\, is like a trick box full of sliding panels. Her protagonist\, jarred loose from her life by the accidental death of her father\, finds that the boundaries she’s always taken as given begin to slide open\, revealing secret zones of power and sexuality within the world and within herself. Beautifully written\, mysterious and compelling. ” – Janet Fitch \nSaskia Vogel grew up in Los Angeles and currently lives in Berlin\, where she works as a writer and Swedish-to-English literary translator. She has written on the themes of gender\, power\, and sexuality for publications such as The White Review\, The Offing\, and The Quietus . Previously\, she worked as Granta magazine’s global publicist and as an editor at the AVN Media Network\, where she reported on pornography and adult pleasure products. \nvisit:  saskiavogel.com
URL:https://litseen.com/event/saskia-vogel/
LOCATION:City Lights Bookstore\, 261 Columbus Ave\, San Francisco \, CA\, 94133\, United States
CATEGORIES:Free,San Francisco
ATTACH;FMTTYPE=image/jpeg:https://litseen.com/wp-content/uploads/2019/03/SaskiaVogel.jpg
END:VEVENT
BEGIN:VEVENT
DTSTART;TZID=UTC:20190515T193000
DTEND;TZID=UTC:20190515T213000
DTSTAMP:20260419T102704
CREATED:20190327T223736Z
LAST-MODIFIED:20190327T223736Z
UID:50740-1557948600-1557955800@litseen.com
SUMMARY:JARED DIAMOND In Conversation with Roy Eisenhardt
DESCRIPTION:JARED DIAMOND\nIn Conversation with Roy Eisenhardt\nWednesday\, May 15\, 2019\, 7:30 pm\nVenue: Sydney Goldstein Theater\nSeries: Social Studies \n Buy Tickets | Buy Series Tickets | 415.392.4400 \n\n\nJared Diamond is a renowned geographer and the Pulitzer Prize-winning author of Guns\, Germs\, and Steel. His books explore philosophical and scientific subject matter candidly and with compelling detail. His most recent book\, Upheaval: How Nations Cope With Crisis and Change\, is the final volume in a trilogy (preceded by Guns\, Germs\, and Steel and Collapse) chronicling the rise and fall of civilizations around the globe. This final volume looks to both the past and the future\, bringing historical\, geographic\, anthropological\, economic\, and personal lenses to the apocalyptic questions surrounding our world today. Diamond’s scientific research covers the birds of New Guinea and other Southwest Pacific Islands\, and he additionally works toward promoting sustainable environmental policy in his role as a director of the World Wildlife Fund and Conservation International. He lives and works in Los Angeles\, where he is a professor of Geography and Physiology at the University of California\, Los Angeles. \nRoy Eisenhardt practiced law for twelve years and currently teaches at University of California\, Berkeley’s Boalt Hall School of Law. He was previously president of the Oakland Athletics and served as the Executive Director for the California Academy of Sciences. His past interviews for City Arts & Lectures include Desmond Tutu\, Doris Kearns Goodwin\, Madeleine Albright\, and Brian Greene.
URL:https://litseen.com/event/jared-diamond-in-conversation-with-roy-eisenhardt/
LOCATION:Sydney Goldstein Theater\, 275 Hayes St\, San Francisco\, CA\, 94102\, United States
CATEGORIES:San Francisco
ATTACH;FMTTYPE=image/jpeg:https://litseen.com/wp-content/uploads/2019/03/Jared-Diamond-2.jpg
END:VEVENT
BEGIN:VEVENT
DTSTART;TZID=UTC:20190515T193000
DTEND;TZID=UTC:20190515T213000
DTSTAMP:20260419T102704
CREATED:20190329T021445Z
LAST-MODIFIED:20190329T021445Z
UID:50883-1557948600-1557955800@litseen.com
SUMMARY:David Randall
DESCRIPTION:David Randall discusses his new book\, Black Death at the Golden Gate: The Race to Save America from the Bubonic Plague. \n\nPraise for Black Death at the Golden Gate \n“David K. Randall has created a meticulously researched history that unfolds like a thriller. I raced through this book in two days (horribly\, the span of time it took bubonic plague to fell a victim). The unlikely heroes—bacteriologists and public health officers with long\, flowing beards—battle villains most vile: racism\, rotten politics\, disregard for science\, and Yersinia pestis. Black Death at the Golden Gate is both a page-turner and a cautionary tale: those villains still lurk.” —Mary Roach\, New York Timesbest-selling author of Grunt \n“A haunting detective tale packed with villains and heroes\, Black Death at the Golden Gate shows how bigotry and greed almost brought a major U.S. city to ruin—and how science and courage saved it. The events in this book may be a hundred years old\, but its message is as urgent as ever.” — Jason Fagone\, author of the national bestseller The Woman Who Smashed Codes \n“David K. Randall is a spellbinding writer. He has turned a critical chapter of medical history into a riveting tale that reads like a detective novel\, chock-full of scandals and intrigue…Read Black Death at the Golden Gatebecause it’s a page-turner\, but more important\, read this book because the issues Randall spotlights resonate today.” — Randi Epstein\, author of Aroused \n\nAbout Black Death at the Golden Gate \nFor Chinese immigrant Wong Chut King\, surviving in San Francisco meant a life in the shadows. His passing on March 6\, 1900\, would have been unremarkable if a city health officer hadn’t noticed a swollen black lymph node on his groin–a sign of bubonic plague. Empowered by racist pseudoscience\, officials rushed to quarantine Chinatown while doctors examined Wong’s tissue for telltale bacteria. If the devastating disease was not contained\, San Francisco would become the American epicenter of an outbreak that had already claimed ten million lives worldwide. \nTo local press\, railroad barons\, and elected officials\, such a possibility was inconceivable–or inconvenient. As they mounted a cover-up to obscure the threat\, ending the career of one of the most brilliant scientists in the nation in the process\, it fell to federal health officer Rupert Blue to save a city that refused to be rescued. Spearheading a relentless crusade for sanitation\, Blue and his men patrolled the squalid streets of fast-growing San Francisco\, examined gory black buboes\, and dissected diseased rats that put the fate of the entire country at risk. \nIn the tradition of Erik Larson and Steven Johnson\, Randall spins a spellbinding account of Blue’s race to understand the disease and contain its spread–the only hope of saving San Francisco\, and the nation\, from a gruesome fate.
URL:https://litseen.com/event/david-randall/
LOCATION:Green Apple Books on the Park\, 1231 9th Ave\, San Francisco \, CA\, 94122\, United States
CATEGORIES:Free,San Francisco
ATTACH;FMTTYPE=image/jpeg:https://litseen.com/wp-content/uploads/2019/03/blackdeath.jpg
END:VEVENT
END:VCALENDAR