BEGIN:VCALENDAR
VERSION:2.0
PRODID:-//Litseen - ECPv6.15.11//NONSGML v1.0//EN
CALSCALE:GREGORIAN
METHOD:PUBLISH
X-WR-CALNAME:Litseen
X-ORIGINAL-URL:https://litseen.com
X-WR-CALDESC:Events for Litseen
REFRESH-INTERVAL;VALUE=DURATION:PT1H
X-Robots-Tag:noindex
X-PUBLISHED-TTL:PT1H
BEGIN:VTIMEZONE
TZID:UTC
BEGIN:STANDARD
TZOFFSETFROM:+0000
TZOFFSETTO:+0000
TZNAME:UTC
DTSTART:20180101T000000
END:STANDARD
END:VTIMEZONE
BEGIN:VTIMEZONE
TZID:America/Los_Angeles
BEGIN:DAYLIGHT
TZOFFSETFROM:-0800
TZOFFSETTO:-0700
TZNAME:PDT
DTSTART:20180311T100000
END:DAYLIGHT
BEGIN:STANDARD
TZOFFSETFROM:-0700
TZOFFSETTO:-0800
TZNAME:PST
DTSTART:20181104T090000
END:STANDARD
BEGIN:DAYLIGHT
TZOFFSETFROM:-0800
TZOFFSETTO:-0700
TZNAME:PDT
DTSTART:20190310T100000
END:DAYLIGHT
BEGIN:STANDARD
TZOFFSETFROM:-0700
TZOFFSETTO:-0800
TZNAME:PST
DTSTART:20191103T090000
END:STANDARD
BEGIN:DAYLIGHT
TZOFFSETFROM:-0800
TZOFFSETTO:-0700
TZNAME:PDT
DTSTART:20200308T100000
END:DAYLIGHT
BEGIN:STANDARD
TZOFFSETFROM:-0700
TZOFFSETTO:-0800
TZNAME:PST
DTSTART:20201101T090000
END:STANDARD
END:VTIMEZONE
BEGIN:VEVENT
DTSTART;TZID=UTC:20190514T193000
DTEND;TZID=UTC:20190611T213000
DTSTAMP:20260419T152728
CREATED:20190329T021202Z
LAST-MODIFIED:20190329T021202Z
UID:50880-1557862200-1560288600@litseen.com
SUMMARY:Aysegül Savas
DESCRIPTION:Aysegül Savas discusses her new novel\, Walking on the Ceiling. \nPraise for Walking on the Ceiling \n“Ayşegül Savaş is an enormous new talent who writes with the rigor of Didion and the tenderness of Sebald. Walking on the Ceiling holds the immediacy of youth and the depth of long-earned wisdom at once. Its elegant voice is sure to summon old memories and longings from each reader\, relighting them anew.”\n—Catherine Lacey\, author of The Answers \n“In Walking on the Ceiling\, Aysegul Savas investigates the inability of any story to accurately evoke lived experience—yet her unconventional narrative succeeds in doing just that. Savas’s celebration of the minutest details of Paris and Istanbul is juxtaposed\, to devastating effect\, against rising political tensions. This quietly intense debut is the product of a wise and probing mind.”\n—Helen Phillips\, author of The Beautiful Bureaucrat \n“Walking on the Ceiling is an elegant meditation on grief\, identity\, memory and homecoming. Moving between Paris and Istanbul\, the novel captures the tangle of narrative around history\, both personal and collective. I fell in love with this book.”\n—Katie Kitamura\, author of A Separation \n“Sensual\, fragile\, scented with hope and loss\, Walking on the Ceiling is a powerful debut and Ayşegül Savaş is an extremely talented rising star.” —Dorthe Nors\, author of Mirror\, Shoulder\, Signal \nAbout Walking on the Ceiling \nA mesmerizing novel set in Paris and a changing Istanbul\, about a young Turkish woman grappling with her past – her country’s and her own – and her complicated relationship with the famous British writer who longs for her memories. \nAfter her mother’s death\, Nunu moves from Istanbul to a small apartment in Paris. One day outside of a bookstore\, she meets M.\, an older British writer whose novels about Istanbul Nunu has always admired. They find themselves walking the streets of Paris and talking late into the night. What follows is an unusual friendship of eccentric correspondence and long walks around the city. \nM. is working on a new novel set in Turkey and Nunu tells him about her family\, hoping to impress and inspire him. She recounts the idyllic landscapes of her past\, mythical family meals\, and her elaborate childhood games. As she does so\, she also begins to confront her mother’s silence and anger\, her father’s death\, and the growing unrest in Istanbul. Their intimacy deepens\, so does Nunu’s fear of revealing too much to M. and of giving too much of herself and her Istanbul away. Most of all\, she fears that she will have to face her own guilt about her mother and the narratives she’s told to protect herself from her memories. \nA wise and unguarded glimpse into a young woman’s coming into her own\, Walking on the Ceiling is about memory\, the pleasure of invention\, and those places\, real and imagined\, we can’t escape.
URL:https://litseen.com/event/aysegul-savas/
LOCATION:Green Apple Books on the Park\, 1231 9th Ave\, San Francisco \, CA\, 94122\, United States
CATEGORIES:Free,San Francisco
ATTACH;FMTTYPE=image/jpeg:https://litseen.com/wp-content/uploads/2019/03/walking.jpg
END:VEVENT
BEGIN:VEVENT
DTSTART;TZID=America/Los_Angeles:20190603T190000
DTEND;TZID=America/Los_Angeles:20190603T200000
DTSTAMP:20260419T152728
CREATED:20190603T135110Z
LAST-MODIFIED:20190603T135110Z
UID:51551-1559588400-1559592000@litseen.com
SUMMARY:Women at the Edges: Books About Women Breaking Creative Boundaries
DESCRIPTION:Kristin Kaye\, Bridget Quinn\, and Beth Winegarner write about women breaking creative boundaries in music\, art\, drama\, and competitive bodybuilding in their nonfiction books IRON MAIDENS: The Celebration of the Most Awesome Female Muscle in the World\, BOLD STROKES: 15 Women Who Made Art and Made History (in That Order)\, and TENACITY: Heavy Metal in the Middle East and Africa. Hear them read excerpts about their exceptional protagonists at “Women at the Edges\,” the Odd Mondays for June 3\, 7pm at Folio Books San Francisco\, 3957 24th St. in Noe Valley. Free admission and free refreshments. A book signing follows the readings. \nHere’s more about the authors:\nKRISTIN KAYE is an award-winning author\, ghostwriter and teacher. Her most recent book\, Tree Dreams\, was described as “superbly written…with brilliantly onomatopoeic prose” by Kirkus Reviews and won the Int’l Book Award for YA Fiction. Kristin’s first book was Iron Maidens: The Celebration of the Most Awesome Female Muscle in the World\, which details her experience directing twenty-five of the world’s strongest and most muscular women in an off-Broadway show. It was a finalist for the Oregon Book Awards and described by Utne Reader as “one of 5 new titles for women who resist easy definition.” \nBRIDGET QUINN is the author of Broad Strokes: 15 Women Who Made Art and Made History (in That Order)\, an Amazon pick for Best Art & Photography Books 2017 and a 2018 Amelia Bloomer List selection of recommended feminist literature from the American Library Association. Book Authority has named Broad Strokes one of its “Best Art History Books of All Time.” A denizen of The Writers’ Grotto\, Bridget is former co-host of The GrottoPod: Writers on Writing. Her forthcoming book is Suffragist States\, an illustrated history of the 19th Amendment and what happened next\, with Chronicle Books. \nBETH WINEGARNER is a journalist\, author and essayist whose work has appeared in the New Yorker\, the Washington Post\, the Guardian\, Mother Jones\, Wired\, San Francisco Magazine and many others. Her recent books include The Columbine Effect: How Five Teen Pastimes Got Caught in the Crossfire and Why Teens are Taking Them Back and Tenacity: Heavy Metal in the Middle East and Africa. She lives in San Francisco and is a member of the Writers Grotto.
URL:https://litseen.com/event/women-at-the-edges-books-about-women-breaking-creative-boundaries/
LOCATION:Folio Books\, 3957 24th St\, San Francisco \, CA\, 94114\, United States
CATEGORIES:Free,San Francisco
ATTACH;FMTTYPE=image/jpeg:https://litseen.com/wp-content/uploads/2019/05/OM-20190603-Banner.jpg
END:VEVENT
BEGIN:VEVENT
DTSTART;TZID=America/Los_Angeles:20190603T190000
DTEND;TZID=America/Los_Angeles:20190603T210000
DTSTAMP:20260419T152728
CREATED:20170609T050016Z
LAST-MODIFIED:20170922T061843Z
UID:27253-1559588400-1559595600@litseen.com
SUMMARY:POETS! - featured readers to be announced followed by an open mic
DESCRIPTION:
URL:https://litseen.com/event/poets-featured-readers-to-be-announced-followed-by-an-open-mic-25/
LOCATION:CA
CATEGORIES:San Francisco
END:VEVENT
BEGIN:VEVENT
DTSTART;TZID=UTC:20190603T190000
DTEND;TZID=UTC:20190603T210000
DTSTAMP:20260419T152728
CREATED:20190501T225359Z
LAST-MODIFIED:20190501T225359Z
UID:51313-1559588400-1559595600@litseen.com
SUMMARY:POETS! - featured readers to be announced followed by an open mic
DESCRIPTION:POETS! – featured readers to be announced followed by an open mic
URL:https://litseen.com/event/poets-featured-readers-to-be-announced-followed-by-an-open-mic-27/
LOCATION:Bird & Beckett Books and Records\, 653 Chenery St\, San Francisco \, CA\, 94131\, United States
CATEGORIES:Free,San Francisco
ATTACH;FMTTYPE=image/png:https://litseen.com/wp-content/uploads/2019/05/BB.png
END:VEVENT
END:VCALENDAR