BEGIN:VCALENDAR
VERSION:2.0
PRODID:-//Litseen - ECPv6.15.11//NONSGML v1.0//EN
CALSCALE:GREGORIAN
METHOD:PUBLISH
X-WR-CALNAME:Litseen
X-ORIGINAL-URL:https://litseen.com
X-WR-CALDESC:Events for Litseen
REFRESH-INTERVAL;VALUE=DURATION:PT1H
X-Robots-Tag:noindex
X-PUBLISHED-TTL:PT1H
BEGIN:VTIMEZONE
TZID:UTC
BEGIN:STANDARD
TZOFFSETFROM:+0000
TZOFFSETTO:+0000
TZNAME:UTC
DTSTART:20180101T000000
END:STANDARD
END:VTIMEZONE
BEGIN:VEVENT
DTSTART;TZID=UTC:20190514T193000
DTEND;TZID=UTC:20190611T213000
DTSTAMP:20260419T200915
CREATED:20190329T021202Z
LAST-MODIFIED:20190329T021202Z
UID:50880-1557862200-1560288600@litseen.com
SUMMARY:Aysegül Savas
DESCRIPTION:Aysegül Savas discusses her new novel\, Walking on the Ceiling. \nPraise for Walking on the Ceiling \n“Ayşegül Savaş is an enormous new talent who writes with the rigor of Didion and the tenderness of Sebald. Walking on the Ceiling holds the immediacy of youth and the depth of long-earned wisdom at once. Its elegant voice is sure to summon old memories and longings from each reader\, relighting them anew.”\n—Catherine Lacey\, author of The Answers \n“In Walking on the Ceiling\, Aysegul Savas investigates the inability of any story to accurately evoke lived experience—yet her unconventional narrative succeeds in doing just that. Savas’s celebration of the minutest details of Paris and Istanbul is juxtaposed\, to devastating effect\, against rising political tensions. This quietly intense debut is the product of a wise and probing mind.”\n—Helen Phillips\, author of The Beautiful Bureaucrat \n“Walking on the Ceiling is an elegant meditation on grief\, identity\, memory and homecoming. Moving between Paris and Istanbul\, the novel captures the tangle of narrative around history\, both personal and collective. I fell in love with this book.”\n—Katie Kitamura\, author of A Separation \n“Sensual\, fragile\, scented with hope and loss\, Walking on the Ceiling is a powerful debut and Ayşegül Savaş is an extremely talented rising star.” —Dorthe Nors\, author of Mirror\, Shoulder\, Signal \nAbout Walking on the Ceiling \nA mesmerizing novel set in Paris and a changing Istanbul\, about a young Turkish woman grappling with her past – her country’s and her own – and her complicated relationship with the famous British writer who longs for her memories. \nAfter her mother’s death\, Nunu moves from Istanbul to a small apartment in Paris. One day outside of a bookstore\, she meets M.\, an older British writer whose novels about Istanbul Nunu has always admired. They find themselves walking the streets of Paris and talking late into the night. What follows is an unusual friendship of eccentric correspondence and long walks around the city. \nM. is working on a new novel set in Turkey and Nunu tells him about her family\, hoping to impress and inspire him. She recounts the idyllic landscapes of her past\, mythical family meals\, and her elaborate childhood games. As she does so\, she also begins to confront her mother’s silence and anger\, her father’s death\, and the growing unrest in Istanbul. Their intimacy deepens\, so does Nunu’s fear of revealing too much to M. and of giving too much of herself and her Istanbul away. Most of all\, she fears that she will have to face her own guilt about her mother and the narratives she’s told to protect herself from her memories. \nA wise and unguarded glimpse into a young woman’s coming into her own\, Walking on the Ceiling is about memory\, the pleasure of invention\, and those places\, real and imagined\, we can’t escape.
URL:https://litseen.com/event/aysegul-savas/
LOCATION:Green Apple Books on the Park\, 1231 9th Ave\, San Francisco \, CA\, 94122\, United States
CATEGORIES:Free,San Francisco
ATTACH;FMTTYPE=image/jpeg:https://litseen.com/wp-content/uploads/2019/03/walking.jpg
END:VEVENT
BEGIN:VEVENT
DTSTART;TZID=UTC:20190604T180000
DTEND;TZID=UTC:20190604T193000
DTSTAMP:20260419T200915
CREATED:20190501T232053Z
LAST-MODIFIED:20190501T232053Z
UID:51324-1559671200-1559676600@litseen.com
SUMMARY:BINDERY: Silent Reading Party
DESCRIPTION:Presented by Lemony Snicket and Radio Silence. Bring a book to read to yourself in silence. Drinks and light snacks will be available. There is no admission cost and no reservations necessary. Proceeds from drink sales will benefit a public school in San Francisco\, TBD. \nSign up to receive emails about upcoming Silent Reading Parties here. \nSee you there\, readers!
URL:https://litseen.com/event/bindery-silent-reading-party/
LOCATION:The Bindery\, 1727 Haight St\, San Francisco \, 94117\, United States
CATEGORIES:Free,San Francisco
ATTACH;FMTTYPE=image/jpeg:https://litseen.com/wp-content/uploads/2019/05/mmmlemony.jpg
END:VEVENT
BEGIN:VEVENT
DTSTART;TZID=UTC:20190604T183000
DTEND;TZID=UTC:20190604T203000
DTSTAMP:20260419T200915
CREATED:20190502T085908Z
LAST-MODIFIED:20190502T085908Z
UID:51425-1559673000-1559680200@litseen.com
SUMMARY:Beyond the Shortest Month Book Club
DESCRIPTION:Beyond The Shortest Month is a book club dedicated to reading and celebrating authors of color year round. \nDiscussions are the first Tuesday of each month at\nGreen Apple Books and Music\n506 Clement Street *Upstairs in our Philosophy Alcove \nThe Beyond The Shortest Month May title is Ntozake Shange’s Sassafrass\, Cypress & Indigo.\nMeeting and discussion will be on Tuesday\, June 4 at 6:30pm.\nSee you there! \nCan’t make this month? Stay tuned for the Beyond The Shortest Month pick for June 2019!
URL:https://litseen.com/event/beyond-the-shortest-month-book-club/
LOCATION:Green Apple Books\, 506 Clement St\, San Francisco \, CA\, 94118\, United States
CATEGORIES:Free,San Francisco
ATTACH;FMTTYPE=image/png:https://litseen.com/wp-content/uploads/2019/05/apple.png
END:VEVENT
BEGIN:VEVENT
DTSTART;TZID=UTC:20190604T190000
DTEND;TZID=UTC:20190604T210000
DTSTAMP:20260419T200915
CREATED:20190502T080244Z
LAST-MODIFIED:20190502T080244Z
UID:51389-1559674800-1559682000@litseen.com
SUMMARY:Finn Brunton
DESCRIPTION:discussing the subject of his new book \nDigital Cash: The Unknown History of the Anarchists\, Utopians\, and Technologists Who Created Cryptocurrency \nfrom Princeton University Press \n\n\nThe fascinating untold story of digital cash and its creators—from experiments in the 1970s to the mania over Bitcoin and other cryptocurrencies \nBitcoin may appear to be a revolutionary form of digital cash without precedent or prehistory. In fact\, it is only the best-known recent experiment in a long line of similar efforts going back to the 1970s. But the story behind cryptocurrencies like Bitcoin and its blockchain technology has largely been untold—until now. In Digital Cash\, Finn Brunton reveals how technological utopians and political radicals created experimental money to bring about their visions of the future: protecting privacy or bringing down governments\, preparing for apocalypse or launching a civilization of innovation and abundance that would make its creators immortal. \nThe incredible story of the pioneers of cryptocurrency takes us from autonomous zones on the high seas to the world’s most valuable dump\, from bank runs to idea coupons\, from time travelers in a San Francisco bar to the pattern securing every twenty-dollar bill\, and from marketplaces for dangerous secrets to a tank of frozen heads awaiting revival in the far future. Along the way\, Digital Cash explores the hard questions and challenges that these innovators faced: How do we learn to trust and use different kinds of money? What makes digital objects valuable? How does currency prove itself as real to us? What would it take to make a digital equivalent to cash\, something that could be exchanged but not copied\, created but not forged\, and which reveals nothing about its users? \nFilled with marvelous characters\, stories\, and ideas\, Digital Cash is an engaging and accessible account of the strange origins and remarkable technologies behind today’s cryptocurrency explosion. \nFinn Brunton is assistant professor in the Department of Media\, Culture\, and Communication at New York University. He is the author of Spam: A Shadow History of the Internet and the coauthor of Communication and Obfuscation: A User’s Guide for Privacy and Protest. He has written for the Guardian\, Artforum\, and Radical Philosophy\, among many other publications. \n\n\n\n“A fascinating and important book that addresses big questions about cryptocurrency: What is money? How can virtual things have lasting value? And what does the explosion of cryptocurrency mean for the global economy? I can’t think of another book on the subject that accomplishes so much in such a concise and readable way.”—Nathan Ensmenger\, author of The Computer Boys Take Over \n\n\n\n\n\n\n“A very important book.”—Lana Swartz\, coeditor of Paid: Tales of Dongles\, Checks\, and Other Money Stuff
URL:https://litseen.com/event/finn-brunton/
LOCATION:City Lights Bookstore\, 261 Columbus Ave\, San Francisco \, CA\, 94133\, United States
CATEGORIES:Free,San Francisco
ATTACH;FMTTYPE=image/jpeg:https://litseen.com/wp-content/uploads/2019/05/Finn.jpg
END:VEVENT
BEGIN:VEVENT
DTSTART;TZID=UTC:20190604T193000
DTEND;TZID=UTC:20190604T213000
DTSTAMP:20260419T200915
CREATED:20190430T201602Z
LAST-MODIFIED:20190430T201635Z
UID:51210-1559676600-1559683800@litseen.com
SUMMARY:David Byrne Good News & Sleeping Beauties
DESCRIPTION:David Byrne is a Scottish-American singer\, songwriter\, musician\, record producer\, artist\, actor\, writer and filmmaker who was a founding member\, principal songwriter and lead singer and guitarist of the American new wave band Talking Heads. \nByrne has released solo recordings and worked with various media including film\, photography\, opera\, fiction\, and non-fiction. He has received Academy\, Grammy\, and Golden Globe Awards\, and has been inducted into the Rock and Roll Hall of Fame. (Bio courtesy of Wikipedia) \nTickets will go on sale one month before the Seminar; you can follow Long Now on Twitter\, Facebook and through our blog for updates on our live events\, podcasts and videos on long-term thinking.
URL:https://litseen.com/event/david-byrne-good-news-sleeping-beauties/
LOCATION:Castro Theater\, 429 Castro Street\, San Francisco \, CA\, 94114\, United States
CATEGORIES:San Francisco
ATTACH;FMTTYPE=image/jpeg:https://litseen.com/wp-content/uploads/2019/04/byrne.jpg
ORGANIZER;CN="The Long Now Foundation":MAILTO:services@longnow.org
END:VEVENT
BEGIN:VEVENT
DTSTART;TZID=UTC:20190604T193000
DTEND;TZID=UTC:20190604T213000
DTSTAMP:20260419T200915
CREATED:20190502T100229Z
LAST-MODIFIED:20190502T100509Z
UID:51471-1559676600-1559683800@litseen.com
SUMMARY:AMOR TOWLES In Conversation with Michael Krasny
DESCRIPTION:AMOR TOWLES\nIn Conversation with Michael Krasny\nTuesday\, June 4\, 2019\, 7:30 pm\nVenue: Sydney Goldstein Theater\nSeries: Special Events \n Buy Tickets | 415.392.4400 \n\n\nAmor Towles is the author of Rules of Civility and A Gentleman in Moscow\, which have been translated into over fifteen languages. Garnering attention from nearly every literary outlet\, A Gentleman in Moscow is now being adapted into a miniseries\, directed by Tom Harper and produced by and starring Kenneth Branagh. In September 2018\, Towles published A Whimsy of the World\, a short story about a young American woman who flees home to jaunt through Europe\, in Vogue and GQ. His forthcoming novel\, which is set in the 1950s and follows three 18-year-old boys driving across America\, is in early stages.\n\nMichael Krasny is a Professor of English and American Literature and author of the books Off Mike: A Memoir of Talk Radio and Literary Life\, Let There Be Laughter\, and Spiritual Envy: An Agnostic’s Search. Since 1993\, he has been the host of Forum\, a news and public affairs interview program produced at KQED Radio.
URL:https://litseen.com/event/amor-towles-in-conversation-with-michael-krasny/
LOCATION:Sydney Goldstein Theater\, 275 Hayes St\, San Francisco\, CA\, 94102\, United States
CATEGORIES:San Francisco
ATTACH;FMTTYPE=image/jpeg:https://litseen.com/wp-content/uploads/2019/05/towles-square.jpg
END:VEVENT
END:VCALENDAR