BEGIN:VCALENDAR
VERSION:2.0
PRODID:-//Litseen - ECPv6.15.11//NONSGML v1.0//EN
CALSCALE:GREGORIAN
METHOD:PUBLISH
X-WR-CALNAME:Litseen
X-ORIGINAL-URL:https://litseen.com
X-WR-CALDESC:Events for Litseen
REFRESH-INTERVAL;VALUE=DURATION:PT1H
X-Robots-Tag:noindex
X-PUBLISHED-TTL:PT1H
BEGIN:VTIMEZONE
TZID:America/Los_Angeles
BEGIN:DAYLIGHT
TZOFFSETFROM:-0800
TZOFFSETTO:-0700
TZNAME:PDT
DTSTART:20180311T100000
END:DAYLIGHT
BEGIN:STANDARD
TZOFFSETFROM:-0700
TZOFFSETTO:-0800
TZNAME:PST
DTSTART:20181104T090000
END:STANDARD
BEGIN:DAYLIGHT
TZOFFSETFROM:-0800
TZOFFSETTO:-0700
TZNAME:PDT
DTSTART:20190310T100000
END:DAYLIGHT
BEGIN:STANDARD
TZOFFSETFROM:-0700
TZOFFSETTO:-0800
TZNAME:PST
DTSTART:20191103T090000
END:STANDARD
BEGIN:DAYLIGHT
TZOFFSETFROM:-0800
TZOFFSETTO:-0700
TZNAME:PDT
DTSTART:20200308T100000
END:DAYLIGHT
BEGIN:STANDARD
TZOFFSETFROM:-0700
TZOFFSETTO:-0800
TZNAME:PST
DTSTART:20201101T090000
END:STANDARD
END:VTIMEZONE
BEGIN:VEVENT
DTSTART;TZID=America/Los_Angeles:20190723T193000
DTEND;TZID=America/Los_Angeles:20190723T210000
DTSTAMP:20260422T054142
CREATED:20190707T191552Z
LAST-MODIFIED:20190707T191552Z
UID:51809-1563910200-1563915600@litseen.com
SUMMARY:John Corbett: Pick Up the Pieces
DESCRIPTION:John Corbett discusses his new book\, Pick up the Pieces: Excursions in Seventies Music. \nPraise for Pick up the Pieces \n“[A] thoroughly enjoyable—and gorgeously written—joy ride down his version of 1970s memory lane. . . . music lovers are sure to enjoy Corbett’s delightful book about a fascinating\, often misunderstood time of musical innovation.”— Booklist \n“Just as a rich gumbo benefits from the perfect combination of diverse ingredients\, so does Corbett’s analysis and so do the 1970s songs and performances he examines. . . . Corbett is in the upper echelon of music criticism.”— Library Journal \n“Corbett is the Carl Sagan of vinyl. Funny and irreverent\, he’s voyaged across the stars and the human imagination to bring us music both ‘pathetic and sublime’ from that most misunderstood of decades\, the 1970s.”— Rainn Wilson \nAbout Pick up the Pieces \nUnless you lived through the 1970s\, it seems impossible to understand it at all. Drug delirium\, groovy fashion\, religious cults\, mega corporations\, glitzy glam\, hard rock\, global unrest—from our 2018 perspective\, the seventies are often remembered as a bizarre blur of bohemianism and disco. With Pick Up the Pieces\, John Corbett transports us back in time to this thrillingly tumultuous era through a playful exploration of its music. Song by song\, album by album\, he draws our imaginations back into one of the wildest decades in history. \nRock. Disco. Pop. Soul. Jazz. Folk. Funk. The music scene of the 1970s was as varied as it was exhilarating\, but the decade’s diversity of sound has never been captured in one book before now. Pick Up the Pieces gives a panoramic view of the era’s music and culture through seventy-eight essays that allow readers to dip in and out of the decade at random or immerse themselves completely in Corbett’s chronological journey. \nAn inviting mix of skilled music criticism and cultural observation\, Pick Up the Pieces is also a coming-of-age story\, tracking the author’s absorption in music as he grows from age seven to seventeen. Along with entertaining personal observations and stories\, Corbett includes little-known insights into musicians from Pink Floyd\, Joni Mitchell\, James Brown\, and Fleetwood Mac to the Residents\, Devo\, Gal Costa\, and Julius Hemphill. \nA master DJ on the page\, Corbett takes us through the curated playlist that is Pick Up the Pieces with captivating melody of language and powerful enthusiasm for the era. This funny\, energetic book will have readers longing nostalgically for a decade long past.
URL:https://litseen.com/event/john-corbett-pick-up-the-pieces/
LOCATION:Green Apple Books on the Park\, 1231 9th Ave\, San Francisco \, CA\, 94122\, United States
CATEGORIES:Free,San Francisco
ATTACH;FMTTYPE=image/jpeg:https://litseen.com/wp-content/uploads/2019/06/Corbett.jpg
END:VEVENT
BEGIN:VEVENT
DTSTART;TZID=America/Los_Angeles:20190723T193000
DTEND;TZID=America/Los_Angeles:20190723T213000
DTSTAMP:20260422T054142
CREATED:20190606T035040Z
LAST-MODIFIED:20190606T035040Z
UID:51762-1563910200-1563917400@litseen.com
SUMMARY:John Corbett
DESCRIPTION:John Corbett discusses his new book\, Pick up the Pieces: Excursions in Seventies Music. \nPraise for Pick up the Pieces \n“[A] thoroughly enjoyable—and gorgeously written—joy ride down his version of 1970s memory lane. . . . music lovers are sure to enjoy Corbett’s delightful book about a fascinating\, often misunderstood time of musical innovation.”— Booklist \n“Just as a rich gumbo benefits from the perfect combination of diverse ingredients\, so does Corbett’s analysis and so do the 1970s songs and performances he examines. . . . Corbett is in the upper echelon of music criticism.”— Library Journal \n“Corbett is the Carl Sagan of vinyl. Funny and irreverent\, he’s voyaged across the stars and the human imagination to bring us music both ‘pathetic and sublime’ from that most misunderstood of decades\, the 1970s.”— Rainn Wilson \nAbout Pick up the Pieces \nUnless you lived through the 1970s\, it seems impossible to understand it at all. Drug delirium\, groovy fashion\, religious cults\, mega corporations\, glitzy glam\, hard rock\, global unrest—from our 2018 perspective\, the seventies are often remembered as a bizarre blur of bohemianism and disco. With Pick Up the Pieces\, John Corbett transports us back in time to this thrillingly tumultuous era through a playful exploration of its music. Song by song\, album by album\, he draws our imaginations back into one of the wildest decades in history. \nRock. Disco. Pop. Soul. Jazz. Folk. Funk. The music scene of the 1970s was as varied as it was exhilarating\, but the decade’s diversity of sound has never been captured in one book before now. Pick Up the Pieces gives a panoramic view of the era’s music and culture through seventy-eight essays that allow readers to dip in and out of the decade at random or immerse themselves completely in Corbett’s chronological journey. \nAn inviting mix of skilled music criticism and cultural observation\, Pick Up the Pieces is also a coming-of-age story\, tracking the author’s absorption in music as he grows from age seven to seventeen. Along with entertaining personal observations and stories\, Corbett includes little-known insights into musicians from Pink Floyd\, Joni Mitchell\, James Brown\, and Fleetwood Mac to the Residents\, Devo\, Gal Costa\, and Julius Hemphill. \nA master DJ on the page\, Corbett takes us through the curated playlist that is Pick Up the Pieces with captivating melody of language and powerful enthusiasm for the era. This funny\, energetic book will have readers longing nostalgically for a decade long past.
URL:https://litseen.com/event/john-corbett/
LOCATION:Green Apple Books on the Park\, 1231 9th Ave\, San Francisco \, CA\, 94122\, United States
CATEGORIES:Free,San Francisco
ATTACH;FMTTYPE=image/jpeg:https://litseen.com/wp-content/uploads/2019/06/picking.jpg
END:VEVENT
END:VCALENDAR