BEGIN:VCALENDAR
VERSION:2.0
PRODID:-//Litseen - ECPv6.15.11//NONSGML v1.0//EN
CALSCALE:GREGORIAN
METHOD:PUBLISH
X-ORIGINAL-URL:https://litseen.com
X-WR-CALDESC:Events for Litseen
REFRESH-INTERVAL;VALUE=DURATION:PT1H
X-Robots-Tag:noindex
X-PUBLISHED-TTL:PT1H
BEGIN:VTIMEZONE
TZID:America/Los_Angeles
BEGIN:DAYLIGHT
TZOFFSETFROM:-0800
TZOFFSETTO:-0700
TZNAME:PDT
DTSTART:20190310T100000
END:DAYLIGHT
BEGIN:STANDARD
TZOFFSETFROM:-0700
TZOFFSETTO:-0800
TZNAME:PST
DTSTART:20191103T090000
END:STANDARD
BEGIN:DAYLIGHT
TZOFFSETFROM:-0800
TZOFFSETTO:-0700
TZNAME:PDT
DTSTART:20200308T100000
END:DAYLIGHT
BEGIN:STANDARD
TZOFFSETFROM:-0700
TZOFFSETTO:-0800
TZNAME:PST
DTSTART:20201101T090000
END:STANDARD
BEGIN:DAYLIGHT
TZOFFSETFROM:-0800
TZOFFSETTO:-0700
TZNAME:PDT
DTSTART:20210314T100000
END:DAYLIGHT
BEGIN:STANDARD
TZOFFSETFROM:-0700
TZOFFSETTO:-0800
TZNAME:PST
DTSTART:20211107T090000
END:STANDARD
END:VTIMEZONE
BEGIN:VEVENT
DTSTART;TZID=America/Los_Angeles:20200122T080000
DTEND;TZID=America/Los_Angeles:20200122T170000
DTSTAMP:20260424T132427
CREATED:20200123T071448Z
LAST-MODIFIED:20200123T071448Z
UID:54959-1579680000-1579712400@litseen.com
SUMMARY:Black Love Night of Poetry and Poetry Workshop!
DESCRIPTION:Join us for the first Black Love of 2020! Join us for a chill night of poetry from Queer Black Artists part of QTPOC at Strut!\nAnd a free poetry workshop lead by Tanea Lunsford Lynx! \nThis show is free. Free drinks and non alcoholic beverages will be provided! \nPOETRY WORKSHOP from 6:30 PM to 7:30 PM\nBLACK LOVE POETRY SHOW from 7:30 PM to 8:30 PM! \nPoetry show Hosted by SevanKelee Boult!\nWith Literary Performances from\nLauren Wheeler!\nLisa Evans!\nand Tanea Lunsford Lynx! \nPLUS A SPECIAL APPEARANCE BY Freddie!! \nmore info coming soon! \nQTPOC at Strut is every Thursday at Strut on the third floor we focus our programming\, testing\, and services to the queer and trans people of color communities.\nSexual Health Services and PrEP Enrollments from 5pm-6:30pm.\nPoetry Workshop at 6:30 PM\nBlack Love poetry performances at 7:30 PM \nPOETRY WORKSHOP\nHave you ever wanted to write poetry? Want to take a shot at it\, join us for this beginners poetry workshop lead by Tanea Lunsford Lynx! \nQuestions please email our Community Events Manager Baruch Porras Hernandez\, baruch@sfaf.org or Text QTPOC to 474747 \nACCESSIBILITY\nThere are no stairs to enter the lobby level at Strut from the street level. The building has three floors\, and there is a stairwell with handrails and a wheelchair accessible elevator. There are 26 steps from the lobby to the 2nd floor and 48 steps from the lobby to the 3rd floor. \nPlease note\, this event will be photographed and possibly filmed.
URL:https://litseen.com/event/black-love-night-of-poetry-and-poetry-workshop/
LOCATION:Strut\, 470 Castro Street\, San Francisco \, CA\, 94114\, United States
CATEGORIES:Free,San Francisco
ATTACH;FMTTYPE=image/jpeg:https://litseen.com/wp-content/uploads/2020/01/QTPOC-at-Strut.jpg
ORGANIZER;CN="Strut":MAILTO:info@sfaf.org
END:VEVENT
BEGIN:VEVENT
DTSTART;TZID=America/Los_Angeles:20200122T180000
DTEND;TZID=America/Los_Angeles:20200122T210000
DTSTAMP:20260424T132427
CREATED:20200115T180709Z
LAST-MODIFIED:20200115T180709Z
UID:54841-1579716000-1579726800@litseen.com
SUMMARY:Bikes to Books Winter Beer Social
DESCRIPTION:Join Nicole Gluckstern and Burrito Justice\, the creators of literary bicycle tour “Bikes to Books\,” for an evening of socializing\, beer drinking\, and map chat—the first of a series of “Bikes to Books” events and meetups planned for 2020. Bicyclists\, book-ists\, beer-ists\, urbanists\, history buffs\, transit nerds\, and (honestly) anyone else are welcome! \nBegun as an homage to the 1988 naming of 12 streets for artists and authors who’d once called San Francisco their home\, this collaboration between arts journalist and event organizer\, Nicole Gluckstern\, and amateur historian and professional map-maker\, Burrito Justice\, has grown into a beloved community organization with a whole season of free events. Help us kick off our seventh season with this lo-key beer social at one of our fave neighborhood bars. No bikes required! \n21+ only (sorry kiddos).
URL:https://litseen.com/event/bikes-to-books-winter-beer-social/
LOCATION:Bender’s Bar and Grill\, 806 So. Van Ness Avenue\, San Francisco\, 94110
CATEGORIES:Free,San Francisco
ATTACH;FMTTYPE=image/jpeg:https://litseen.com/wp-content/uploads/2020/01/BikesToBooks_GroupPhoto_credit_NicoleGluckstern_web.jpeg
ORGANIZER;CN="Bikes to Books":MAILTO:bikes2books@gmail.com
END:VEVENT
BEGIN:VEVENT
DTSTART;TZID=America/Los_Angeles:20200122T190000
DTEND;TZID=America/Los_Angeles:20200122T203000
DTSTAMP:20260424T132427
CREATED:20191124T193133Z
LAST-MODIFIED:20191124T193133Z
UID:54050-1579719600-1579725000@litseen.com
SUMMARY:David Talbot / Between Heaven and Hell
DESCRIPTION:Acclaimed writer\, bestselling author\, and founder of Salon magazine\, David Talbot has brought us masterful and explosive headline-breaking stories for over 25 years with books like the New York Times bestsellers Brothers\, The Devil’s Chessboard\, and nationally recognized Season of the Witch. Now for the first time\, journalist and historian David Talbot turns inward in this intimate journey through the life-changing year following his stroke\, a year that turned his life upside down\, and ultimately\, saved him. \nIn his signature voice and with powerful storytelling\, Talbot examines the physical\, emotional\, and psychological impact his stroke has had on his identity. Along the way Talbot offers readers insider stories on the wild early days of Internet journalism\, insights into the new tech culture\, the down and dirty of Hollywood\, and much more. This is an illuminating\, often humorous\, portrait of how a health crisis can truly shift one’s perspective on life and purpose.
URL:https://litseen.com/event/david-talbot-between-heaven-and-hell/
LOCATION:City Lights Bookstore\, 261 Columbus Ave\, San Francisco \, CA\, 94133\, United States
CATEGORIES:Free,San Francisco
ATTACH;FMTTYPE=image/jpeg:https://litseen.com/wp-content/uploads/2019/11/BetwnHeavenHell.jpg
END:VEVENT
END:VCALENDAR