BEGIN:VCALENDAR
VERSION:2.0
PRODID:-//Litseen - ECPv6.15.11//NONSGML v1.0//EN
CALSCALE:GREGORIAN
METHOD:PUBLISH
X-ORIGINAL-URL:https://litseen.com
X-WR-CALDESC:Events for Litseen
REFRESH-INTERVAL;VALUE=DURATION:PT1H
X-Robots-Tag:noindex
X-PUBLISHED-TTL:PT1H
BEGIN:VTIMEZONE
TZID:America/Los_Angeles
BEGIN:DAYLIGHT
TZOFFSETFROM:-0800
TZOFFSETTO:-0700
TZNAME:PDT
DTSTART:20190310T100000
END:DAYLIGHT
BEGIN:STANDARD
TZOFFSETFROM:-0700
TZOFFSETTO:-0800
TZNAME:PST
DTSTART:20191103T090000
END:STANDARD
BEGIN:DAYLIGHT
TZOFFSETFROM:-0800
TZOFFSETTO:-0700
TZNAME:PDT
DTSTART:20200308T100000
END:DAYLIGHT
BEGIN:STANDARD
TZOFFSETFROM:-0700
TZOFFSETTO:-0800
TZNAME:PST
DTSTART:20201101T090000
END:STANDARD
BEGIN:DAYLIGHT
TZOFFSETFROM:-0800
TZOFFSETTO:-0700
TZNAME:PDT
DTSTART:20210314T100000
END:DAYLIGHT
BEGIN:STANDARD
TZOFFSETFROM:-0700
TZOFFSETTO:-0800
TZNAME:PST
DTSTART:20211107T090000
END:STANDARD
END:VTIMEZONE
BEGIN:VEVENT
DTSTART;TZID=America/Los_Angeles:20200123T190000
DTEND;TZID=America/Los_Angeles:20200123T210000
DTSTAMP:20260420T034751
CREATED:20191124T215628Z
LAST-MODIFIED:20191124T215628Z
UID:54161-1579806000-1579813200@litseen.com
SUMMARY:On Ecology and Spirituality
DESCRIPTION:Throughout history\, seekers\, shamans\, and mystics have found spiritual inspiration in the natural world – in wild places at the margins of human culture. Indigenous\, Native\, and Aboriginal groups that have long identified immanent\, animate power in plants\, animals\, and abiotic features of the landscape such as rivers\, rocks\, and cliffs. \nIn the 21st century\, it is essential to reweave and reinvigorate spiritual connections with the landscape. Spiritual ecology encompasses the internal\, subjective\, emotional\, mystical or religious connections between humans and the rest of planetary life. Through experiences in nature\, people reconnect with that which is most essential\, most alive\, and most sustaining in their intimate connections with other beings\, Earth\, and the cosmos. This reconnection is as essential for sustaining life on an increasingly degraded planet\, as it is for full human flourishing. \nJoin CIIS Associate Professor of Ecology and Religion\, Elizabeth Allison for an exploration into spiritual ecology. Discover how deepening our relationship with the natural world helps us thrive.
URL:https://litseen.com/event/on-ecology-and-spirituality/
LOCATION:CIIS Public Programs\, 1453 Mission St.\, San Francisco\, CA\, 94103\, United States
CATEGORIES:San Francisco
ATTACH;FMTTYPE=image/jpeg:https://litseen.com/wp-content/uploads/2019/11/On-Ecology-and-Spirituality.jpg
END:VEVENT
BEGIN:VEVENT
DTSTART;TZID=America/Los_Angeles:20200123T193000
DTEND;TZID=America/Los_Angeles:20200123T210000
DTSTAMP:20260420T034751
CREATED:20191205T154420Z
LAST-MODIFIED:20191205T154420Z
UID:54201-1579807800-1579813200@litseen.com
SUMMARY:Tom Lutz: Born Slippy
DESCRIPTION:Tom Lutz discusses his new novel\, Born Slippy. \nPraise for Born Slippy \n“A highly literary and always engaging 21st century noir… Born Slippy confronts contemporary questions about the relativity of evil that no one can dodge.”— Chris Kraus\, author of I Love Dick and After Kathy Acker. \n“Lutz has the seven deadly sins nailed and rethought for our 2020 world. You’ve got to dig this book!” — James Ellroy \n“What a pleasure\, to sink under the comedic spell of Tom Lutz’s debut novel! The perfect book for a dreary day– a gleeful\, twisty tale of an unlikely friendship. Its antagonist young bloviating Dmitry Heald\, with his wild schemes and hair-raising tales\, is the guy you can’t trust to go to the market\, while the older Frank\, his boss\, is a man who should know better\, and yet can’t resist. Infinitely entertaining. I’d put it on the shelf between Tom Robbins and Martin Amis\, if a place can be cleared there.” — Janet Fitch\, author of The Revolution of Marina M. and Chimes of a Lost Cathedral \nAbout Born Slippy \nA globetrotting novel about the seductions of and resistance to toxic masculinity. \n“Frank knew as well as anyone how stories start and how they end. This fiery mess\, or something like it\, was bound to happen. He had been expecting it for years.” \nFrank Baltimore is a bit of a loser\, struggling by as a carpenter and handyman in rural New England when he gets his big break\, building a mansion in the executive suburbs of Hartford. One of his workers is a charismatic eighteen-year-old kid from Liverpool\, Dmitry\, in the US in the summer before university. Dmitry is a charming sociopath\, who develops a fascination with his autodidactic philosopher boss\, perhaps thinking that\, if he could figure out what made Frank tick\, he could be less of a pig. Dmitry heads to Asia and makes a neo-imperialist fortune\, with a trail of corpses in his wake. When Dmitry’s office building in Taipei explodes in an enormous fireball\, Frank heads to Asia\, falls in love with Dmitry’s wife\, and things go from bad to worse. \nCombining the best elements of literary thriller\, noir and political satire\, Born Slippy is a darkly comic and honest meditation on modern life under global capitalism. \n 
URL:https://litseen.com/event/tom-lutz-born-slippy/
LOCATION:Green Apple Books on the Park\, 1231 9th Ave\, San Francisco \, CA\, 94122\, United States
CATEGORIES:Free,San Francisco
ATTACH;FMTTYPE=image/jpeg:https://litseen.com/wp-content/uploads/2019/12/lutz.jpg
END:VEVENT
END:VCALENDAR