BEGIN:VCALENDAR
VERSION:2.0
PRODID:-//Litseen - ECPv6.15.11//NONSGML v1.0//EN
CALSCALE:GREGORIAN
METHOD:PUBLISH
X-WR-CALNAME:Litseen
X-ORIGINAL-URL:https://litseen.com
X-WR-CALDESC:Events for Litseen
REFRESH-INTERVAL;VALUE=DURATION:PT1H
X-Robots-Tag:noindex
X-PUBLISHED-TTL:PT1H
BEGIN:VTIMEZONE
TZID:America/Los_Angeles
BEGIN:DAYLIGHT
TZOFFSETFROM:-0800
TZOFFSETTO:-0700
TZNAME:PDT
DTSTART:20190310T100000
END:DAYLIGHT
BEGIN:STANDARD
TZOFFSETFROM:-0700
TZOFFSETTO:-0800
TZNAME:PST
DTSTART:20191103T090000
END:STANDARD
BEGIN:DAYLIGHT
TZOFFSETFROM:-0800
TZOFFSETTO:-0700
TZNAME:PDT
DTSTART:20200308T100000
END:DAYLIGHT
BEGIN:STANDARD
TZOFFSETFROM:-0700
TZOFFSETTO:-0800
TZNAME:PST
DTSTART:20201101T090000
END:STANDARD
BEGIN:DAYLIGHT
TZOFFSETFROM:-0800
TZOFFSETTO:-0700
TZNAME:PDT
DTSTART:20210314T100000
END:DAYLIGHT
BEGIN:STANDARD
TZOFFSETFROM:-0700
TZOFFSETTO:-0800
TZNAME:PST
DTSTART:20211107T090000
END:STANDARD
END:VTIMEZONE
BEGIN:VEVENT
DTSTART;TZID=America/Los_Angeles:20200126T160000
DTEND;TZID=America/Los_Angeles:20200126T180000
DTSTAMP:20260420T124400
CREATED:20191124T191647Z
LAST-MODIFIED:20191124T191647Z
UID:54026-1580054400-1580061600@litseen.com
SUMMARY:Silent Book Club SF
DESCRIPTION:Bring a book\, bring a friend\, and join Silent Book Club for an afternoon of reading! At Silent Book Club\, there’s no assigned reading. All books and all ages are welcome. \nWe’ll kick off introvert happy hour at 4pm with some light chatter and informal book recommendations before settling in to read quietly\, but if you’d rather just pull up a chair and read\, by all means do so. No one will be shushed or shamed. The bar will be open for late afternoon libations. \nHappy reading and hope to see you there! \n\nPlease note: this event will be at The Bindery\, 1727 Haight. \nRSVP appreciated but not required. \nPhoto by Cody Pickens for O Magazine
URL:https://litseen.com/event/silent-book-club-sf-4/
LOCATION:The Bindery\, 1727 Haight St\, San Francisco \, 94117\, United States
CATEGORIES:Free,San Francisco
ATTACH;FMTTYPE=image/png:https://litseen.com/wp-content/uploads/2019/06/Silent-Book-Club-at-The-Bindery-in-San-Francisco-by-Cody-Pickens.png
END:VEVENT
BEGIN:VEVENT
DTSTART;TZID=America/Los_Angeles:20200126T180000
DTEND;TZID=America/Los_Angeles:20200126T200000
DTSTAMP:20260420T124400
CREATED:20200126T005239Z
LAST-MODIFIED:20200126T005239Z
UID:55064-1580061600-1580068800@litseen.com
SUMMARY:Bazaar Writers Salon
DESCRIPTION:Readings by Susan Browne\, Peter Kline\, Emily Pinkerton\, and Marco Rafalà\nHosted by Brittany Perham \nSusan Browne’s poetry has appeared in Ploughshares\, The Sun\, Subtropics\, The Southern Review\, Superstition Review\, Rattle\, New Ohio Review\, B O D Y\, American Life in Poetry\, The American Journal of Poetry\, Love’s Executive Order\, and 180 More\, Extraordinary Poems for Every Day. She has published two books of poetry\, Buddha’s Dogs and Zephyr. Awards include prizes from Four Way Books\, the Los Angeles Poetry Festival\, the River Styx International Poetry Contest\, and The Fischer Poetry Prize. She received a fellowship from the Provincetown Fine Arts Work Center\, and her work has been nominated for three Pushcart Awards. She has also collaborated to create a word/music CD. Her third collection\, Just Living\, recently won the Catamaran Poetry Prize. She lives in Oakland\, California. www.susanbrownepoems.com \nPeter Kline teaches writing at the University of San Francisco and Stanford University. A former Wallace Stegner Fellow\, he has also received residency fellowships from the Amy Clampitt House\, James Merrill House\, and Kimmel Harding Nelson Foundation. His poetry has appeared in Ploughshares\, Poetry\, Tin House\, and many other journals\, as well as the Best New Poets series\, the Verse Daily website\, and the Random House anthology of metrical poetry\, Measure for Measure. Since 2012 he has directed the San Francisco literary reading series Bazaar Writers Salon. He is the author of two poetry collections\, Deviants (Stephen F. Austin State University Press\, 2013)\, and Mirrorforms\, published by Parlor Press/Free Verse Editions in November 2019. www.peterklinepoetry.com \nEmily Pinkerton holds an MFA from San Francisco State University\, and her writing has previously appeared in ZYZZYVA\, Juked\, BlazeVOX\, and Berkeley Poetry Review\, among others. Emily is the author of three chapbooks: Natural Disasters (Hermeneutic Chaos Press\, 2016)\, Bloom (Alley Cat Press\, 2018) and Adaptations (Nomadic Press\, 2018). She was a 2017-2018 Writer in Residence at Alley Cat Books in San Francisco and is a 2020 Fellow at The Writers Grotto. More of Emily’s publications can be found at thisisemilypinkerton.tumblr.com\, and she tweets as @neongolden. \nMarco Rafalà is a first-generation Sicilian American novelist\, musician\, and writer for award-winning tabletop role-playing games. He earned his MFA in Fiction from The New School and is a cocurator of the Guerrilla Lit Reading Series in New York City. Born in Middletown\, Connecticut\, he now lives in Brooklyn\, New York. His fiction and non-fiction have appeared in the Bellevue Literary Review and LitHub. How Fires End is his debut novel.
URL:https://litseen.com/event/bazaar-writers-salon-15/
LOCATION:Bazaar Cafe\, 5927 California St\, San Francisco\, CA\, 94121\, United States
CATEGORIES:Free,San Francisco
ATTACH;FMTTYPE=image/jpeg:https://litseen.com/wp-content/uploads/2019/04/bazaar.jpg
END:VEVENT
END:VCALENDAR