BEGIN:VCALENDAR
VERSION:2.0
PRODID:-//Litseen - ECPv6.15.11//NONSGML v1.0//EN
CALSCALE:GREGORIAN
METHOD:PUBLISH
X-WR-CALNAME:Litseen
X-ORIGINAL-URL:https://litseen.com
X-WR-CALDESC:Events for Litseen
REFRESH-INTERVAL;VALUE=DURATION:PT1H
X-Robots-Tag:noindex
X-PUBLISHED-TTL:PT1H
BEGIN:VTIMEZONE
TZID:America/Los_Angeles
BEGIN:DAYLIGHT
TZOFFSETFROM:-0800
TZOFFSETTO:-0700
TZNAME:PDT
DTSTART:20190310T100000
END:DAYLIGHT
BEGIN:STANDARD
TZOFFSETFROM:-0700
TZOFFSETTO:-0800
TZNAME:PST
DTSTART:20191103T090000
END:STANDARD
BEGIN:DAYLIGHT
TZOFFSETFROM:-0800
TZOFFSETTO:-0700
TZNAME:PDT
DTSTART:20200308T100000
END:DAYLIGHT
BEGIN:STANDARD
TZOFFSETFROM:-0700
TZOFFSETTO:-0800
TZNAME:PST
DTSTART:20201101T090000
END:STANDARD
BEGIN:DAYLIGHT
TZOFFSETFROM:-0800
TZOFFSETTO:-0700
TZNAME:PDT
DTSTART:20210314T100000
END:DAYLIGHT
BEGIN:STANDARD
TZOFFSETFROM:-0700
TZOFFSETTO:-0800
TZNAME:PST
DTSTART:20211107T090000
END:STANDARD
END:VTIMEZONE
BEGIN:VEVENT
DTSTART;TZID=America/Los_Angeles:20200127T193000
DTEND;TZID=America/Los_Angeles:20200127T210000
DTSTAMP:20260420T142948
CREATED:20191205T154447Z
LAST-MODIFIED:20191205T154447Z
UID:54203-1580153400-1580158800@litseen.com
SUMMARY:Anna Wiener: Uncanny Valley
DESCRIPTION:Anna Wiener discusses her new memoir Uncanny Valley. \nPraise for Uncanny Valley \n“I’ve never read anything like Uncanny Valley\, which is both a searching bird’s-eye study of an industry and a generation\, as well as an intimate\, microscopic portrait of ambition and hope and dread. Anna Wiener writes about the promise and the decay of Silicon Valley with the impossibly pleasurable combination of a precise\, razored intellect and a soft\, incandescent heart. Her memoir is diagnostic and exhilarating\, a definitive document of a world in transition: I won’t be alone in returning to it for clarity and consolation for many years to come.”  —Jia Tolentino\, author of Trick Mirror: Reflections on Self-Delusion \n“Uncanny Valley is a generation-defining account of the amoral late-capitalist tech landscape we are fatally enmeshed in. With grace and humor\, Anna Wiener shows us the misogyny\, avarice\, and optimistic self-delusion of our cultural moment\, wrapped up in the gripping story of a young woman navigating the blurred boundaries of a seductive world. Insightful\, compelling and urgent.” —Stephanie Danler\, author of Sweetbitter: A Novel \n“Like Joan Didion at a startup.”—Rebecca Solnit\, author of Call Them By Their True Names \n“A rare mix of acute\, funny\, up-to-the-minute social observation\, dead-serious contemplation of the tech industry’s annexation of our lives\, and a sincere first-person search for meaningful work and connection. How does an unworn pair of plain sneakers ‘become a monument to the end of sensuousness’? Read on.”—William Finnegan\, author of Barbarian Days: A Surfing Life \nAbout Uncanny Valley \nThe prescient\, page-turning account of a journey in Silicon Valley: a defining memoir of our digital age \nIn her mid-twenties\, at the height of tech industry idealism\, Anna Wiener—stuck\, broke\, and looking for meaning in her work\, like any good millennial–left a job in book publishing for the promise of the new digital economy. She moved from New York to San Francisco\, where she landed at a big-data startup in the heart of the Silicon Valley bubble: a world of surreal extravagance\, dubious success\, and fresh-faced entrepreneurs hell-bent on domination\, glory\, and\, of course\, progress. \nAnna arrived amidst a massive cultural shift\, as the tech industry rapidly transformed into a locus of wealth and power rivaling Wall Street. But amid the company ski vacations and in-office speakeasies\, boyish camaraderie and ride-or-die corporate fealty\, a new Silicon Valley began to emerge: one in far over its head\, one that enriched itself at the expense of the idyllic future it claimed to be building. \nPart coming-age-story\, part portrait of an already-bygone era\, Anna Wiener’s memoir is a rare first-person glimpse into high-flying\, reckless startup culture at a time of unchecked ambition\, unregulated surveillance\, wild fortune\, and accelerating political power. With wit\, candor\, and heart\, Anna deftly charts the tech industry’s shift from self-appointed world savior to democracy-endangering liability\, alongside a personal narrative of aspiration\, ambivalence\, and disillusionment. \nUnsparing and incisive\, Uncanny Valley is a cautionary tale\, and a revelatory interrogation of a world reckoning with consequences its unwitting designers are only beginning to understand.
URL:https://litseen.com/event/anna-wiener-uncanny-valley/
LOCATION:Green Apple Books on the Park\, 1231 9th Ave\, San Francisco \, CA\, 94122\, United States
CATEGORIES:Free,San Francisco
ATTACH;FMTTYPE=image/jpeg:https://litseen.com/wp-content/uploads/2019/12/Wiener.jpg
END:VEVENT
END:VCALENDAR